Workbook

Sheet Contents
A1: Australian Bureau of Statistics
A2: 6602.0 - Microdata: Longitudinal Labour Force, Australia
A3: Released at 11:30 am (Canberra time) Wed 21 October 2026
A4: Data Item List
B6: Contents
C8: Record Identifiers
C9: ABSRID | F9: Record ID
C10: ABSHID | F10: Household ID
C11: ABSPID | F11: Person ID
C12: Time
C13: ABSMID | F13: Survey month
C14: SURVYEAR | F14: Survey year
C15: STRTDATE | F15: First day of reference week
C16: FRSTMTH | F16: First month of selection
C17: MNTHSEL | F17: Month of selection
C18: NUMRESP | F18: Number of responses
C19: RESPNUM | F19: Response number
C20: Survey
C21: SAMPFRME | F21: Sample frame
C22: ROTGRP | F22: Rotation grroup
C23: RESPTYPE | F23: Respondent detail
C24: URSTATUS | F24: Usual resident status
C25: SUBPSRCE | F25: Administrative data source
C26: Geography
F27: Australian Statistical Geography Standard (ASGS)
C28: STATESEL | F28: State or territory of selection
C29: STATEUR | F29: State or territory (ASGS) of usual residence
C30: AREAUR | F30: Area (ASGS) of usual residence
C31: GCCSA | F31: Greater Capital City Statistical Area (ASGS) of usual residence
C32: REGNASGS | F32: Labour market region (ASGS, SA4) of usual residence
F33: Australian Standard Geographical Classification (ASGC)
C34: STATASGC | F34: State or territory (ASGC) of usual residence
C35: AREAASGC | F35: Area (ASGC) of usual residence
C36: CCBSASGC | F36: Capital city or Balance of state/territory (ASGC) of usual residence
C37: RG06ASGC | F37: Region (ASGC - 2006) of usual residence
C38: RG96ASGC | F38: Region (ASGC - 1996) of usual residence
C39: RG21ASGC | F39: Region (ASGC - Edition 2.1) of usual residence
C40: RGV9ASGC | F40: Region (ASGC - 9th Edition) of usual residence
C41: RGV1ASGC | F41: Region (ASGC - 1st Edition) of usual residence
C42: Demography
...

Sheet Record IDs
A1: Australian Bureau of Statistics
A2: =Contents!A2 -> 6602.0 - Microdata: Longitudinal Labour Force, Australia
A3: =Contents!A3 -> Released at 11:30 am (Canberra time) Wed 21 October 2026
A4: Data Item List
B6: Record Identifiers
A8: Data item label and categories | E8: Identifier | F8: Level | G8: Survey | H8: Frequency | I8: Population
C10: Record ID | E10: ABSRID | F10: Person | G10: LFS | H10: Not applicable | I10: All
C11: The ABS Record ID has the following format:
D13: LLFSYYMMHHHHHPP
D15: LLFS - A prefix of letters (Longitudinal Labour Force Survey)
D16: YYMM - Year (2 digit) and Month (2 digit) for when the household was first selected for the LFS (eg 0706 = June 2007)
D17: HHHHH - 5 digit number to uniquely identify household, assigned sequentially from 00001 to 35901
D18: PP - 2 digit number to uniquely identify a person in the household, assigned sequentially from 01 to 49
D20: SUBPYYMMHHHHH01
D22: SUBP - A prefix of letters (Sub-population administrative data)
D23: YYMM - Year (2 digit) and Month (2 digit) of reference period (eg 1608 = August 2016)
D24: HHHHH - 5 digit number to uniquely identify record, assigned sequentially from 00001 to 12234
C27: Household ID | E27: ABSHID | F27: Household/ | G27: LFS | H27: Not applicable | I27: All
C28: The ABS Household ID has the following format: | F28: Dwelling
D30: LLFSYYMMHHHHH
D32: LLFS - A prefix of letters (Longitudinal Labour Force Survey)
D33: YYMM - Year (2 digit) and Month (2 digit) for when the household was first selected for the LFS (eg 0706 = June 2007)
D34: HHHHH - 5 digit number to uniquely identify household, assigned sequentially from 00001 to 35901
D36: SUBPYYMMHHHHH
D38: SUBP - A prefix of letters (Sub-population administrative data)
D39: YYMM - Year (2 digit) and Month (2 digit) of reference period (eg 1608 = August 2016)
D40: HHHHH - 5 digit number to uniquely identify record, assigned sequentially from 00001 to 12234
C43: Person ID | E43: ABSPID | F43: Person | G43: LFS | H43: Not applicable | I43: All
C44: 01 | D44: Person 1
C45: 02 | D45: Person 2
C46: 03 | D46: Person 3
C47: ... | D47: ...
C48: 48 | D48: Person 48
C49: 49 | D49: Person 49
C54: ="© Commonwealth of Australia "&YEAR(TODAY()) -> © Commonwealth of Australia 2026

Sheet Time
A1: Australian Bureau of Statistics
A2: =Contents!A2 -> 6602.0 - Microdata: Longitudinal Labour Force, Australia
A3: =Contents!A3 -> Released at 11:30 am (Canberra time) Wed 21 October 2026
A4: Data Item List
B6: Time
A8: Data item label and categories | F8: Identifier | G8: Level | H8: Survey | I8: Frequency | J8: Population
C10: Survey month | F10: ABSMID | G10: Not applicable | H10: LFS | I10: Not applicable | J10: All
C11: =YEAR(D11)*100+MONTH(D11) -> 196402 | D11: 23408 | E11: missing
C12: =YEAR(D12)*100+MONTH(D12) -> 196405 | D12: 23498 | E12: missing
C13: =YEAR(D13)*100+MONTH(D13) -> 196408 | D13: 23590 | E13: missing
C14: =YEAR(D14)*100+MONTH(D14) -> 196411 | D14: 23682 | E14: missing
C15: =YEAR(D15)*100+MONTH(D15) -> 196502 | D15: 23774 | E15: missing
C16: =YEAR(D16)*100+MONTH(D16) -> 196505 | D16: 23863 | E16: missing
C17: =YEAR(D17)*100+MONTH(D17) -> 196508 | D17: 23955 | E17: missing
C18: =YEAR(D18)*100+MONTH(D18) -> 196511 | D18: 24047 | E18: missing
C19: =YEAR(D19)*100+MONTH(D19) -> 196602 | D19: 24139 | E19: missing
C20: =YEAR(D20)*100+MONTH(D20) -> 196605 | D20: 24228 | E20: missing
C21: =YEAR(D21)*100+MONTH(D21) -> 196608 | D21: 24320 | E21: missing
C22: =YEAR(D22)*100+MONTH(D22) -> 196611 | D22: 24412 | E22: pending
... C650: =YEAR(D650)*100+MONTH(D650) -> 202609 | D650: 46266 | E650: pending
C651: ... | D651: ... | E651: ...
C654: Survey year | F654: SURVYEAR | G654: Not applicable | H654: LFS | I654: Not applicable | J654: All
C655: 1982 | D655: 1982
C656: 1983 | D656: 1983
C657: 1984 | D657: 1984
C658: ... | D658: ...
C659: 2024 | D659: 2024
C660: 2025 | D660: 2025
C661: 2026 | D661: 2026
C662: ... | D662: ...
C665: First day of reference week | F665: STRTDATE | G665: Person | H665: LFS | I665: Not applicable | J665: All
C666: 8312 | D666: 30228
C667: 8319 | D667: 30235
C668: 8340 | D668: 30256
C669: 8347 | D669: 30263
C670: 8368 | D670: 30284
C671: 8375 | D671: 30291
C672: 8403 | D672: 30319
C673: 8410 | D673: 30326
C674: ... | D674: ...
...

Sheet Survey
A1: Australian Bureau of Statistics
A2: =Contents!A2 -> 6602.0 - Microdata: Longitudinal Labour Force, Australia
A3: =Contents!A3 -> Released at 11:30 am (Canberra time) Wed 21 October 2026
A4: Data Item List
B6: Survey
A8: Data item label and categories | E8: Identifier | F8: Level | G8: Survey | H8: Frequency | I8: Population
C10: Sample frame | E10: SAMPFRME | F10: Household/ | G10: LFS | H10: Not applicable | I10: All
C11: 1982 | D11: 1982 Sample (Census 1981) | F11: Dwelling
C12: 1987 | D12: 1987 Sample (Census 1986)
C13: 1992 | D13: 1992 Sample (Census 1991)
C14: 1997 | D14: 1997 Sample (Census 1996)
C15: 2002 | D15: 2002 Sample (Census 2001)
C16: 2007 | D16: 2007 Sample (Census 2006)
C17: 2012 | D17: 2012 Sample (Census 2011)
C18: 2017 | D18: 2017 Sample (Census 2016)
C19: 2022 | D19: 2022 Sample (Census 2021)
C22: Rotation group | E22: ROTGRP | F22: Household/ | G22: LFS | H22: Not applicable | I22: All
C23: 1 | D23: Rotation group 1 | F23: Dwelling
C24: 2 | D24: Rotation group 2
C25: 3 | D25: Rotation group 3
C26: 4 | D26: Rotation group 4
C27: 5 | D27: Rotation group 5
C28: 6 | D28: Rotation group 6
C29: 7 | D29: Rotation group 7
C30: 8 | D30: Rotation group 8
C33: Respondent detail | E33: RESPTYPE | F33: Person | G33: LFS | H33: Monthly | I33: All
C34: 01 | D34: Obtained from person him/herself | H34: Nov-1989 onwards
C35: 02 | D35: Obtained from other responsible adult
C37: 00 | D37: Not a private dwelling / Not available
C38: -1 | D38: Not available / Not collected
C41: Usual resident status | E41: URSTATUS | F41: Person | G41: LFS | H41: Monthly | I41: All
C42: 1 | D42: Usual resident of private dwelling
C43: 2 | D43: Visitor to private dwelling
C44: 3 | D44: Not a private dweliing | H44: Oct 1982 to Jun 2018
C47: Administrative data source | E47: SUBPSRCE | F47: Person | G47: LFS | H47: Monthly | I47: All
C48: 1 | D48: Residential aged care | H48: Aug-2016 onwards
C49: 2 | D49: Prisons
C50: 3 | D50: Census - Non-private dwellings
C51: 4 | D51: Census - Very remote
C53: 0 | D53: Survey data
...

Sheet Geography
A1: Australian Bureau of Statistics
A2: =Contents!A2 -> 6602.0 - Microdata: Longitudinal Labour Force, Australia
A3: =Contents!A3 -> Released at 11:30 am (Canberra time) Wed 21 October 2026
A4: Data Item List
B6: Geography
A8: Data item label and categories | E8: Identifier | F8: Level | G8: Survey | H8: Frequency | I8: Population
C10: Australian Statistical Geography Standard
C12: State or territory of selection | E12: STATESEL | F12: Household/ | G12: LFS | H12: Not applicable | I12: All
C13: 1 | D13: NSW | F13: Dwelling
C14: 2 | D14: Vic
C15: 3 | D15: Qld
C16: 4 | D16: SA
C17: 5 | D17: WA
C18: 6 | D18: Tas
C19: 7 | D19: NT
C20: 8 | D20: ACT
C23: State or territory of usual residence (ASGS) | E23: STATEUR | F23: Person | G23: LFS | H23: Monthly | I23: All
C24: 1 | D24: NSW
C25: 2 | D25: Vic
C26: 3 | D26: Qld
C27: 4 | D27: SA
C28: 5 | D28: WA
C29: 6 | D29: Tas
C30: 7 | D30: NT
C31: 8 | D31: ACT
C34: Area (ASGS) of usual residence | E34: AREAUR | F34: Person | G34: LFS | H34: Monthly | I34: All
C35: 1 | D35: Capital city
C36: 2 | D36: Balance of state or territory
C39: Greater Capital City Statistical Area (ASGS) of usual residence | E39: GCCSA | F39: Person | G39: LFS | H39: Monthly | I39: All
C40: 00 | D40: Not available | H40: April 1998 onwards
C41: 11 | D41: Greater Sydney
C42: 19 | D42: Rest of NSW
C43: 21 | D43: Greater Melbourne
C44: 29 | D44: Rest of Vic
C45: 31 | D45: Greater Brisbane
C46: 39 | D46: Rest of Qld
C47: 41 | D47: Greater Adelaide
C48: 49 | D48: Rest of SA
C49: 51 | D49: Greater Perth
C50: 59 | D50: Rest of WA
...

Sheet Demography
A1: Australian Bureau of Statistics
A2: =Contents!A2 -> 6602.0 - Microdata: Longitudinal Labour Force, Australia
A3: =Contents!A3 -> Released at 11:30 am (Canberra time) Wed 21 October 2026
A4: Data Item List
B6: Demography
A8: Data item label and categories | E8: Identifier | F8: Level | G8: Survey | H8: Frequency | I8: Population
C10: Sex | E10: SEX | F10: Person | G10: LFS | H10: Not applicable | I10: All
C11: 1 | D11: Male
C12: 2 | D12: Female
C15: Age | E15: AGE | F15: Person | G15: LFS | H15: Monthly | I15: All
C16: 15 | D16: 15 years
C17: 16 | D17: 16 years
C18: 17 | D18: 17 years
C19: ... | D19: ...
C20: 24 | D20: 24 years
C21: 25 | D21: 25 years
C22: 26 | D22: 26 years
C23: ... | D23: ...
C24: 98 | D24: 98 years
C25: 99 | D25: 99 years
C26: 99.1 | D26: 99 years and over | H26: (Oct 1982 to Jun 2014)
C27: 100 | D27: 100 years
C28: 101 | D28: 101 years
C29: ... | D29: ...
C30: 118 | D30: 118 years
C31: 119 | D31: 119 years
C32: 120 | D32: 120 years and over
C35: Year of birth | E35: YRBIRTH | F35: Person | G35: LFS | H35: Not applicable | I35: All
C36: 1880 | D36: Born 1880
C37: 1881 | D37: Born 1881
C38: 1882 | D38: Born 1882
C39: ... | D39: ...
C40: 2008 | D40: Born 2008
C41: 2009 | D41: Born 2009
C42: 2010 | D42: Born 2010
C45: Sub-continent of birth (SACC 2016 Major Country Group) | E45: COBMCG | F45: Person | G45: LFS | H45: Not applicable | I45: Born overseas
C46: 1100 | D46: Australia (incl. External Territories)
D47: Born overseas
C48: 1000 | D48: Oceania and Antarctica (excl. Australia)
C49: 2000 | D49: North-West Europe
...

Sheet Household and Family
A1: Australian Bureau of Statistics
A2: =Contents!A2 -> 6602.0 - Microdata: Longitudinal Labour Force, Australia
A3: =Contents!A3 -> Released at 11:30 am (Canberra time) Wed 21 October 2026
A4: Data Item List
B6: Household and Family
A8: Data item label and categories | E8: Identifier | F8: Level | G8: Survey | H8: Frequency | I8: Population
C10: Person level characteristics
C12: Social marital status | E12: SOCMAR | F12: Person | G12: LFS | H12: Monthly | I12: All
C13: 0 | D13: Not available
C14: 1 | D14: Married | H14: Temporarily excludes Jul-14 to Jun-18
C15: 2 | D15: Not married
C18: Relationship in household | E18: LFSFREL | F18: Person | G18: LFS | H18: Monthly | I18: All
C19: 000 | D19: Not available | H19: Jul 1983 to Mar 2026
D20: Family members | H20: Temporarily excludes Jul-14 to Jun-18
D21: Heads of couple families
C22: 010 | D22: Husband, wife or partner with child under 15
C23: 015 | D23: Husband, wife or partner with no children under 15 nfd | H23: (Jul 1983 to Mar 1986)
C24: 020 | D24: Husband, wife or partner with no children under 15, with dependent student
C25: 030 | D25: Husband, wife or partner with no dependent children, with other child 15 or older
C26: 040 | D26: Husband, wife or partner with no children
C27: 050 | D27: Same-sex partner with child under 15
C28: 060 | D28: Same-sex partner with no children under 15, with dependent student
C29: 070 | D29: Same-sex partner with no dependent children, with other child 15 or older
C30: 080 | D30: Same-sex partner with no children
D31: Heads of lone parent families
C32: 090 | D32: Lone parent with children under 15
C33: 095 | D33: Lone parent with no children under 15 nfd | H33: (Jul 1983 to Mar 1986)
C34: 100 | D34: Lone parent with no children under 15, with dependent student
C35: 110 | D35: Lone parent with no dependent children, with other child 15 or over
D36: Children aged 15 years and over
C37: 120 | D37: Dependent student (aged 15 to 24 years)
C38: 125 | D38: Child aged 15 years and over nfd | H38: (Jul 1983 to Mar 1986)
C39: 130 | D39: Non-dependent child
D40: Other relatives
C41: 140 | D41: Other family head
C42: 150 | D42: Other relative aged 15-24 attending full-time education
C43: 155 | D43: Other relative aged 15 or older nfd | H43: (Jul 1983 to Mar 1986)
C44: 160 | D44: Other relative aged 15 or older not attending full-time education
D45: Not in a family
C46: 170 | D46: Non-family member living with non-relatives
...

Sheet Education and Qualifications
A1: Australian Bureau of Statistics
A2: =Contents!A2 -> 6602.0 - Microdata: Longitudinal Labour Force, Australia
A3: =Contents!A3 -> Released at 11:30 am (Canberra time) Wed 21 October 2026
A4: Data Item List
B6: Education and Qualifications
A8: Data item label and categories | E8: Identifier | F8: Level | G8: Survey | H8: Frequency | I8: Population
C10: Educational attendance (full-time, aged 15 to 24 years) | E10: EDUCSTAT | F10: Person | G10: LFS | H10: Monthly | I10: Aged 15 to 24 years
C11: 01 | D11: Aged 15-19 years and not attending full-time education (including institutionalised) | H11: Apr 1986 to Mar 2026
C12: 02 | D12: Aged 15-19 years and attending tertiary educational institution full-time
C13: 03 | D13: Aged 15-19 years and attending school (including boarding school pupils)
C14: 04 | D14: Aged 20-24 years and not attending full-time education
C15: 05 | D15: Aged 20-24 years and attending tertiary educational institution full-time
C16: 06 | D16: Aged 20 years and attending school (including boarding school pupils)
C18: 00 | D18: Aged 25 years and over / Not applicable
C19: -1 | D19: Not available / Not collected
C22: Year left school (aged 15 to 19 years) | E22: YRSCHOOL | F22: Person | G22: LFS | H22: Monthly | I22: Aged 15 to 19 years
C23: 0000 | D23: Attending school
C24: 1975 | D24: Left school 1975
C25: 1976 | D25: Left school 1976
C26: 1977 | D26: Left school 1977
C27: ... | D27: ...
C28: 2024 | D28: Left school 2024
C29: 2025 | D29: Left school 2025
C30: 2026 | D30: Left school 2026
C32: -001 | D32: Institutionalised (excluding boarding schools)
C33: -020 | D33: Aged 20 years and over / Not applicable
C34: -099 | D34: Not available / Not collected
C37: Highest year of school completed | E37: HIGHYEAR | F37: Person | G37: LFS | H37: Monthly | I37: All
D38: Completed Year 12 | H38: Aug 2015 to Mar 2026
C39: 611 | D39: Year 12 or equivalent | G39: SEW | H39: Annual | I39: 7 of 8 rotation groups (varies)
D40: Did not complete Year 12 | H40: May 1992 to May 2015 | I40: Aged 15 to 74 years (varies)
C41: 600 | D41: Secondary education nfd | H41: (May 2002 to May 2004)
C42: 601 | D42: Year 11 or below nfd | H42: (May 1992 to May 2000) | I42: More highest year of school completed data planned for a future update
C43: 613 | D43: Year 11 or equivalent
C44: 621 | D44: Year 10 or equivalent
C45: 602 | D45: Year 9 or below nfd | H45: (May 1992 to May 2000)
C46: 622 | D46: Year 9 or equivalent | H46: (May 2001 onwards)
C47: 623 | D47: Year 8 or below | H47: (May 2001 onwards)
C48: 998 | D48: Never attended school / No educational attainment
C50: 011 | D50: Level not determined
...

Sheet Employment
A1: Australian Bureau of Statistics
A2: =Contents!A2 -> 6602.0 - Microdata: Longitudinal Labour Force, Australia
A3: =Contents!A3 -> Released at 11:30 am (Canberra time) Wed 21 October 2026
A4: Data Item List
B6: Employment
A8: Data item label and categories | E8: Identifier | F8: Level | G8: Survey | H8: Frequency | I8: Population
C10: Labour force status | E10: LFSTATUS | F10: Person | G10: LFS | H10: Monthly | I10: All
C11: 1 | D11: Employed
C12: 2 | D12: Unemployed
C13: 3 | D13: Not in the Labour Force (NILF)
C16: Full-time or part-time status of employment | E16: FTPTEMP | F16: Person | G16: LFS | H16: Monthly | I16: Employed
C17: 1 | D17: Full-time
C18: 2 | D18: Part-time
C20: 0 | D20: Not employed / Not applicable
C23: Status in employment of main job (or last job) | E23: STATEMP | F23: Person | G23: LFS | H23: Monthly | I23: Employed
C24: 10 | D24: Employee, nfd | I24: Unemployed (Jan 1991 to Mar 2001)
C25: 11 | D25: Employee with paid leave entitlements | H25: (Quarterly from Aug-14 to Feb-26)
H27: (Monthly from Apr-26 onwards)
C28: 12 | D28: Employee without paid leave entitlements | H28: (Quarterly from Aug-14 to Feb-26)
H30: (Monthly from Apr-26 onwards)
C31: 21 | D31: Owner manager of incorporated enterprises with employees | I31: Leave entitements prior to 2014 planned for a future update
C32: 22 | D32: Owner manager of incorporated enterprises without employees
C33: 31 | D33: Owner manager of unincorporated enterprises with employees
C34: 32 | D34: Owner manager of unincorporated enterprises without employees
C35: 40 | D35: Contributing family worker | I35: Status in last job prior to 1991 planned for a future update
C36: 50 | D36: Unpaid volunteer helper (status of last job only) | H36: (Jan 1991 to Mar 2001)
C38: 00 | D38: Not employed / Not applicable
C41: Multiple job holders | E41: MULTJOB | F41: Person | G41: LFS | H41: Monthly | I41: Employed
D42: Single job holder
C43: 11 | D43: One job last week
C44: 12 | D44: Changed jobs last week
D45: Multiple job holder
C46: 20 | D46: Multiple job holder, nfd | H46: (Oct 1982 to Jun 2014)
C47: 21 | D47: Two jobs last week | H47: (Jul 2014 onwards)
C48: 22 | D48: Three jobs last week | H48: (Jul 2014 onwards)
C49: 23 | D49: Four or more jobs last week | H49: (Jul 2014 onwards)
C51: 00 | D51: Not employed / Not applicable
C54: Whether worked on Monday last week | E54: WORKMON | F54: Person | G54: LFS | H54: Monthly | I54: Employed
C55: 01 | D55: Worked on Monday | H55: Apr 2001 onwards
C56: 02 | D56: Did not work on Monday
...

Sheet Hours
A1: Australian Bureau of Statistics
A2: =Contents!A2 -> 6602.0 - Microdata: Longitudinal Labour Force, Australia
A3: =Contents!A3 -> Released at 11:30 am (Canberra time) Wed 21 October 2026
A4: Data Item List
B6: Hours
A8: Data item label and categories | E8: Identifier | F8: Level | G8: Survey | H8: Frequency | I8: Population
C10: Whether actually worked full-time or part-time hours in all jobs last week | E10: ACTFTPT | F10: Person | G10: LFS | H10: Monthly | I10: Employed
C11: 1 | D11: Actually worked 35 hours or more (full-time) last week
C12: 2 | D12: Actually worked fewer than 35 hours (part-time) last week
C14: 0 | D14: Not employed / Not applicable
C17: Hours actually worked in all jobs last week | E17: HRSWORK | F17: Person | G17: LFS | H17: Monthly | I17: Employed
C18: 00.0 | D18: Did not work (0 hours)
C19: 01.0 | D19: 1 hour
C20: 02.0 | D20: 2 hours
C21: 03.0 | D21: 3 hours
C22: ... | D22: ...
C23: 97.0 | D23: 97 hours | H23: (Apr 1986 onwards)
C24: 97.1 | D24: 97 hours or more | H24: (Oct 1982 to Mar 1986)
C25: 98.0 | D25: 98 hours | H25: (Apr 2001 onwards)
C26: 98.1 | D26: 98 hours or more | H26: (Apr 1986 to Mar 2001)
C27: 99.0 | D27: 99 hours or more | H27: (Apr 2001 onwards)
C29: -1.0 | D29: Not employed / Not applicable
C32: Whether usually works full-time or part-time hours in all jobs | E32: USLFTPT | F32: Person | G32: LFS | H32: Monthly | I32: Employed
C33: 1 | D33: Usually works 35 hours or more (full-time)
C34: 2 | D34: Usually works fewer than 35 hours (part-time)
C36: 0 | D36: Not employed / Not applicable
C39: Hours usually worked in all jobs | E39: HRUWAJ | F39: Person | G39: LFS | H39: Monthly | I39: Employed
C40: 000.0 | D40: Usually doesn't work (0 hours) | H40: Apr 2001 onwards
C41: 001.0 | D41: 1 hour
C42: 002.0 | D42: 2 hours
C43: 003.0 | D43: 3 hours
C44: ... | D44: ...
C45: 097.0 | D45: 97 hours
C46: 098.0 | D46: 98 hours
C47: 099.0 | D47: 99 hours | H47: (Jul 2014 onwards)
C48: 099.1 | D48: 99 hours or more | H48: (Apr 2001 to Jun 2014)
C49: 100.0 | D49: 100 hours | H49: (Jul 2014 onwards)
C50: 101.0 | D50: 101 hours | H50: (Jul 2014 onwards)
C51: ... | D51: ... | H51: (Jul 2014 onwards)
C52: 167.0 | D52: 167 hours | H52: (Jul 2014 onwards)
...

Sheet Underutilisation
A1: Australian Bureau of Statistics
A2: =Contents!A2 -> 6602.0 - Microdata: Longitudinal Labour Force, Australia
A3: =Contents!A3 -> Released at 11:30 am (Canberra time) Wed 21 October 2026
A4: Data Item List
B6: Underutilisation
A8: Data item label and categories | E8: Identifier | F8: Level | G8: Survey | H8: Frequency | I8: Population
C10: Underutilisation (current definition)
C12: Underemployment status | E12: UNDREMP | F12: Person | G12: LFS | H12: Monthly | I12: Employed
C13: 01 | D13: Underemployed full-time workers who worked part-time for economic reasons | H13: Oct 1982 to Mar 2001
C14: 02 | D14: Underemployed part-time workers who prefer (and are available) for more hours | H14: Quarterly | I14: Additional data from UEW planned for a future update
H15: May 2001 to May 2014
C16: 00 | D16: Not underemployed / Not applicable | H16: Monthly
C17: -1 | D17: Not available / Not collected | H17: Jul 2014 onwards
H19: Availability criteria applied Feb 2003 onwards
C23: Reason why full-time workers worked part-time hours | E23: REASLTFT | F23: Person | G23: LFS | H23: Monthly | I23: Full-time workers who worked less than 35 hours last week
C24: 1 | D24: Own illness or injury, sick leave
C25: 2 | D25: Holiday, flextime, study, personal reasons
C26: 3 | D26: Began, left or lost job during the week
C27: 4 | D27: On strike, locked out, industrial dispute
C28: 5 | D28: Bad weather, plant breakdown
C29: 6 | D29: Stood down, on short time, insufficient work (Underemployed)
C30: 7 | D30: Standard work arrangements, shift work, RDO (Rostered Day Off)
C31: 8 | D31: Worked less than 35 hours for other reasons
C33: 0 | D33: Did not work less than 35 hours / Usually part-time / Not applicable
C36: Whether part-time workers preferred more hours | E36: MOREHRPT | F36: Person | G36: LFS | H36: Monthly | I36: Part-time workers
C37: 1 | D37: Preferred more hours / Unemployed | H37: Oct 1982 to Mar 2001 | I37: Unemployed
C38: 2 | D38: Did not prefer more hours / NILF | H38: Quarterly
H39: May 2001 to May 2014
C40: 0 | D40: Not available / Not collected | H40: Monthly
H41: Jul 2014 onwards
C44: Whether part-time workers preferred full-time or part-time hours | E44: PREFFTPT | F44: Person | G44: LFS | H44: Monthly | I44: Part-time workers
C45: 1 | D45: Preferred to work full-time | H45: Oct 1982 to Mar 2001 | I45: Unemployed
C46: 2 | D46: Preferred to work part-time | H46: Quarterly
H47: May 2001 to May 2014
H48: Monthly
H49: Jul 2014 onwards
C51: 3 | D51: Prefer more hours, nfd / No preference | H51: (Jul 2014 to Mar 2026)
C52: 4 | D52: Did not prefer more hours / NILF
C54: 0 | D54: Not available / Not collected
C58: Number of hours preferred (total hours) | E58: PREFHRPT | F58: Person | G58: LFS | H58: Monthly | I58: Part-time workers
...

Sheet Industry
A1: Australian Bureau of Statistics
A2: =Contents!A2 -> 6602.0 - Microdata: Longitudinal Labour Force, Australia
A3: =Contents!A3 -> Released at 11:30 am (Canberra time) Wed 21 October 2026
A4: Data Item List
B6: Industry
A8: Data item label and categories | E8: Identifier | F8: Level | G8: Survey | H8: Frequency | I8: Population
C10: Industry division of main/last job (ANZSIC 2006) | E10: IND06DIV | F10: Person | G10: LFS | H10: Quarterly | I10: Employed
C11: 01 | D11: Agriculture, forestry and fishing | H11: Aug 2006 to Feb 2026 | I11: Unemployed
C12: 02 | D12: Mining
C13: 03 | D13: Manufacturing | H13: May 2026 | I13: Employed
C14: 04 | D14: Electricity, gas, water and waste services
C15: 05 | D15: Construction | H15: Monthly | I15: Employed
C16: 06 | D16: Wholesale trade | H16: Aug 2026 onwards
C17: 07 | D17: Retail trade
C18: 08 | D18: Accommodation and food services
C19: 09 | D19: Transport, postal and warehousing
C20: 10 | D20: Information Media and telecommunications
C21: 11 | D21: Financial and insurance services
C22: 12 | D22: Rental, hiring and real estate services
C23: 13 | D23: Professional, scientific and technical services
C24: 14 | D24: Administrative and support services
C25: 15 | D25: Public administration and safety
C26: 16 | D26: Education and training
C27: 17 | D27: Health care and social assistance
C28: 18 | D28: Arts and recreation services
C29: 19 | D29: Other services
C31: 00 | D31: Not in the labour force / Not applicable
C32: -1 | D32: Not available / Not collected
C35: Industry group of main/last job (ANZSIC 2006) | E35: IND06GRP | F35: Person | G35: LFS | H35: Quarterly | I35: Employed
D36: Agriculture, Forestry and Fishing | E36: =LEFT(RIGHT(C36,3),2) | H36: Aug 2006 to Feb 2026 | I36: Unemployed
C37: 01000 | D37: Agriculture, Forestry and Fishing nfd
D38: Agriculture | H38: May 2026 | I38: Employed
C39: 01010 | D39: Agriculture nfd
C40: 01011 | D40: Nursery and Floriculture Production | H40: Monthly | I40: Employed
C41: 01012 | D41: Mushroom and Vegetable Growing | H41: Aug 2026 onwards
C42: 01013 | D42: Fruit and Tree Nut Growing
C43: 01014 | D43: Sheep, Beef Cattle and Grain Farming
C44: 01015 | D44: Other Crop Growing
C45: 01016 | D45: Dairy Cattle Farming
C46: 01017 | D46: Poultry Farming
...

Sheet Occupation and Skill
A1: Australian Bureau of Statistics
A2: =Contents!A2 -> 6602.0 - Microdata: Longitudinal Labour Force, Australia
A3: =Contents!A3 -> Released at 11:30 am (Canberra time) Wed 21 October 2026
A4: Data Item List
B6: Occupation and Skill
A8: Data item label and categories | E8: Identifier | F8: Level | G8: Survey | H8: Frequency | I8: Population
C10: Occupation major group of main/last job (ANZSCO 2013 v1.3) | E10: OCC13MGR | F10: Person | G10: LFS | H10: Quarterly | I10: Employed
C11: 01 | D11: Managers | H11: Aug 2006 to Feb 2026 | I11: Unemployed
C12: 02 | D12: Professionals
C13: 03 | D13: Technicians and trade workers
C14: 04 | D14: Community and personal service workers
C15: 05 | D15: Clerical and administrative workers
C16: 06 | D16: Sales workers
C17: 07 | D17: Machinery operators and drivers
C18: 08 | D18: Labourers
C20: 00 | D20: Not in the labour force / Not applicable
C21: -1 | D21: Not available / Not collected
C24: Skill level of occupation of main/last job (ANZSCO 2013 v1.3) | E24: OCC13SKL | F24: Person | G24: LFS | H24: Quarterly | I24: Employed
C25: 01 | D25: Skill level 1 | H25: Aug 2006 to Feb 2026 | I25: Unemployed
C26: 02 | D26: Skill level 2
C27: 03 | D27: Skill level 3
C28: 04 | D28: Skill level 4
C29: 05 | D29: Skill level 5
C30: 09 | D30: Skill level not determined / Inadequately described
C32: 00 | D32: Not in the labour force / Not applicable
C33: -1 | D33: Not available / Not collected
C36: Occupation of main/last job (ANZSCO 2013 v1.3) | E36: OCC13OCC | F36: Person | G36: LFS | H36: Quarterly | I36: Employed
D37: Managers | H37: Aug 2006 to Feb 2026 | I37: Unemployed
C38: 100000 | D38: Managers nfd
D39: Chief Executives, General Managers and Legislators
C40: 110000 | D40: Chief Executives, General Managers and Legislators nfd
D41: Chief Executives, General Managers and Legislators
C42: 111000 | D42: Chief Executives, General Managers and Legislators nfd
D43: Chief Executives and Managing Directors
C44: 111100 | D44: Chief Executives and Managing Directors
C45: 111111 | D45: Chief Executive or Managing Director
D46: General Managers
C47: 111200 | D47: General Managers nfd
C48: 111211 | D48: Corporate General Manager
C49: 111212 | D49: Defence Force Senior Officer
...

Sheet Unemployment
A1: Australian Bureau of Statistics
A2: =Contents!A2 -> 6602.0 - Microdata: Longitudinal Labour Force, Australia
A3: =Contents!A3 -> Released at 11:30 am (Canberra time) Wed 21 October 2026
A4: Data Item List
B6: Unemployment
A8: Data item label and categories | E8: Identifier | F8: Level | G8: Survey | H8: Frequency | I8: Population
C10: Full-time or part-time status of unemployment | E10: FTPTUN | F10: Person | G10: LFS | H10: Monthly | I10: Unemployed
C11: 1 | D11: Looked for both full-time and part-time work | H11: (Jul 2014 onwards)
C12: 2 | D12: Looked for only full-time work | H12: (Oct 1982 onwards)
C13: 3 | D13: Looked for only part-time work | H13: (Oct 1982 onwards)
C15: 0 | D15: Not unemployed / Not applicable
C18: Status of last job | E18: LJOBSTAT | F18: Person | G18: LFS | H18: Monthly | I18: Unemployed
D19: Recent worker
C20: 10 | D20: Recent worker: Last worked less than 2 years ago | H20: (Jul 2014 onwards)
C21: 11 | D21: Recent worker: Last worked (for 2 weeks or more) less than 2 years ago | H21: (Apr 2001 to Jun 2014)
C22: 12 | D22: Recent worker: Last worked full-time (for 2 weeks or more) less than 2 years ago | H22: (Oct 1982 to Mar 2001)
C23: 13 | D23: Recent worker: Last worked part-time (for 2 weeks or more) less than 2 years ago | H23: (Apr 1986 to Mar 2001)
D24: Former worker
C25: 20 | D25: Former worker: Last worked 2 years or more ago | H25: (Jul 2014 onwards)
C26: 21 | D26: Former worker: Last worked (for 2 weeks or more) 2 years or more ago | H26: (Oct 1982 to Jun 2014)
D27: Never worked
C28: 30 | D28: Never worked: Has never worked for 2 weeks or more but has worked (for less than 2 weeks) | H28: (Apr 1986 to Mar 2001)
C29: 31 | D29: Never worked: Has never worked full-time for 2 weeks or more but has worked (part-time or less than 2 weeks) | H29: (Oct 1982 to Mar 1986)
C30: 40 | D30: Never worked: Has never worked before (looking for first job) | H30: (Apr 1986 to Mar 2001, Jul 2014 onwards)
C31: 41 | D31: Never worked: Has never worked (for 2 weeks or more) before | H31: (Apr 2001 to Jun 2014)
D32: Stood down
C33: 50 | D33: Stood down for less than 4 weeks, no work was available | H33: (Apr 1986 to Jul 1997)
C35: 00 | D35: Not unemployed / Not applicable
C36: -1 | D36: Not available / Not collected
C39: Reason left or lost last job in the last 3 months | E39: REASLLJ | F39: Person | G39: LFS | H39: Monthly | I39: Unemployed
D40: Lost last job | H40: Apr 1986 to Mar 2001
D41: Lost last job for economic reasons (retrenched) | H41: Quarterly
C42: 1110 | D42: Lost job: retrenched, made redundant, employer went out of business, or no work was available | H42: May 2001 to Feb 2026
C43: 1120 | D43: Self-employed: business closed down for economic reasons - went broke, liquidated, no work, no supply or no demand
C44: 1130 | D44: More than one reason: lost last job for economic reasons (retrenched) | H44: (Aug 2014 to Feb 2026)
D45: Lost last job for non-economic reasons
C46: 1211 | D46: Dismissed | H46: (Aug 2014 to Feb 2026)
C47: 1212 | D47: Job ended: temporary or seasonal job
C48: 1213 | D48: Own ill health or injury
C49: 1231 | D49: More than one reason: lost last job for non-economic reasons only | H49: (Aug 2014 to Feb 2026)
...

Sheet Duration of Job Search
A1: Australian Bureau of Statistics
A2: =Contents!A2 -> 6602.0 - Microdata: Longitudinal Labour Force, Australia
A3: =Contents!A3 -> Released at 11:30 am (Canberra time) Wed 21 October 2026
A4: Data Item List
B6: Duration of Job Search
A8: Data item label and categories | E8: Identifier | F8: Level | G8: Survey | H8: Frequency | I8: Population
C10: Duration of job search (weeks) | E10: DURJSCH | F10: Person | G10: LFS | H10: Monthly | I10: Unemployed
C11: 0001.0 | D11: 1 week or less | H11: Apr 1986 to Mar 2026
C12: 0002.0 | D12: 2 weeks
C13: 0003.0 | D13: 3 weeks
C14: ... | D14: ...
C15: 0998.0 | D15: 998 weeks
C16: 0999.0 | D16: 999 weeks | H16: (Apr 2001 to Mar 2026)
C17: 0999.1 | D17: 999 weeks or more | H17: (Apr 1986 to Mar 2001)
C18: 1000.0 | D18: 1000 weeks | H18: (Apr 2001 to Mar 2026)
C19: 1001.0 | D19: 1001 weeks | H19: (Apr 2001 to Mar 2026)
C20: ... | D20: ... | H20: (Apr 2001 to Mar 2026)
C21: 2998.0 | D21: 2998 weeks | H21: (Apr 2001 to Mar 2026)
C22: 2999.0 | D22: 2999 weeks | H22: (Apr 2001 to Mar 2026)
C23: 3000.0 | D23: 3000 weeks | H23: (Apr 2001 to Mar 2026)
C25: 0000 | D25: Not unemployed / Not applicable
C26: -001 | D26: Not available / Not collected
C29: Duration of job search (months) | E29: DURJSM | F29: Person | G29: LFS | H29: Monthly | I29: Unemployed
C30: 1 | D30: 1 month | H30: Apr 2026 onwards
C31: 2 | D31: 2 months
C32: 3 | D32: 3 months
C33: 4 | D33: 4 months
C34: 5 | D34: 5 months
C35: 6 | D35: 6 months
C36: 7 | D36: 7 months
C37: 8 | D37: 8 months
C38: 9 | D38: 9 months
C39: 10 | D39: 10 months
C40: 11 | D40: 11 months
C41: 12 | D41: 12 months to less than 24 months
C42: 24 | D42: 24 months or more
C44: 00 | D44: Not unemployed / Not applicable
C45: -01 | D45: Not available / Not collected
C48: Duration of unemployment since last full-time job (weeks) | E48: DURUNFT | F48: Person | G48: LFS | H48: Monthly | I48: Unemployed
C49: 0001 | D49: 1 week or less | H49: Oct 1982 to Jun 2014
...

Sheet Not in the Labour Force
A1: Australian Bureau of Statistics
A2: =Contents!A2 -> 6602.0 - Microdata: Longitudinal Labour Force, Australia
A3: =Contents!A3 -> Released at 11:30 am (Canberra time) Wed 21 October 2026
A4: Data Item List
B6: Not in the Labour Force
A8: Data item label and categories | E8: Identifier | F8: Level | G8: Survey | H8: Frequency | I8: Population
C10: Not in the labour force status | E10: NILFSTAT | F10: Person | G10: LFS | H10: Monthly | I10: All
D11: Waiting to start work
C12: 10 | D12: Waiting to start work in less than 4 weeks and available to start last week (unemployed)
C13: 11 | D13: Waiting to start work in less than 4 weeks, but unavailable to start last week
C14: 12 | D14: Waiting to start work in 4 weeks or more nfd
C15: 13 | D15: Waiting to start work in 4 weeks or more, but available to start in next 4 weeks if work was available | H15: (Apr 2001 onwards)
C16: 14 | D16: Waiting to start work in 4 weeks or more, unavailable to start in next 4 weeks | H16: (Apr 2001 onwards)
D17: Actively looked for work
C18: 20 | D18: Actively looked for work but unavailable to start nfd | H18: (Oct 1982 to Mar 2001)
C19: 27 | D19: Actively looked for work, unavailable to start, but available in next four weeks | H19: (Apr 2001 onwards)
C20: 28 | D20: Actively looked for work but unavailable to start in next four weeks | H20: (Apr 2001 onwards)
D21: Passively looked for work
C22: 36 | D22: Passively looked for work
D23: Did not look for work
C24: 45 | D24: Did not look for work
D25: Permanently unable or not intending to work
C26: 53 | D26: Permanently unable to work
C27: 54 | D27: Permanently not intending to work (aged 65 and over) | H27: (Apr 2001 onwards)
D28: Institutionalised
C29: 61 | D29: Institutionalised
C30: 62 | D30: At boarding school
C32: 00 | D32: In the labour force / Not applicable
C33: -1 | D33: Not available / Not collected
C38: ="© Commonwealth of Australia "&YEAR(TODAY()) -> © Commonwealth of Australia 2026

Sheet Retrenchment
A1: Australian Bureau of Statistics
A2: =Contents!A2 -> 6602.0 - Microdata: Longitudinal Labour Force, Australia
A3: =Contents!A3 -> Released at 11:30 am (Canberra time) Wed 21 October 2026
A4: Data Item List
B6: Retrenchment
A8: Data item label and categories | E8: Identifier | F8: Level | G8: Survey | H8: Frequency | I8: Population
C10: Number of jobs left or lost in last 3 months | E10: NUMLLJ3M | F10: Person | G10: LFS | H10: Quarterly | I10: All
C11: 00 | D11: No jobs left or lost in last 3 months | H11: Aug 2014 to Feb 2026
C12: 01 | D12: One job left or lost in last 3 months
C13: 02 | D13: Two jobs left or lost in last 3 months
C14: 03 | D14: Three or more jobs left or lost in last 3 months
C16: -9 | D16: Not available / Not collected
C19: Lost jobs and retrenchment status last 3 months | E19: RTRNCH3M | F19: Person | G19: LFS | H19: Quarterly | I19: All
D20: Lost at least one job in last 3 months | H20: Aug 2014 to Feb 2026
C21: 11 | D21: Retrenched: Lost at least one job for economic reasons in last 3 months
C22: 12 | D22: Lost at least one job for non-economic reasons in last 3 months (not retrenched)
D23: No jobs lost in last 3 months
C24: 21 | D24: Only left job(s) in last 3 months (no lost jobs)
C25: 22 | D25: No jobs left or lost in last 3 months
C27: -9 | D27: Not available / Not collected
C30: Retrenchment status in last 4 weeks | E30: RTRNCH4W | F30: Person | G30: LFS | H30: Monthly | I30: All
C31: 01 | D31: Retrenched: Lost at least one job for economic reasons in last 3 months | H31: Aug 2026 onwards
C32: 05 | D32: Not Retrenched in the last 4 weeks
C34: -9 | D34: Not available / Not collected
C37: Reasons left or lost job(s) in last 3 months: Employees
C39: Reason lost job(s) in last 3 months: Lost job (retrenched, made redundant, etc) | E39: RSLLJ3MA | F39: Person | G39: LFS | H39: Quarterly | I39: All
C40: 00 | D40: Did not lose job(s) in last 3 months | H40: Aug 2014 to Feb 2026
C41: 01 | D41: Lost job(s) in last 3 months: retrenched, made redundant, employer went out of business, or no work was available
C43: -1 | D43: No jobs left or lost in last 3 months / Not applicable
C44: -9 | D44: Not available / Not collected
C47: Reason lost job(s) in last 3 months: Dismissed | E47: RSLLJ3MB | F47: Person | G47: LFS | H47: Quarterly | I47: All
C48: 00 | D48: Was not dismissed in last 3 months | H48: Aug 2014 to Feb 2026
C49: 01 | D49: Dismissed in last 3 months
C51: -1 | D51: No jobs left or lost in last 3 months / Not applicable
C52: -9 | D52: Not available / Not collected
C55: Reason lost job(s) in last 3 months: Temporary or seasonal job ended | E55: RSLLJ3MC | F55: Person | G55: LFS | H55: Quarterly | I55: All
C56: 00 | D56: No temporary or seasonal job(s) ended in last 3 months | H56: Aug 2014 to Feb 2026
C57: 01 | D57: Temporary or seasonal job(s) ended in last 3 months
C59: -1 | D59: No jobs left or lost in last 3 months / Not applicable
C60: -9 | D60: Not available / Not collected
...

Sheet Weighting and Benchmarks
A1: Australian Bureau of Statistics
A2: =Contents!A2 -> 6602.0 - Microdata: Longitudinal Labour Force, Australia
A3: =Contents!A3 -> Released at 11:30 am (Canberra time) Wed 21 October 2026
A4: Data Item List
B6: Weighting and Benchmarks
A8: Data item label and categories | E8: Identifier | F8: Level | G8: Survey | H8: Frequency | I8: Population
C10: Population counts (benchmarks)
C12: Sex (for population count) | E12: POPSEX | F12: Population count | G12: LFS | H12: Not applicable | I12: All
C13: 1 | D13: Male
C14: 2 | D14: Female
C17: Age group (for population count) | E17: POPAGEGR | F17: Population count | G17: LFS | H17: Monthly | I17: All
C18: 1519 | D18: 15-19 years
C19: 2024 | D19: 20-24 years
C20: 2534 | D20: 25-34 years
C21: 3544 | D21: 35-44 years
C22: 4554 | D22: 45-54 years
C23: 5559 | D23: 55-59 years
C24: 6064 | D24: 60-64 years
C25: 6599 | D25: 65 years and over
C28: Area of usual residence (for population count) | E28: POPREGN | F28: Population count | G28: LFS | H28: Monthly | I28: All
C29: 11 | D29: Greater Sydney
C30: 19 | D30: Rest of New South Wales
C31: 21 | D31: Greater Melbourne
C32: 29 | D32: Rest of Victoria
C33: 31 | D33: Greater Brisbane
C34: 39 | D34: Rest of Queensland
C35: 41 | D35: Greater Adelaide
C36: 49 | D36: Rest of South Australia
C37: 51 | D37: Greater Perth
C38: 59 | D38: Rest of Western Australia
C39: 61 | D39: Greater Hobart
C40: 69 | D40: Rest of Tasmania
... C42: 80 | D42: Australian Capital Territory
C45: Population count | E45: POPCOUNT | F45: Population count | G45: LFS | H45: Monthly | I45: All
C46: A discrete variable
C48: Population counts range from 830 to 450 000, depending on the sex, age group and area of usual residence
C51: Weights
C53: Unrevised weight for the current month (from previous release) | E53: PREVWT | F53: Person | G53: LFS | H53: Monthly | I53: All
C54: Weights are revised regularly. This item retains the unrevised weight from the previous release
C56: -1 | D56: Not in previous release
...
