Workbook

Sheet Contents
A1: Australian Bureau of Statistics
A2: 6291.0.55.004 - TableBuilder: Labour Force Survey
A3: Released Friday 23 October 2026
A4: Data Item List
B6: Contents
C8: Populations
C9: POP1 | F9: Civilian population aged 15 years and over
C10: POP2 | F10: Labour Force
C11: POP3 | F11: Employed persons
C12: POP4 | F12: Unemployed persons
C13: POP5 | F13: Persons not in the labour force [PNILF]
C14: POP6 | F14: Underemployed workers
C16: Time
C17: ABSMID | F17: Survey month
C19: Geography
C20: REGNASGS | F20: Labour market region (ASGS, SA4) of usual residence
C22: Demography
C23: SEX | F23: Sex
C24: AGEGRP | F24: Age (grouped)
C25: AGE | F25: Age (continuous)
C26: COBMCG | F26: Sub-continent of birth (SACC 2016 Major Country Group)
C27: ELAPYRAG | F27: Elapsed years since arrival
C28: ELAPYRAR | F28: Elapsed years since arrival, Years (continuous)
C30: Labour Force Status
C31: LFSTATUS | F31: Labour force status
C33: Household and Family
C34: SOCMAR | F34: Social marital status
C35: LFSFREL | F35: Relationship in household
C36: NPER15H | F36: Number of people in household (aged 15 years and over)
C37: NKID14H | F37: Number of children in household (aged 0 to 14 years)
C38: NKID04H | F38: Number of children in household (aged 0 to 4 years)
C39: AGYNG14H | F39: Age of youngest child in household (aged 0 to 14 years)
C40: FAMDEPST | F40: Number of dependent students in Family (aged 15 to 24 years)
C42: Education and Qualifications
C43: EDUCSTAT | F43: Educational attendance (full-time, aged 15 to 24 years)
C44: HIGHYEAR | F44: Highest year of school completed
C45: EDUCATT | F45: Educational attendance (detailed)
C46: EDUHIGH | F46: Level of highest educational attainment (ASCED 2001)
C47: ISCED11 | F47: International Standard Classification of Educational Attainment (ISCED)
C49: Employment
...

Sheet Populations
A1: Australian Bureau of Statistics
A2: =Contents!A2 -> 6291.0.55.004 - TableBuilder: Labour Force Survey
A3: =Contents!A3 -> Released Friday 23 October 2026
A4: Data Item List
B6: Populations
A8: Data item label and categories | F8: Identifier | G8: Level | H8: Survey | I8: Frequency | J8: Population
H10: LFS | I10: Monthly | J10: All
C11: 1 | D11: Civilian population aged 15 years and over | F11: POP1
C12: 2 | D12: Labour Force | F12: POP2
C13: 3 | D13: Employed persons | F13: POP3
C14: 4 | D14: Unemployed persons | F14: POP4
C15: 5 | D15: Persons not in the labour force [PNILF] | F15: POP5
C16: 6 | D16: Underemployed workers | F16: POP6
C19: ="© Commonwealth of Australia "&YEAR(TODAY()) -> © Commonwealth of Australia 2026

Sheet Time
A1: Australian Bureau of Statistics
A2: =Contents!A2 -> 6291.0.55.004 - TableBuilder: Labour Force Survey
A3: =Contents!A3 -> Released Friday 23 October 2026
A4: Data Item List
B6: Time
A8: Data item label and categories | F8: Identifier | G8: Level | H8: Survey | I8: Frequency | J8: Population
C10: Survey month | F10: ABSMID | G10: Not applicable | H10: LFS | I10: Not applicable | J10: All
C11: =YEAR(D11)*100+MONTH(D11) -> 200608 | D11: 38930
C12: =YEAR(D12)*100+MONTH(D12) -> 200609 | D12: 38961
C13: =YEAR(D13)*100+MONTH(D13) -> 200610 | D13: 38991
C14: =YEAR(D14)*100+MONTH(D14) -> 200611 | D14: 39022
C15: =YEAR(D15)*100+MONTH(D15) -> 200612 | D15: 39052
C16: =YEAR(D16)*100+MONTH(D16) -> 200701 | D16: 39083
C17: =YEAR(D17)*100+MONTH(D17) -> 200702 | D17: 39114
C18: =YEAR(D18)*100+MONTH(D18) -> 200703 | D18: 39142
C19: =YEAR(D19)*100+MONTH(D19) -> 200704 | D19: 39173
C20: =YEAR(D20)*100+MONTH(D20) -> 200705 | D20: 39203
C21: =YEAR(D21)*100+MONTH(D21) -> 200706 | D21: 39234
C22: =YEAR(D22)*100+MONTH(D22) -> 200707 | D22: 39264
... C219: =YEAR(D219)*100+MONTH(D219) -> 202312 | D219: 45261
C220: 202401 | D220: 45292
C221: 202402 | D221: 45323
C222: 202403 | D222: 45352
C223: 202404 | D223: 45383
C224: 202405 | D224: 45413
C225: 202406 | D225: 45444
C226: 202407 | D226: 45474
C227: 202408 | D227: 45505
C228: 202409 | D228: 45536
C229: 202410 | D229: 45566
C230: 202411 | D230: 45597
C231: 202412 | D231: 45627
... C236: 202505 | D236: 45778
C237: 202506 | D237: June 2025
C238: 202507 | D238: 45839
C239: 202508 | D239: 45870
C240: 202509 | D240: 45901
C241: 202510 | D241: 45931
C242: 202511 | D242: 45962
C243: 202512 | D243: 45992
...

Sheet Geography
A1: Australian Bureau of Statistics
A2: =Contents!A2 -> 6291.0.55.004 - TableBuilder: Labour Force Survey
A3: =Contents!A3 -> Released Friday 23 October 2026
A4: Data Item List
B6: Geography
A8: Data item label and categories | E8: Identifier | F8: Level | G8: Survey | H8: Frequency | I8: Population
C10: Australian Statistical Geography Standard
C12: Labour market region (ASGS, SA4) of usual residence | E12: REGNASGS | F12: Person | G12: LFS | H12: Monthly | I12: All
D14: New South Wales
D15: Greater Sydney
C16: 102 | D16: Central Coast
C17: 115 | D17: Sydney - Baulkham Hills and Hawkesbury
C18: 116 | D18: Sydney - Blacktown
C19: 117 | D19: Sydney - City and Inner South
C20: 118 | D20: Sydney - Eastern Suburbs
C21: 119 | D21: Sydney - Inner South West
C22: 120 | D22: Sydney - Inner West
C23: 121 | D23: Sydney - North Sydney and Hornsby
C24: 122 | D24: Sydney - Northern Beaches
C25: 123 | D25: Sydney - Outer South West
C26: 124 | D26: Sydney - Outer West and Blue Mountains
C27: 125 | D27: Sydney - Parramatta
... C30: 128 | D30: Sydney - Sutherland
D31: Rest of New South Wales
C32: 101 | D32: Capital Region
C33: 103 | D33: New South Wales - Central West
C34: 104 | D34: Coffs Harbour - Grafton
C35: 105 | D35: Far West and Orana
C36: 106 | D36: Hunter Valley exc Newcastle
C37: 107 | D37: Illawarra
C38: 108 | D38: Mid North Coast
C39: 109 | D39: Murray
C40: 110 | D40: New England and North West
C41: 111 | D41: Newcastle and Lake Macquarie
C42: 112 | D42: Richmond - Tweed
C43: 113 | D43: Riverina
C44: 114 | D44: Southern Highlands and Shoalhaven
D45: Victoria
D46: Greater Melbourne
C47: 206 | D47: Melbourne - Inner
...

Sheet Demography
A1: Australian Bureau of Statistics
A2: =Contents!A2 -> 6291.0.55.004 - TableBuilder: Labour Force Survey
A3: =Contents!A3 -> Released Friday 23 October 2026
A4: Data Item List
B6: Demography
A8: Data item label and categories | E8: Identifier | F8: Level | G8: Survey | H8: Frequency | I8: Population
C10: Sex | E10: SEX | F10: Person | G10: LFS | H10: Not applicable | I10: All
C11: 1 | D11: Male
C12: 2 | D12: Female
C15: Age (grouped) | E15: AGEGRP | F15: Person | G15: LFS | H15: Not applicable | I15: All
D16: 15-24 years
C17: 01 | D17: 15-19
C18: 02 | D18: 20-24
D19: 25-34 years
C20: 03 | D20: 25-29
C21: 04 | D21: 30-34
D22: 35-44 years
C23: 05 | D23: 35-39
C24: 06 | D24: 40-44
D25: 45-54 years
C26: 07 | D26: 45-49
C27: 08 | D27: 50-54
D28: 55-64 years
C29: 09 | D29: 55-59
C30: 10 | D30: 60-64
D31: 65 and over
C32: 11 | D32: 65 and over
C33: Note: available in single years
C36: Age (continuous) | E36: AGE | F36: Person | G36: LFS | H36: Not applicable | I36: All
C37: 15 | D37: 15 years | E37: Hybrid item
C38: 16 | D38: 16 years
C39: 17 | D39: 17 years
C40: ... | D40: ...
C41: 24 | D41: 24 years
C42: 25 | D42: 25 years
C43: 26 | D43: 26 years
C44: ... | D44: ...
C45: 98 | D45: 98 years
C46: 99 | D46: 99 years and over | H46: (Aug 2006 - Jun 2014)
C47: 99 | D47: 99 years | H47: (Jul 2014 onwards)
...

Sheet Labour Force Status
A1: Australian Bureau of Statistics
A2: =Contents!A2 -> 6291.0.55.004 - TableBuilder: Labour Force Survey
A3: =Contents!A3 -> Released Friday 23 October 2026
A4: Data Item List
B6: Labour Force Status
A8: Data item label and categories | E8: Identifier | F8: Level | G8: Survey | H8: Frequency | I8: Population
C10: Labour force status | E10: LFSTATUS | F10: Person | G10: LFS | H10: Monthly | I10: All
C11: Labour force
C12: 1 | D12: Employed
C13: 2 | D13: Unemployed
C14: Not in the labour force
C15: 3 | D15: Not in the Labour Force (NILF)
C21: ="© Commonwealth of Australia "&YEAR(TODAY()) -> © Commonwealth of Australia 2026

Sheet Household and Family
A1: Australian Bureau of Statistics
A2: =Contents!A2 -> 6291.0.55.004 - TableBuilder: Labour Force Survey
A3: =Contents!A3 -> Released Friday 23 October 2026
A4: Data Item List
B6: Household and Family
A8: Data item label and categories | E8: Identifier | F8: Level | G8: Survey | H8: Frequency | I8: Population
C10: Person level characteristics
C12: Social marital status | E12: SOCMAR | F12: Person | G12: LFS | H12: Monthly | I12: All
C13: 0 | D13: Not available | H13: (Excludes Jul 2014 - Jun 2018)
C14: 1 | D14: Married
C15: 2 | D15: Not married
C18: Number of people in household (aged 15 years and over) | E18: NPER15H | F18: Household/ | G18: LFS | H18: Monthly | I18: All
C19: 01 | D19: 1 person | F19: Dwelling | H19: (Aug 2006 - Mar 2026)
C20: 02 | D20: 2 people | I20: Includes visitors
C21: 03 | D21: 3 people
C22: ... | D22: ...
C23: 33 | D23: 33 people
C24: 34 | D24: 34 people
C26: -8 | D26: Not a private dwelling / Not applicable
C27: -9 | D27: Not available / Not collected
C30: Number of children in household (aged 0 to 14 years) | E30: NKID14H | F30: Household/ | G30: LFS | H30: Monthly | I30: All
C31: 00 | D31: No children | F31: Dwelling | H31: (Aug 2006 - Mar 2026)
C32: 01 | D32: 1 child
C33: 02 | D33: 2 children
C34: 03 | D34: 3 children
C35: ... | D35: ...
C36: 12 | D36: 12 children
C37: 13 | D37: 13 children
C38: 14 | D38: 14 children
C40: -8 | D40: Not a private dwelling / Not applicable
C41: -9 | D41: Not available / Not collected
C44: Number of children in household (aged 0 to 4 years) | E44: NKID04H | F44: Household/ | G44: LFS | H44: Monthly | I44: All
C45: 00 | D45: No children | F45: Dwelling | H45: (Aug 2006 - Mar 2026)
C46: 01 | D46: 1 child
C47: 02 | D47: 2 children
C48: 03 | D48: 3 children
C49: 04 | D49: 4 children
C50: 05 | D50: 5 children
C51: 06 | D51: 6 children
C52: 07 | D52: 7 children
...

Sheet Education and Qualifications
A1: Australian Bureau of Statistics
A2: =Contents!A2 -> 6291.0.55.004 - TableBuilder: Labour Force Survey
A3: =Contents!A3 -> Released Friday 23 October 2026
A4: Data Item List
B6: Education and Qualifications
A8: Data item label and categories | E8: Identifier | F8: Level | G8: Survey | H8: Frequency | I8: Population
C10: Highest year of school completed | E10: HIGHYEAR | F10: Person | G10: LFS | H10: Monthly | I10: All
D11: Senior Secondary Education | H11: (Aug 2015 - Mar 2026)
C12: 611 | D12: Year 12 or equivalent | H12: Annual
C13: 613 | D13: Year 11 | H13: (Aug 2006 - May 2015)
D14: Junior Secondary Education
C15: 621 | D15: Year 10
C16: 622 | D16: Year 9 or below/Never attended school
C17: 011 | D17: Level not determined
C18: -001 | D18: Not available / Not collected
C21: Educational attendance (detailed) | E21: EDUCATT | F21: Person | G21: LFS | H21: Monthly | I21: All
C22: 01 | D22: Neither attending school nor tertiary educational institution | H22: (Aug 2015 - Mar 2026)
C23: 02 | D23: Attending tertiary educational institution full-time
C24: 03 | D24: Attending tertiary educational institution part-time
C25: 04 | D25: Not attending school, with unknown tertiary status (Dec, Jan, Feb only)
C26: 05 | D26: Attending school (aged 15-19 years)
C27: 06 | D27: Attending both school and tertiary educational institution full-time (aged 15-19 years)
C28: 07 | D28: Attending both school and tertiary educational institution part-time (aged 15-19 years)
C29: -1 | D29: Not available / Not collected
C32: Level of highest educational attainment (ASCED 2001) | E32: EDUHIGH | F32: Person | G32: LFS | H32: Monthly | I32: All
C33: 01 | D33: Postgraduate Degree | H33: (Aug 2015 - Mar 2026)
C34: 02 | D34: Graduate Diploma/Graduate Certificate
C35: 03 | D35: Bachelor Degree
C36: 04 | D36: Advanced Diploma/Diploma
C37: 05 | D37: Certificate III/IV
C38: 06 | D38: Year 12 or equivalent
C39: 07 | D39: Year 11 or equivalent
C40: 08 | D40: Year 10 or equivalent
C41: 09 | D41: Certificate I/II
C42: 10 | D42: Below Year 10/No educational attainment
C43: 11 | D43: Certificate not further defined
C44: 12 | D44: Level not determined
C45: -1 | D45: Not available / Not collected
C49: International Standard Classification of Educational Attainment (ISCED) | E49: ISCED11 | F49: Person | G49: LFS | H49: Monthly | I49: All
D50: Less than basic | H50: (Aug 2015 - Mar 2026)
...

Sheet Employment
A1: Australian Bureau of Statistics
A2: =Contents!A2 -> 6291.0.55.004 - TableBuilder: Labour Force Survey
A3: =Contents!A3 -> Released Friday 23 October 2026
A4: Data Item List
B6: Employment
A8: Data item label and categories | E8: Identifier | F8: Level | G8: Survey | H8: Frequency | I8: Population
C10: Full-time or part-time status of employment | E10: FTPTEMP | F10: Person | G10: LFS | H10: Monthly | I10: Employed
C11: 1 | D11: Full-time
C12: 2 | D12: Part-time
C13: 0 | D13: Not employed / Not applicable
C16: Full-time or part-time status of main job | E16: FTPTEMPM | F16: Person | G16: LFS | H16: Monthly | I16: Employed
C17: 1 | D17: Full-time
C18: 2 | D18: Part-time
C19: 3 | D19: Unknown
C20: 0 | D20: Not employed / Not applicable
C23: Status in employment of main job | E23: STATEMP | H23: Monthly | I23: Employed
D24: Employee
C25: 10 | D25: Employee, nfd | H25: (Quarterly from Aug 2014 - Feb 2026)
C26: 11 | D26: Employee with paid leave entitlements | H26: (Quarterly from Aug 2014 - Feb 2026)
C27: 12 | D27: Employee without paid leave entitlements
D28: Owner manager
C29: 21 | D29: Owner manager of incorporated enterprises with employees
C30: 22 | D30: Owner manager of incorporated enterprises without employees
C31: 31 | D31: Owner manager of unincorporated enterprises with employees
C32: 32 | D32: Owner manager of unincorporated enterprises without employees
D33: Contributing family worker
C34: 40 | D34: Contributing family worker
C35: 00 | D35: Not employed / Not applicable
C38: Type of employment | E38: EMPCSUAL | F38: Person | G38: LFS | H38: Monthly | I38: Employed
C39: 1 | D39: Employed as casual (self-defined) | H39: (Aug 2026 onwards)
C40: 2 | D40: Not employed as casual
C41: 5 | D41: Unknown
C42: 0 | D42: Not employed / Not applicable
C45: Multiple job holders | E45: MULTJOB | F45: Person | G45: LFS | H45: Monthly | I45: Employed
D46: Single job holder
C47: 11 | D47: One job last week
C48: 12 | D48: Changed jobs last week
D49: Multiple job holder
C50: 20 | D50: Multiple job holder, nfd | H50: (Aug 2006 - Jun 2014)
C51: 21 | D51: Two jobs last week | H51: (Jul 2014 onwards)
...

Sheet Hours
A1: Australian Bureau of Statistics
A2: =Contents!A2 -> 6291.0.55.004 - TableBuilder: Labour Force Survey
A3: =Contents!A3 -> Released Friday 23 October 2026
A4: Data Item List
B6: Hours
A8: Data item label and categories | E8: Identifier | F8: Level | G8: Survey | H8: Frequency | I8: Population
C10: Whether actually worked full-time or part-time hours in all jobs last week | E10: ACTFTPT | F10: Person | G10: LFS | H10: Monthly | I10: Employed
C11: 1 | D11: Actually worked 35 hours or more (full-time) last week
C12: 2 | D12: Actually worked fewer than 35 hours (part-time) last week
C13: 0 | D13: Not employed / Not applicable
C15: Hours usually and actually worked | E15: HRSUSAC | F15: Person | G15: LFS | H15: Monthly | I15: Employed
C16: 1 | D16: Actual and usual hours worked 35 hours or more | H16: (Aug 2026 onwards)
C17: 2 | D17: Actual hourrs worked 35 hours or more, usual hours less than 35
C18: 3 | D18: Actual hours worked less than 35 usual hours 35 hours or more
C19: 4 | D19: Actual and usual hours less than 35
C20: 0 | D20: Not employed / Not applicable
C23: Hours actually worked in all jobs last week (grouped) | E23: HRSWORKG | F23: Person | G23: LFS | H23: Monthly | I23: Employed
C24: 01 | D24: 1-9 hours
C25: 02 | D25: 10-19 hours
C26: 03 | D26: 20-29 hours
C27: 04 | D27: 30-34 hours
C28: 05 | D28: 35-39 hours
C29: 06 | D29: 40-44 hours
C30: 07 | D30: 45-49 hours
C31: 08 | D31: 50-59 hours
C32: 09 | D32: 60-69 hours
C33: 10 | D33: 70 hours or more
C34: 00 | D34: Did not work (0 hours)
C35: -1 | D35: Not employed / Not applicable
C39: Hours actually worked in all jobs last week | E39: HRSWRK | F39: Person | G39: LFS | H39: Monthly | I39: Employed
C40: 00 | D40: Did not work (0 hours)
C41: 01 | D41: 1 hour
C42: 02 | D42: 2 hours
C43: 03 | D43: 3 hours
C44: ... | D44: ...
C45: 97 | D45: 97 hours
C46: 98 | D46: 98 hours
C47: 99 | D47: 99 hours or more
C48: -1 | D48: Not employed / Not applicable
C51: Whether usually works full-time or part-time hours in all jobs | E51: USLFTPT | F51: Person | G51: LFS | H51: Monthly | I51: Employed
...

Sheet Underutilisation
A1: Australian Bureau of Statistics
A2: =Contents!A2 -> 6291.0.55.004 - TableBuilder: Labour Force Survey
A3: =Contents!A3 -> Released Friday 23 October 2026
A4: Data Item List
B6: Underutilisation
A8: Data item label and categories | E8: Identifier | F8: Level | G8: Survey | H8: Frequency | I8: Population
C10: Underutilisation (current definition)
C12: Underemployment status | E12: UNDREMP | F12: Person | G12: LFS | H12: Monthly | I12: Employed
C13: 01 | D13: Underemployed full-time workers who worked part-time for economic reasons | H13: (Jul 2014 onwards)
C14: 02 | D14: Underemployed part-time workers who prefer (and are available) for more hours | H14: Quarterly
H15: (Aug 2006 - May 2014)
C16: 00 | D16: Not underemployed / Not applicable
C17: -1 | D17: Not available / Not collected
C20: Reason why full-time workers worked part-time hours | E20: REASLTFT | F20: Person | G20: LFS | H20: Monthly | I20: Full-time workers who worked less than 35 hours last week
C21: 1 | D21: Own illness or injury, sick leave
C22: 2 | D22: Holiday, flextime, study, personal reasons
C23: 3 | D23: Began, left or lost job during the week
C24: 4 | D24: On strike, locked out, industrial dispute
C25: 5 | D25: Bad weather, plant breakdown
C26: 6 | D26: Stood down, on short time, insufficient work (Underemployed)
C27: 7 | D27: Standard work arrangements, shift work, RDO (Rostered Day Off)
C28: 8 | D28: Worked less than 35 hours for other reasons
C30: 0 | D30: Did not work less than 35 hours / Usually part-time / Not applicable
C33: Whether part-time workers preferred more hours | E33: MOREHRPT | F33: Person | G33: LFS | H33: Monthly | I33: Unemployed
C34: 1 | D34: Preferred more hours / Unemployed | H34: (Jul 2014 - Mar 2026) | I34: Workers who usually work 35 hours or less
C35: 2 | D35: Did not prefer more hours / NILF | H35: Quarterly
H36: (Aug 2006 - May 2014)
C37: 0 | D37: Not available / Not collected
C41: Whether part-time workers preferred full-time or part-time hours | E41: PREFFTPT | F41: Person | G41: LFS | H41: Monthly | I41: Unemployed
C42: 1 | D42: Preferred to work full-time | H42: (Jul 2014 - Mar 2026) | I42: Workers who usually work 35 hours or less
C43: 2 | D43: Preferred to work part-time | H43: Quarterly
C44: 3 | D44: Prefer more hours, nfd / No preference | H44: (Aug 2006 - May 2014)
C45: 4 | D45: Did not prefer more hours / NILF
C47: 0 | D47: Not available / Not collected
C51: Number of hours preferred (total hours, grouped) | E51: PREFHRPG | F51: Person | G51: LFS | H51: Monthly | I51: Unemployed
C52: 1 | D52: 0 hours | H52: (Jul 2014 - Mar 2026) | I52: Workers who usually work 35 hours or less
C53: 2 | D53: Less than 10 hours
C54: 3 | D54: 10-19 hours
C55: 4 | D55: 20-29 hours
C56: 5 | D56: 30 hours or more
...

Sheet Industry
A1: Australian Bureau of Statistics
A2: =Contents!A2 -> 6291.0.55.004 - TableBuilder: Labour Force Survey
A3: =Contents!A3 -> Released Friday 23 October 2026
A4: Data Item List
B6: Industry
A8: Data item label and categories | E8: Identifier | F8: Level | G8: Survey | H8: Frequency | I8: Population | J8: Field ex
C10: Industry of main job (ANZSIC 2006) | E10: INDMJ | F10: Person | G10: LFS | H10: Quarterly | I10: Employed
C11: 01 | D11: Agriculture, forestry and fishing | H11: (Aug 2006 - Mar 2026)
C12: 02 | D12: Mining | H12: Monthly
C13: 03 | D13: Manufacturing | H13: (Aug 2026 onwards)
C14: 04 | D14: Electricity, gas, water and waste services
C15: 05 | D15: Construction
C16: 06 | D16: Wholesale trade
C17: 07 | D17: Retail trade
C18: 08 | D18: Accommodation and food services
C19: 09 | D19: Transport, postal and warehousing
C20: 10 | D20: Information Media and telecommunications
C21: 11 | D21: Financial and insurance services
C22: 12 | D22: Rental, hiring and real estate services
C23: 13 | D23: Professional, scientific and technical services
C24: 14 | D24: Administrative and support services
C25: 15 | D25: Public administration and safety
C26: 16 | D26: Education and training
C27: 17 | D27: Health care and social assistance
C28: 18 | D28: Arts and recreation services
C29: 19 | D29: Other services
C30: 00 | D30: Not in the labour force / Not applicable
C31: -1 | D31: Not available / Not collected
C32: Note: Available at the 3 digit level
C35: Industry of last job (ANZSIC 2006) | E35: INDLJ | F35: Person | G35: LFS | H35: Quarterly | I35: Unemployed
C36: 01 | D36: Agriculture, forestry and fishing | H36: (Aug 2006 - Mar 2026)
C37: 02 | D37: Mining
C38: 03 | D38: Manufacturing
C39: 04 | D39: Electricity, gas, water and waste services
C40: 05 | D40: Construction
C41: 06 | D41: Wholesale trade
C42: 07 | D42: Retail trade
C43: 08 | D43: Accommodation and food services
C44: 09 | D44: Transport, postal and warehousing
C45: 10 | D45: Information Media and telecommunications
...

Sheet Occupation and Skill
A1: Australian Bureau of Statistics
A2: =Contents!A2 -> 6291.0.55.004 - TableBuilder: Labour Force Survey
A3: =Contents!A3 -> Released Friday 23 October 2026
A4: Data Item List
B6: Occupation and Skill
A8: Data item label and categories | E8: Identifier | F8: Level | G8: Survey | H8: Frequency | I8: Population
C10: Occupation of main job | E10: OCCMJ | F10: Person | G10: LFS | H10: Quarterly | I10: Employed
C11: 01 | D11: Managers and administrators | H11: (Aug 2006 - Feb 2026)
C12: 02 | D12: Professionals | H12: Monthly
C13: 03 | D13: Technicians and trade workers
C14: 04 | D14: Community and professional service workers
C15: 05 | D15: Clerical and administrative workers
C16: 06 | D16: Sales workers
C17: 07 | D17: Machinery operators and drivers
C18: 08 | D18: Labourers
C20: 00 | D20: Not in the labour force / Not applicable
C21: -1 | D21: Not available / Not collected
C22: Note: Available at the 4 digit level
C25: Occupation of main job (OSCA) | E25: OCSAMJ6 | F25: Person | G25: LFS | H25: Monthly | I25: Employed
C26: 01 | D26: Managers and administrators | H26: (Aug 2026 onwards)
C27: 02 | D27: Professionals
C28: 03 | D28: Technicians and trade workers
C29: 04 | D29: Community and professional service workers
C30: 05 | D30: Clerical and administrative workers
C31: 06 | D31: Sales workers
C32: 07 | D32: Machinery operators and drivers
C33: 08 | D33: Labourers
C35: 00 | D35: Not in the labour force / Not applicable
C36: -1 | D36: Not available / Not collected
C37: Note: Available at the 4 digit level
C40: Occupation of last job | E40: OCCLJ | F40: Person | G40: LFS | H40: Quarterly | I40: Unemployed
C41: 01 | D41: Managers and administrators | H41: (Aug 2006 - Feb 2026)
C42: 02 | D42: Professionals
C43: 03 | D43: Technicians and trade workers
C44: 04 | D44: Community and professional service workers
C45: 05 | D45: Clerical and administrative workers
C46: 06 | D46: Sales workers
C47: 07 | D47: Machinery operators and drivers
C48: 08 | D48: Labourers
C50: 9999 | D50: Never worked or last worked more than 2 years ago
...

Sheet Unemployment
A1: Australian Bureau of Statistics
A2: =Contents!A2 -> 6291.0.55.004 - TableBuilder: Labour Force Survey
A3: =Contents!A3 -> Released Friday 23 October 2026
A4: Data Item List
B6: Unemployment
A8: Data item label and categories | E8: Identifier | F8: Level | G8: Survey | H8: Frequency | I8: Population
C10: Full-time or part-time status of unemployment | E10: FTPTUN | F10: Person | G10: LFS | H10: Monthly | I10: Unemployed
C11: 1 | D11: Looked for both full-time and part-time work | H11: (Jul 2014 onwards)
C12: 2 | D12: Looked for only full-time work
C13: 3 | D13: Looked for only part-time work
C14: 0 | D14: Not unemployed / Not applicable
C17: Status of last job | E17: LJOBSTAT | F17: Person | G17: LFS | H17: Monthly | I17: Unemployed
D18: Recent worker
C19: 10 | D19: Recent worker: Last worked less than 2 years ago | H19: (Jul 2014 onwards)
C20: 11 | D20: Recent worker: Last worked (for 2 weeks or more) less than 2 years ago | H20: (Aug 2006 - Jun 2014)
D21: Former worker
C22: 20 | D22: Former worker: Last worked 2 years or more ago | H22: (Jul 2014 onwards)
C23: 21 | D23: Former worker: Last worked (for 2 weeks or more) 2 years or more ago | H23: (Aug 2006 - Jun 2014)
D24: Never worked
C25: 40 | D25: Never worked: Has never worked before (looking for first job) | H25: (Jul 2014 onwards)
C26: 41 | D26: Never worked: Has never worked (for 2 weeks or more) before | H26: (Aug 2006 - Jun 2014)
C28: 00 | D28: Not unemployed
C29: -1 | D29: Not available / Not collected
C32: Reason left or lost last job | E32: REASLLJ | F32: Person | G32: LFS | H32: Quarterly | I32: Unemployed
D34: Involuntary
D35: Lost last job for economic reasons (retrenched)
C36: 1110 | D36: Lost job: retrenched, made redundant, employer went out of business, or no work was available | H36: (Aug 2006 - Feb 2026)
C37: 1120 | D37: Self-employed: business closed down for economic reasons - went broke, liquidated, no work, no supply or no demand
C38: 1130 | D38: More than one reason: lost last job for economic reasons (retrenched) | H38: (Aug 2014 - Feb 2026)
D39: Lost last job for non-economic reasons
C40: 1211 | D40: Dismissed | H40: (Aug 2014 - Feb 2026)
C41: 1212 | D41: Job ended: temporary or seasonal job
C42: 1213 | D42: Own ill health or injury
C43: 1231 | D43: More than one reason: lost last job for non-economic reasons only | H43: (Aug 2014 - Feb 2026)
C44: 2021 | D44: Self-employed: business closed down or sold for non-economic reasons | H44: (Aug 2014 - Feb 2026)
D45: Study, family and other personal reasons
C46: 2014 | D46: Unsatisfactory work arrangements, pay or hours
C47: 2015 | D47: Holiday job or returned to studies
C48: 2018 | D48: Family reasons: got married, had children, looked after others, holiday, moved location or spouse transferred | H48: (Aug 2014 - Feb 2026)
C49: 2019 | D49: To start own or new business | H49: (Aug 2014 - Feb 2026)
...

Sheet Duration of Job Search
A1: Australian Bureau of Statistics
A2: =Contents!A2 -> 6291.0.55.004 - TableBuilder: Labour Force Survey
A3: =Contents!A3 -> Released Friday 23 October 2026
A4: Data Item List
B6: Duration of Job Search
A8: Data item label and categories | E8: Identifier | F8: Level | G8: Survey | H8: Frequency | I8: Population
C9: Duration of job search (grouped)
D10: Under 52 weeks (under 12 months) | E10: DURJSCH | H10: Monthly
C11: 1 | D11: Under 4 weeks (under 1 month)
C12: 2 | D12: 4 weeks and under 13 weeks (1-3 months) | H12: (Aug 2006 - Mar 2026)
C13: 3 | D13: 13 weeks and under 26 weeks (3-6 months) | H13: (Aug 2006 - Mar 2026)
C14: 4 | D14: 26 weeks and under 52 weeks (6-12 months) | H14: (Aug 2006 - Mar 2026)
C15: 7 | D15: 4 weeks to less than 12 months | H15: (Aug 2026 onwards)
D16: 52 weeks and over (Long-term unemployed)
C17: 5 | D17: 52 weeks and under 104 weeks (1-2 years)
C18: 6 | D18: 104 weeks and over (2 years and over)
D19: Not looking for work
C20: 9 | D20: Not unemployed/Not applicable | H20: (Aug 2026 onwards)
C23: Duration of job search (weeks) | E23: DURJSCHC | F23: Person | G23: LFS | H23: Monthly | I23: Unemployed
C24: 0001 | D24: 1 week or less | H24: (Aug 2006 - Mar 2026)
C25: 0002 | D25: 2 weeks
C26: 0003 | D26: 3 weeks
C27: ... | D27: ...
C28: 2998 | D28: 2998 weeks
C29: 2999 | D29: 2999 weeks
C30: 3000 | D30: 3000 weeks
C31: 0000 | D31: Not unemployed / Not applicable
C32: -001 | D32: Not available / Not collected
C35: Duration of job search (months) | E35: DURJSM | F35: Person | G35: LFS | H35: Monthly | I35: Unemployed
C36: 001 | D36: 1 month | H36: (Aug 2026 onwards)
C37: 002 | D37: 2 months
C38: 003 | D38: 3 months
C39: ... | D39: ...
C40: 119 | D40: 119 months
C41: 120 | D41: 120 months
C42: 121 | D42: 120 months or more
C44: 000 | D44: Not unemployed / Not applicable
C45: -01 | D45: Never worked / Not available / Not collected
C48: Duration since last job (grouped) | E48: DURLJ | F48: Person | G48: LFS | H48: Monthly | I48: Unemployed
D49: Under 52 weeks (under 12 months) | H49: (Aug 2006 - Mar 2026)
...

Sheet Not in the Labour Force
A1: Australian Bureau of Statistics
A2: =Contents!A2 -> 6291.0.55.004 - TableBuilder: Labour Force Survey
A3: =Contents!A3 -> Released Friday 23 October 2026
A4: Data Item List
B6: Not in the Labour Force
A8: Data item label and categories | E8: Identifier | F8: Level | G8: Survey | H8: Frequency | I8: Population
C10: Main activity in last 4 weeks | E10: MNUPACTV | F10: Person | G10: LFS | H10: Monthly | I10: Not in Labour Force
C11: 10 | D11: Caring for children | H11: (Aug 2026 onwards) | I11: Unemployed
C12: 11 | D12: Caring for ill, elderly or disabled person
C13: 12 | D13: Unpaid voluntary work
C14: 13 | D14: Unpaid trainee job
C15: 14 | D15: Looking for work
C16: 15 | D16: Studying (school TAFE, university)
C17: 16 | D17: Home maintenance, chores, gardening, home duties
C18: 17 | D18: Recovering from a short-term illness or injury
C19: 18 | D19: Managing own long-term health condition of disability
C20: 19 | D20: Holidays, travelling, leisure activities
C21: 20 | D21: Other
C22: 00 | D22: Not applicable
C25: Not in the labour force status | E25: NILFSTAT | F25: Person | G25: LFS | H25: Monthly | I25: All
D26: Waiting to start work
C27: 10 | D27: Waiting to start work in less than 4 weeks and available to start last week (unemployed)
C28: 11 | D28: Waiting to start work in less than 4 weeks, but unavailable to start last week
C29: 12 | D29: Waiting to start work in 4 weeks or more nfd
C30: 13 | D30: Waiting to start work in 4 weeks or more, but available to start in next 4 weeks if work was available
C31: 14 | D31: Waiting to start work in 4 weeks or more, unavailable to start in next 4 weeks
D32: Actively looked for work
C33: 27 | D33: Actively looked for work, unavailable to start, but available in next four weeks
C34: 28 | D34: Actively looked for work but unavailable to start in next four weeks
D35: Passively looked for work
C36: 36 | D36: Passively looked for work
D37: Did not look for work
C38: 45 | D38: Did not look for work
D39: Permanently unable or not intending to work
C40: 53 | D40: Permanently unable to work
C41: 54 | D41: Permanently not intending to work (aged 65 and over)
D42: Institutionalised
C43: 61 | D43: Institutionalised
C44: 62 | D44: At boarding school
C46: 00 | D46: Not applicable
...

Sheet Retrenchment
A1: Australian Bureau of Statistics
A2: =Contents!A2 -> 6291.0.55.004 - TableBuilder: Labour Force Survey
A3: =Contents!A3 -> Released Friday 23 October 2026
A4: Data Item List
B6: Retrenchment
A8: Data item label and categories | E8: Identifier | F8: Level | G8: Survey | H8: Frequency | I8: Population
C10: Number of jobs left or lost in last 3 months | E10: NUMLLJ3M | F10: Person | G10: LFS | H10: Quarterly | I10: All
C11: 0 | D11: No jobs left or lost in last 3 months | H11: (Aug 2014 - Feb 2026)
C12: 1 | D12: One job left or lost in last 3 months
C13: 2 | D13: Two jobs left or lost in last 3 months
C14: 3 | D14: Three or more jobs left or lost in last 3 months
C15: -9 | D15: Not available / Not collected
C18: Lost jobs and retrenchment status last 3 months | E18: RTRNCH3M | F18: Person | G18: LFS | H18: Quarterly | I18: All
D19: Lost at least one job in last 3 months | H19: (Aug 2014 - Feb 2026)
C20: 1 | D20: Retrenched: Lost at least one job for economic reasons in last 3 months
C21: 2 | D21: Lost at least one job for non-economic reasons in last 3 months (not retrenched)
D22: No jobs lost in last 3 months
C23: 3 | D23: Only left job(s) in last 3 months (no lost jobs)
C24: 4 | D24: No jobs left or lost in last 3 months
C25: -9 | D25: Not available / Not collected
C27: Lost job and retrenchment status last 4 weeks | E27: RETRNCH | F27: Person | G27: LFS | H27: Monthly | I27: All
D28: Lost at least one job in last 4 weeks | H28: (Aug 2026 onwards)
C29: 1 | D29: Retrenched: Lost at least one job for economic reasons in last 4 weeks
C30: 2 | D30: Lost at least one job for non-economic reasons in last 4 weeks (not retrenched)
D31: No jobs lost in last 4 weeks
C32: 3 | D32: Only left job(s) in last 4 weeks (no lost jobs)
C33: 4 | D33: No jobs left or lost in last 4 weeks
C34: -9 | D34: Not available / Not collected
C36: Reason left or lost a job in the last 3 months | E36: REALJ3MA | F36: Person | G36: LFS | H36: Quarterly | I36: All
D37: Involuntary | E37: through to | H37: (Aug 2014 - Feb 2026)
D38: Lost last job of economic reasons (retrenched) | E38: REALJ3MO
C39: 10 | D39: Lost job: retrenched, made redundant, employer went out of business, or no work was available
C40: 20 | D40: Self-employed: business closed down for economic reasons - went broke, liquidated, no work, no supply or no demand
D41: Lost last job for non-economic reasons
C42: 11 | D42: Dismissed
C43: 12 | D43: Job ended: temporary or seasonal job
C44: 13 | D44: Own ill health or injury
C45: 21 | D45: Self-employed: business closed down or sold for non-economic reasons
D46: Study, family, and other personal reasons
C47: 14 | D47: Unsatisfactory work arrangements, pay or hours
...

Sheet Weighting
A1: Australian Bureau of Statistics
A2: =Contents!A2 -> 6291.0.55.004 - TableBuilder: Labour Force Survey
A3: =Contents!A3 -> Released Friday 23 October 2026
A4: Data Item List
B6: Weighting and Benchmarks
A8: Data item label and categories | E8: Identifier | F8: Level | G8: Survey | H8: Frequency | I8: Population
C10: Weights
C12: Weight for the current month | E12: WEIGHT | F12: Person | G12: LFS | H12: Monthly | I12: All
C13: A weight is given as a continuous variable up to 8 decimal places
C15: An average weight is approximately 250 and ranges from 5 to 3085
C21: ="© Commonwealth of Australia "&YEAR(TODAY()) -> © Commonwealth of Australia 2026

Sheet International data items
A1: Australian Bureau of Statistics
A2: =Contents!A2 -> 6291.0.55.004 - TableBuilder: Labour Force Survey
A3: =Contents!A3 -> Released Friday 23 October 2026
A4: Data Item List
B6: International data items
A8: Data item label and categories | E8: Identifier | F8: Level | G8: Survey | H8: Frequency | I8: Population
C10: Full-time or part-time status of employment (European 30 hours threshold) | E10: FTPTEMPE | F10: Person | G10: LFS | H10: Monthly | I10: Employed | J10: NEW | K10: Usual hours
C11: 1 | D11: Full-time
C12: 2 | D12: Part-time
C13: 0 | D13: Not employed / Not applicable
C15: Underemployment status (European 30 hours threshold) | E15: UNDREMPE | F15: Person | G15: LFS | H15: Monthly | I15: Employed | J15: New, need to look into more
C16: 01 | D16: Underemployed full-time workers who worked part-time for economic reasons | H16: Oct 1982 to Mar 2001
C17: 02 | D17: Underemployed part-time workers who prefer (and are available) for more hours | H17: Quarterly
C18: 00 | D18: Not underemployed / Not applicable | H18: May 2001 to May 2014
C19: -1 | D19: Not available / Not collected | H19: Monthly
H20: Jul 2014 onwards
C24: International Standard Industrial Classification (ISIC) | E24: ISIC
C25: A | D25: Agriculture, forestry and fishing
C26: B | D26: Mining and quarrying
C27: C | D27: Manufacturing
D28: Electricity, gas, steam and air conditioning supply
D29: Water supply; sewerage, waste management and remediation activities
D30: Construction
D31: Wholesale and retail trade; repair of motor vehicles and motorcycles
D32: Transportation and storage
D33: Accommodation and food service activities
D34: Information and communication
D35: Financial and insurance activities
D36: Real estate activities
D37: Professional, scientific and technical activities
D38: Administrative and support service activities
D39: Public administration and defence; compulsory social security
... D46: Note: Available at the Sub-division level
C48: International Standard Classification of Occupations (ILO) | E48: ISCO
C49: 1 | D49: Managers
C50: 2 | D50: Professionals
C51: 3 | D51: Technicians and Associate Professionals
D52: Clerical Support Workers
D53: Services and Sales Workers
D54: Skilled Agricultural, Forest and Fishery Workers
...
