Workbook
Name QuarterList: OFFSET('Calculation 1.1'!$D$3,0,0,COUNTA('Calculation 1.1'!$D$3:$D$50))
Name TopOfTable_Table_1: 'Data 1.1'!$A$2
Name TopOfTable_Table_1: 'Table 1.1'!$A$2
Name TopOfTable_Table_1: 'Table 1.3'!$A$2
Name TopOfTable_Table_1: 'Table 1.2'!$A$2
Name TopOfTable_Table_2: #REF!
Name TopOfTable_Table_2: #REF!

Sheet Contents
A1: Australian Bureau of Statistics
A2: 6239.0 Barriers and Incentives to Labour Force Participation, Jun 2026
A3: Released at 11:30 am (Canberra time) Wed 28 October 2026
B5: Contents
B6: Tables
B7: T1.1 | C7: Table 1.1 - Summary
B8: T1.2 | C8: Table 1.2 - Employment
B9: T1.3 | C9: Table 1.3 - Not employed
B10: D1.1 | C10: Data 1.1 - Labour Force Status
B13: More information available from the ABS website
B15: Barriers and Incentives to Labour Force Participation, Jun 2026
B16: Summary
B17: Methodology
B20: E N Q U I R I E S
B21: For further information about these and related statistics visit www.abs.gov.au/about/contact-us
B22: or contact the Labour Statistics Branch at labour.statistics@abs.gov.au.
B25: ="© Commonwealth of Australia "&YEAR(TODAY()) -> © Commonwealth of Australia 2026

Sheet Table 1.1
A1: Australian Bureau of Statistics
A2: =Contents!A2 -> 6239.0 Barriers and Incentives to Labour Force Participation, Jun 2026
A3: =Contents!A3 -> Released at 11:30 am (Canberra time) Wed 28 October 2026
A4: =Contents!C7 -> Table 1.1 - Summary
A6: Select Quarter | B6: 46174
A7: Select Scope | B7: People aged 18 years and over
A8: Select Population of interest | B8: People aged 18 years and over
A9: Select Sex | B9: Persons
B11: ='Calculation 1.1'!W4 -> 46174 | F11: =IF('Calculation 1.1'!AA4=0,"Previous Quarter",IF(AND(MONTH(B11)=9,YEAR(B11)<2023),"Previous Quarter","Previous Quarter - "&TEXT('Calculation 1.1'!AA4,"mmm-yy"))) -> Previous Quarter - Mar-26 | M11: =IF('Calculation 1.1'!AH4=0,"Previous "&TEXT(B11,"mmmm"),"Previous "&TEXT('Calculation 1.1'!AH4,"mmmm")&" - "&TEXT('Calculation 1.1'!AH4,"mmm-yy")) -> Previous June - Jun-25
B12: Estimate | F12: Estimate | I12: Difference | M12: Estimate | P12: Difference
B13: '000 | C13: % | F13: '000 | G13: % | I13: '000 | J13: % | M13: '000 | N13: % | P13: '000 | Q13: %
A14: In the labour force | B14: ='Calculation 1.1'!W6 -> 14741.219 | C14: ='Calculation 1.1'!X6 -> 68.869 | D14: =IF('Calculation 1.1'!Y6>=50,"**",IF('Calculation 1.1'!Y6>=25,"*","")) | F14: ='Calculation 1.1'!AA6 -> 14606.226 | G14: ='Calculation 1.1'!AB6 -> 68.696 | H14: =IF(F$11=0,"",IF(AND(MONTH($B$11)=9,YEAR($B$11)<2023),"",IF('Calculation 1.1'!AC6>=50,"**",IF('Calculation 1.1'!AC6>=25,"*","")))) | I14: =IF(OR('Calculation 1.1'!AA4=0,SUMSQ($F$14:$F$37)=0),0,IF(F$11=0,0,B14-F14)) -> 134.993 | J14: =IF(OR('Calculation 1.1'!AA4=0,SUMSQ($G$14:$G$37)=0),0,IF(F$11=0,0,C14-G14)) -> 0.173 | K14: =H14 | M14: ='Calculation 1.1'!AH6 -> 14504.073 | N14: ='Calculation 1.1'!AI6 -> 69.149 | O14: =IF(M$11=0,"",IF('Calculation 1.1'!AJ6>=50,"**",IF('Calculation 1.1'!AJ6>=25,"*",""))) | P14: =IF(OR('Calculation 1.1'!AH4=0,SUMSQ($M$14:$M$37)=0),0,IF(M$11=0,0,B14-M14)) -> 237.146 | Q14: =IF(OR('Calculation 1.1'!AH4=0,SUMSQ($N$14:$N$37)=0),0,IF(M$11=0,0,C14-N14)) -> -0.28 | R14: =O14
A15: Employed | B15: ='Calculation 1.1'!W7 -> 14168.538 | C15: ='Calculation 1.1'!X7 -> 66.194 | D15: =IF('Calculation 1.1'!Y7>=50,"**",IF('Calculation 1.1'!Y7>=25,"*","")) | F15: ='Calculation 1.1'!AA7 -> 14023.678 | G15: ='Calculation 1.1'!AB7 -> 65.956 | H15: =IF(F$11=0,"",IF(AND(MONTH($B$11)=9,YEAR($B$11)<2023),"",IF('Calculation 1.1'!AC7>=50,"**",IF('Calculation 1.1'!AC7>=25,"*","")))) | I15: =IF(OR('Calculation 1.1'!AA4=0,SUMSQ($F$14:$F$37)=0),0,IF(F$11=0,0,B15-F15)) -> 144.86 | J15: =IF(OR('Calculation 1.1'!AA4=0,SUMSQ($G$14:$G$37)=0),0,IF(F$11=0,0,C15-G15)) -> 0.238 | K15: =H15 | M15: ='Calculation 1.1'!AH7 -> 13971.266 | N15: ='Calculation 1.1'!AI7 -> 66.608 | O15: =IF(M$11=0,"",IF('Calculation 1.1'!AJ7>=50,"**",IF('Calculation 1.1'!AJ7>=25,"*",""))) | P15: =IF(OR('Calculation 1.1'!AH4=0,SUMSQ($M$14:$M$37)=0),0,IF(M$11=0,0,B15-M15)) -> 197.272 | Q15: =IF(OR('Calculation 1.1'!AH4=0,SUMSQ($N$14:$N$37)=0),0,IF(M$11=0,0,C15-N15)) -> -0.414 | R15: =O15
A16: Usually worked full-time (35 hours or more per week) | B16: ='Calculation 1.1'!W8 -> 9825.495 | C16: ='Calculation 1.1'!X8 -> 45.904 | D16: =IF('Calculation 1.1'!Y8>=50,"**",IF('Calculation 1.1'!Y8>=25,"*","")) | F16: ='Calculation 1.1'!AA8 -> 9789.941 | G16: ='Calculation 1.1'!AB8 -> 46.044 | H16: =IF(F$11=0,"",IF(AND(MONTH($B$11)=9,YEAR($B$11)<2023),"",IF('Calculation 1.1'!AC8>=50,"**",IF('Calculation 1.1'!AC8>=25,"*","")))) | I16: =IF(OR('Calculation 1.1'!AA4=0,SUMSQ($F$14:$F$37)=0),0,IF(F$11=0,0,B16-F16)) -> 35.554 | J16: =IF(OR('Calculation 1.1'!AA4=0,SUMSQ($G$14:$G$37)=0),0,IF(F$11=0,0,C16-G16)) -> -0.14 | K16: =H16 | M16: ='Calculation 1.1'!AH8 -> 9673.829 | N16: ='Calculation 1.1'!AI8 -> 46.12 | O16: =IF(M$11=0,"",IF('Calculation 1.1'!AJ8>=50,"**",IF('Calculation 1.1'!AJ8>=25,"*",""))) | P16: =IF(OR('Calculation 1.1'!AH4=0,SUMSQ($M$14:$M$37)=0),0,IF(M$11=0,0,B16-M16)) -> 151.666 | Q16: =IF(OR('Calculation 1.1'!AH4=0,SUMSQ($N$14:$N$37)=0),0,IF(M$11=0,0,C16-N16)) -> -0.216 | R16: =O16
A17: Usually worked part-time (0 - 34 hours per week) | B17: ='Calculation 1.1'!W9 -> 4343.043 | C17: ='Calculation 1.1'!X9 -> 20.29 | D17: =IF('Calculation 1.1'!Y9>=50,"**",IF('Calculation 1.1'!Y9>=25,"*","")) | F17: ='Calculation 1.1'!AA9 -> 4233.737 | G17: ='Calculation 1.1'!AB9 -> 19.912 | H17: =IF(F$11=0,"",IF(AND(MONTH($B$11)=9,YEAR($B$11)<2023),"",IF('Calculation 1.1'!AC9>=50,"**",IF('Calculation 1.1'!AC9>=25,"*","")))) | I17: =IF(OR('Calculation 1.1'!AA4=0,SUMSQ($F$14:$F$37)=0),0,IF(F$11=0,0,B17-F17)) -> 109.306 | J17: =IF(OR('Calculation 1.1'!AA4=0,SUMSQ($G$14:$G$37)=0),0,IF(F$11=0,0,C17-G17)) -> 0.378 | K17: =H17 | M17: ='Calculation 1.1'!AH9 -> 4297.438 | N17: ='Calculation 1.1'!AI9 -> 20.488 | O17: =IF(M$11=0,"",IF('Calculation 1.1'!AJ9>=50,"**",IF('Calculation 1.1'!AJ9>=25,"*",""))) | P17: =IF(OR('Calculation 1.1'!AH4=0,SUMSQ($M$14:$M$37)=0),0,IF(M$11=0,0,B17-M17)) -> 45.605 | Q17: =IF(OR('Calculation 1.1'!AH4=0,SUMSQ($N$14:$N$37)=0),0,IF(M$11=0,0,C17-N17)) -> -0.198 | R17: =O17
A18: Preferred to work more hours | B18: ='Calculation 1.1'!W10 -> 775.488 | C18: ='Calculation 1.1'!X10 -> 3.623 | D18: =IF('Calculation 1.1'!Y10>=50,"**",IF('Calculation 1.1'!Y10>=25,"*","")) | F18: ='Calculation 1.1'!AA10 -> 779.312 | G18: ='Calculation 1.1'!AB10 -> 3.665 | H18: =IF(F$11=0,"",IF(AND(MONTH($B$11)=9,YEAR($B$11)<2023),"",IF('Calculation 1.1'!AC10>=50,"**",IF('Calculation 1.1'!AC10>=25,"*","")))) | I18: =IF(OR('Calculation 1.1'!AA4=0,SUMSQ($F$14:$F$37)=0),0,IF(F$11=0,0,B18-F18)) -> -3.824 | J18: =IF(OR('Calculation 1.1'!AA4=0,SUMSQ($G$14:$G$37)=0),0,IF(F$11=0,0,C18-G18)) -> -0.042 | K18: =H18 | M18: ='Calculation 1.1'!AH10 -> 852.516 | N18: ='Calculation 1.1'!AI10 -> 4.064 | O18: =IF(M$11=0,"",IF('Calculation 1.1'!AJ10>=50,"**",IF('Calculation 1.1'!AJ10>=25,"*",""))) | P18: =IF(OR('Calculation 1.1'!AH4=0,SUMSQ($M$14:$M$37)=0),0,IF(M$11=0,0,B18-M18)) -> -77.028 | Q18: =IF(OR('Calculation 1.1'!AH4=0,SUMSQ($N$14:$N$37)=0),0,IF(M$11=0,0,C18-N18)) -> -0.441 | R18: =O18
A19: Available for more hours within 4 weeks | B19: ='Calculation 1.1'!W11 -> 695.593 | C19: ='Calculation 1.1'!X11 -> 3.25 | D19: =IF('Calculation 1.1'!Y11>=50,"**",IF('Calculation 1.1'!Y11>=25,"*","")) | F19: ='Calculation 1.1'!AA11 -> 694.486 | G19: ='Calculation 1.1'!AB11 -> 3.266 | H19: =IF(F$11=0,"",IF(AND(MONTH($B$11)=9,YEAR($B$11)<2023),"",IF('Calculation 1.1'!AC11>=50,"**",IF('Calculation 1.1'!AC11>=25,"*","")))) | I19: =IF(OR('Calculation 1.1'!AA4=0,SUMSQ($F$14:$F$37)=0),0,IF(F$11=0,0,B19-F19)) -> 1.107 | J19: =IF(OR('Calculation 1.1'!AA4=0,SUMSQ($G$14:$G$37)=0),0,IF(F$11=0,0,C19-G19)) -> -0.016 | K19: =H19 | M19: ='Calculation 1.1'!AH11 -> 793.182 | N19: ='Calculation 1.1'!AI11 -> 3.782 | O19: =IF(M$11=0,"",IF('Calculation 1.1'!AJ11>=50,"**",IF('Calculation 1.1'!AJ11>=25,"*",""))) | P19: =IF(OR('Calculation 1.1'!AH4=0,SUMSQ($M$14:$M$37)=0),0,IF(M$11=0,0,B19-M19)) -> -97.589 | Q19: =IF(OR('Calculation 1.1'!AH4=0,SUMSQ($N$14:$N$37)=0),0,IF(M$11=0,0,C19-N19)) -> -0.532 | R19: =O19
A20: Looked for more hours | B20: ='Calculation 1.1'!W12 -> 396.22 | C20: ='Calculation 1.1'!X12 -> 1.851 | D20: =IF('Calculation 1.1'!Y12>=50,"**",IF('Calculation 1.1'!Y12>=25,"*","")) | F20: ='Calculation 1.1'!AA12 -> 340.391 | G20: ='Calculation 1.1'!AB12 -> 1.601 | H20: =IF(F$11=0,"",IF(AND(MONTH($B$11)=9,YEAR($B$11)<2023),"",IF('Calculation 1.1'!AC12>=50,"**",IF('Calculation 1.1'!AC12>=25,"*","")))) | I20: =IF(OR('Calculation 1.1'!AA4=0,SUMSQ($F$14:$F$37)=0),0,IF(F$11=0,0,B20-F20)) -> 55.829 | J20: =IF(OR('Calculation 1.1'!AA4=0,SUMSQ($G$14:$G$37)=0),0,IF(F$11=0,0,C20-G20)) -> 0.25 | K20: =H20 | M20: ='Calculation 1.1'!AH12 -> 420.825 | N20: ='Calculation 1.1'!AI12 -> 2.006 | O20: =IF(M$11=0,"",IF('Calculation 1.1'!AJ12>=50,"**",IF('Calculation 1.1'!AJ12>=25,"*",""))) | P20: =IF(OR('Calculation 1.1'!AH4=0,SUMSQ($M$14:$M$37)=0),0,IF(M$11=0,0,B20-M20)) -> -24.605 | Q20: =IF(OR('Calculation 1.1'!AH4=0,SUMSQ($N$14:$N$37)=0),0,IF(M$11=0,0,C20-N20)) -> -0.155 | R20: =O20
A21: Did not look for more hours | B21: ='Calculation 1.1'!W13 -> 299.373 | C21: ='Calculation 1.1'!X13 -> 1.399 | D21: =IF('Calculation 1.1'!Y13>=50,"**",IF('Calculation 1.1'!Y13>=25,"*","")) | F21: ='Calculation 1.1'!AA13 -> 354.095 | G21: ='Calculation 1.1'!AB13 -> 1.665 | H21: =IF(F$11=0,"",IF(AND(MONTH($B$11)=9,YEAR($B$11)<2023),"",IF('Calculation 1.1'!AC13>=50,"**",IF('Calculation 1.1'!AC13>=25,"*","")))) | I21: =IF(OR('Calculation 1.1'!AA4=0,SUMSQ($F$14:$F$37)=0),0,IF(F$11=0,0,B21-F21)) -> -54.722 | J21: =IF(OR('Calculation 1.1'!AA4=0,SUMSQ($G$14:$G$37)=0),0,IF(F$11=0,0,C21-G21)) -> -0.266 | K21: =H21 | M21: ='Calculation 1.1'!AH13 -> 372.357 | N21: ='Calculation 1.1'!AI13 -> 1.775 | O21: =IF(M$11=0,"",IF('Calculation 1.1'!AJ13>=50,"**",IF('Calculation 1.1'!AJ13>=25,"*",""))) | P21: =IF(OR('Calculation 1.1'!AH4=0,SUMSQ($M$14:$M$37)=0),0,IF(M$11=0,0,B21-M21)) -> -72.984 | Q21: =IF(OR('Calculation 1.1'!AH4=0,SUMSQ($N$14:$N$37)=0),0,IF(M$11=0,0,C21-N21)) -> -0.376 | R21: =O21
A22: Not available for more hours within 4 weeks | B22: ='Calculation 1.1'!W14 -> 79.895 | C22: ='Calculation 1.1'!X14 -> 0.373 | D22: =IF('Calculation 1.1'!Y14>=50,"**",IF('Calculation 1.1'!Y14>=25,"*","")) | F22: ='Calculation 1.1'!AA14 -> 84.826 | G22: ='Calculation 1.1'!AB14 -> 0.399 | H22: =IF(F$11=0,"",IF(AND(MONTH($B$11)=9,YEAR($B$11)<2023),"",IF('Calculation 1.1'!AC14>=50,"**",IF('Calculation 1.1'!AC14>=25,"*","")))) -> * | I22: =IF(OR('Calculation 1.1'!AA4=0,SUMSQ($F$14:$F$37)=0),0,IF(F$11=0,0,B22-F22)) -> -4.931 | J22: =IF(OR('Calculation 1.1'!AA4=0,SUMSQ($G$14:$G$37)=0),0,IF(F$11=0,0,C22-G22)) -> -0.026 | K22: =H22 -> * | M22: ='Calculation 1.1'!AH14 -> 59.334 | N22: ='Calculation 1.1'!AI14 -> 0.283 | O22: =IF(M$11=0,"",IF('Calculation 1.1'!AJ14>=50,"**",IF('Calculation 1.1'!AJ14>=25,"*",""))) -> * | P22: =IF(OR('Calculation 1.1'!AH4=0,SUMSQ($M$14:$M$37)=0),0,IF(M$11=0,0,B22-M22)) -> 20.561 | Q22: =IF(OR('Calculation 1.1'!AH4=0,SUMSQ($N$14:$N$37)=0),0,IF(M$11=0,0,C22-N22)) -> 0.09 | R22: =O22 -> *
A23: Did not prefer to work more hours | B23: ='Calculation 1.1'!W15 -> 3567.555 | C23: ='Calculation 1.1'!X15 -> 16.667 | D23: =IF('Calculation 1.1'!Y15>=50,"**",IF('Calculation 1.1'!Y15>=25,"*","")) | F23: ='Calculation 1.1'!AA15 -> 3454.425 | G23: ='Calculation 1.1'!AB15 -> 16.247 | H23: =IF(F$11=0,"",IF(AND(MONTH($B$11)=9,YEAR($B$11)<2023),"",IF('Calculation 1.1'!AC15>=50,"**",IF('Calculation 1.1'!AC15>=25,"*","")))) | I23: =IF(OR('Calculation 1.1'!AA4=0,SUMSQ($F$14:$F$37)=0),0,IF(F$11=0,0,B23-F23)) -> 113.13 | J23: =IF(OR('Calculation 1.1'!AA4=0,SUMSQ($G$14:$G$37)=0),0,IF(F$11=0,0,C23-G23)) -> 0.42 | K23: =H23 | M23: ='Calculation 1.1'!AH15 -> 3444.922 | N23: ='Calculation 1.1'!AI15 -> 16.424 | O23: =IF(M$11=0,"",IF('Calculation 1.1'!AJ15>=50,"**",IF('Calculation 1.1'!AJ15>=25,"*",""))) | P23: =IF(OR('Calculation 1.1'!AH4=0,SUMSQ($M$14:$M$37)=0),0,IF(M$11=0,0,B23-M23)) -> 122.633 | Q23: =IF(OR('Calculation 1.1'!AH4=0,SUMSQ($N$14:$N$37)=0),0,IF(M$11=0,0,C23-N23)) -> 0.243 | R23: =O23
A24: Unemployed | B24: ='Calculation 1.1'!W16 -> 572.681 | C24: ='Calculation 1.1'!X16 -> 2.675 | D24: =IF('Calculation 1.1'!Y16>=50,"**",IF('Calculation 1.1'!Y16>=25,"*","")) | F24: ='Calculation 1.1'!AA16 -> 582.548 | G24: ='Calculation 1.1'!AB16 -> 2.74 | H24: =IF(F$11=0,"",IF(AND(MONTH($B$11)=9,YEAR($B$11)<2023),"",IF('Calculation 1.1'!AC16>=50,"**",IF('Calculation 1.1'!AC16>=25,"*","")))) | I24: =IF(OR('Calculation 1.1'!AA4=0,SUMSQ($F$14:$F$37)=0),0,IF(F$11=0,0,B24-F24)) -> -9.867 | J24: =IF(OR('Calculation 1.1'!AA4=0,SUMSQ($G$14:$G$37)=0),0,IF(F$11=0,0,C24-G24)) -> -0.065 | K24: =H24 | M24: ='Calculation 1.1'!AH16 -> 532.806 | N24: ='Calculation 1.1'!AI16 -> 2.54 | O24: =IF(M$11=0,"",IF('Calculation 1.1'!AJ16>=50,"**",IF('Calculation 1.1'!AJ16>=25,"*",""))) | P24: =IF(OR('Calculation 1.1'!AH4=0,SUMSQ($M$14:$M$37)=0),0,IF(M$11=0,0,B24-M24)) -> 39.875 | Q24: =IF(OR('Calculation 1.1'!AH4=0,SUMSQ($N$14:$N$37)=0),0,IF(M$11=0,0,C24-N24)) -> 0.135 | R24: =O24
A25: Had a job to start (or return to) | B25: ='Calculation 1.1'!W17 -> 55.461 | C25: ='Calculation 1.1'!X17 -> 0.259 | D25: =IF('Calculation 1.1'!Y17>=50,"**",IF('Calculation 1.1'!Y17>=25,"*","")) -> * | F25: ='Calculation 1.1'!AA17 -> 38.429 | G25: ='Calculation 1.1'!AB17 -> 0.181 | H25: =IF(F$11=0,"",IF(AND(MONTH($B$11)=9,YEAR($B$11)<2023),"",IF('Calculation 1.1'!AC17>=50,"**",IF('Calculation 1.1'!AC17>=25,"*","")))) -> * | I25: =IF(OR('Calculation 1.1'!AA4=0,SUMSQ($F$14:$F$37)=0),0,IF(F$11=0,0,B25-F25)) -> 17.032 | J25: =IF(OR('Calculation 1.1'!AA4=0,SUMSQ($G$14:$G$37)=0),0,IF(F$11=0,0,C25-G25)) -> 0.078 | K25: =H25 -> * | M25: ='Calculation 1.1'!AH17 -> 41.653 | N25: ='Calculation 1.1'!AI17 -> 0.199 | O25: =IF(M$11=0,"",IF('Calculation 1.1'!AJ17>=50,"**",IF('Calculation 1.1'!AJ17>=25,"*",""))) -> * | P25: =IF(OR('Calculation 1.1'!AH4=0,SUMSQ($M$14:$M$37)=0),0,IF(M$11=0,0,B25-M25)) -> 13.808 | Q25: =IF(OR('Calculation 1.1'!AH4=0,SUMSQ($N$14:$N$37)=0),0,IF(M$11=0,0,C25-N25)) -> 0.06 | R25: =O25 -> *
A26: Looked for work | B26: ='Calculation 1.1'!W18 -> 517.22 | C26: ='Calculation 1.1'!X18 -> 2.416 | D26: =IF('Calculation 1.1'!Y18>=50,"**",IF('Calculation 1.1'!Y18>=25,"*","")) | F26: ='Calculation 1.1'!AA18 -> 544.118 | G26: ='Calculation 1.1'!AB18 -> 2.559 | H26: =IF(F$11=0,"",IF(AND(MONTH($B$11)=9,YEAR($B$11)<2023),"",IF('Calculation 1.1'!AC18>=50,"**",IF('Calculation 1.1'!AC18>=25,"*","")))) | I26: =IF(OR('Calculation 1.1'!AA4=0,SUMSQ($F$14:$F$37)=0),0,IF(F$11=0,0,B26-F26)) -> -26.898 | J26: =IF(OR('Calculation 1.1'!AA4=0,SUMSQ($G$14:$G$37)=0),0,IF(F$11=0,0,C26-G26)) -> -0.143 | K26: =H26 | M26: ='Calculation 1.1'!AH18 -> 491.154 | N26: ='Calculation 1.1'!AI18 -> 2.342 | O26: =IF(M$11=0,"",IF('Calculation 1.1'!AJ18>=50,"**",IF('Calculation 1.1'!AJ18>=25,"*",""))) | P26: =IF(OR('Calculation 1.1'!AH4=0,SUMSQ($M$14:$M$37)=0),0,IF(M$11=0,0,B26-M26)) -> 26.066 | Q26: =IF(OR('Calculation 1.1'!AH4=0,SUMSQ($N$14:$N$37)=0),0,IF(M$11=0,0,C26-N26)) -> 0.074 | R26: =O26
A27: Not in the labour force | B27: ='Calculation 1.1'!W19 -> 6663.45 | C27: ='Calculation 1.1'!X19 -> 31.131 | D27: =IF('Calculation 1.1'!Y19>=50,"**",IF('Calculation 1.1'!Y19>=25,"*","")) | F27: ='Calculation 1.1'!AA19 -> 6655.853 | G27: ='Calculation 1.1'!AB19 -> 31.304 | H27: =IF(F$11=0,"",IF(AND(MONTH($B$11)=9,YEAR($B$11)<2023),"",IF('Calculation 1.1'!AC19>=50,"**",IF('Calculation 1.1'!AC19>=25,"*","")))) | I27: =IF(OR('Calculation 1.1'!AA4=0,SUMSQ($F$14:$F$37)=0),0,IF(F$11=0,0,B27-F27)) -> 7.597 | J27: =IF(OR('Calculation 1.1'!AA4=0,SUMSQ($G$14:$G$37)=0),0,IF(F$11=0,0,C27-G27)) -> -0.173 | K27: =H27 | M27: ='Calculation 1.1'!AH19 -> 6471.16 | N27: ='Calculation 1.1'!AI19 -> 30.851 | O27: =IF(M$11=0,"",IF('Calculation 1.1'!AJ19>=50,"**",IF('Calculation 1.1'!AJ19>=25,"*",""))) | P27: =IF(OR('Calculation 1.1'!AH4=0,SUMSQ($M$14:$M$37)=0),0,IF(M$11=0,0,B27-M27)) -> 192.29 | Q27: =IF(OR('Calculation 1.1'!AH4=0,SUMSQ($N$14:$N$37)=0),0,IF(M$11=0,0,C27-N27)) -> 0.28 | R27: =O27
A28: Had a job to start or return to | B28: ='Calculation 1.1'!W20 -> 119.052 | C28: ='Calculation 1.1'!X20 -> 0.556 | D28: =IF('Calculation 1.1'!Y20>=50,"**",IF('Calculation 1.1'!Y20>=25,"*","")) -> * | F28: ='Calculation 1.1'!AA20 -> 142.623 | G28: ='Calculation 1.1'!AB20 -> 0.671 | H28: =IF(F$11=0,"",IF(AND(MONTH($B$11)=9,YEAR($B$11)<2023),"",IF('Calculation 1.1'!AC20>=50,"**",IF('Calculation 1.1'!AC20>=25,"*","")))) | I28: =IF(OR('Calculation 1.1'!AA4=0,SUMSQ($F$14:$F$37)=0),0,IF(F$11=0,0,B28-F28)) -> -23.571 | J28: =IF(OR('Calculation 1.1'!AA4=0,SUMSQ($G$14:$G$37)=0),0,IF(F$11=0,0,C28-G28)) -> -0.115 | K28: =H28 | M28: ='Calculation 1.1'!AH20 -> 130.732 | N28: ='Calculation 1.1'!AI20 -> 0.623 | O28: =IF(M$11=0,"",IF('Calculation 1.1'!AJ20>=50,"**",IF('Calculation 1.1'!AJ20>=25,"*",""))) | P28: =IF(OR('Calculation 1.1'!AH4=0,SUMSQ($M$14:$M$37)=0),0,IF(M$11=0,0,B28-M28)) -> -11.68 | Q28: =IF(OR('Calculation 1.1'!AH4=0,SUMSQ($N$14:$N$37)=0),0,IF(M$11=0,0,C28-N28)) -> -0.067 | R28: =O28
A29: Wanted a paid job | B29: ='Calculation 1.1'!W21 -> 857.373 | C29: ='Calculation 1.1'!X21 -> 4.006 | D29: =IF('Calculation 1.1'!Y21>=50,"**",IF('Calculation 1.1'!Y21>=25,"*","")) | F29: ='Calculation 1.1'!AA21 -> 612.695 | G29: ='Calculation 1.1'!AB21 -> 2.882 | H29: =IF(F$11=0,"",IF(AND(MONTH($B$11)=9,YEAR($B$11)<2023),"",IF('Calculation 1.1'!AC21>=50,"**",IF('Calculation 1.1'!AC21>=25,"*","")))) | I29: =IF(OR('Calculation 1.1'!AA4=0,SUMSQ($F$14:$F$37)=0),0,IF(F$11=0,0,B29-F29)) -> 244.678 | J29: =IF(OR('Calculation 1.1'!AA4=0,SUMSQ($G$14:$G$37)=0),0,IF(F$11=0,0,C29-G29)) -> 1.124 | K29: =H29 | M29: ='Calculation 1.1'!AH21 -> 679.699 | N29: ='Calculation 1.1'!AI21 -> 3.24 | O29: =IF(M$11=0,"",IF('Calculation 1.1'!AJ21>=50,"**",IF('Calculation 1.1'!AJ21>=25,"*",""))) | P29: =IF(OR('Calculation 1.1'!AH4=0,SUMSQ($M$14:$M$37)=0),0,IF(M$11=0,0,B29-M29)) -> 177.674 | Q29: =IF(OR('Calculation 1.1'!AH4=0,SUMSQ($N$14:$N$37)=0),0,IF(M$11=0,0,C29-N29)) -> 0.766 | R29: =O29
A30: Available within 4 weeks | B30: ='Calculation 1.1'!W22 -> 684.941 | C30: ='Calculation 1.1'!X22 -> 3.2 | D30: =IF('Calculation 1.1'!Y22>=50,"**",IF('Calculation 1.1'!Y22>=25,"*","")) | F30: ='Calculation 1.1'!AA22 -> 473.161 | G30: ='Calculation 1.1'!AB22 -> 2.225 | H30: =IF(F$11=0,"",IF(AND(MONTH($B$11)=9,YEAR($B$11)<2023),"",IF('Calculation 1.1'!AC22>=50,"**",IF('Calculation 1.1'!AC22>=25,"*","")))) | I30: =IF(OR('Calculation 1.1'!AA4=0,SUMSQ($F$14:$F$37)=0),0,IF(F$11=0,0,B30-F30)) -> 211.78 | J30: =IF(OR('Calculation 1.1'!AA4=0,SUMSQ($G$14:$G$37)=0),0,IF(F$11=0,0,C30-G30)) -> 0.975 | K30: =H30 | M30: ='Calculation 1.1'!AH22 -> 608.214 | N30: ='Calculation 1.1'!AI22 -> 2.9 | O30: =IF(M$11=0,"",IF('Calculation 1.1'!AJ22>=50,"**",IF('Calculation 1.1'!AJ22>=25,"*",""))) | P30: =IF(OR('Calculation 1.1'!AH4=0,SUMSQ($M$14:$M$37)=0),0,IF(M$11=0,0,B30-M30)) -> 76.727 | Q30: =IF(OR('Calculation 1.1'!AH4=0,SUMSQ($N$14:$N$37)=0),0,IF(M$11=0,0,C30-N30)) -> 0.3 | R30: =O30
A31: Looked for work | B31: ='Calculation 1.1'!W23 -> 95.905 | C31: ='Calculation 1.1'!X23 -> 0.448 | D31: =IF('Calculation 1.1'!Y23>=50,"**",IF('Calculation 1.1'!Y23>=25,"*","")) -> * | F31: ='Calculation 1.1'!AA23 -> 65.368 | G31: ='Calculation 1.1'!AB23 -> 0.307 | H31: =IF(F$11=0,"",IF(AND(MONTH($B$11)=9,YEAR($B$11)<2023),"",IF('Calculation 1.1'!AC23>=50,"**",IF('Calculation 1.1'!AC23>=25,"*","")))) -> * | I31: =IF(OR('Calculation 1.1'!AA4=0,SUMSQ($F$14:$F$37)=0),0,IF(F$11=0,0,B31-F31)) -> 30.537 | J31: =IF(OR('Calculation 1.1'!AA4=0,SUMSQ($G$14:$G$37)=0),0,IF(F$11=0,0,C31-G31)) -> 0.141 | K31: =H31 -> * | M31: ='Calculation 1.1'!AH23 -> 62.774 | N31: ='Calculation 1.1'!AI23 -> 0.299 | O31: =IF(M$11=0,"",IF('Calculation 1.1'!AJ23>=50,"**",IF('Calculation 1.1'!AJ23>=25,"*",""))) -> * | P31: =IF(OR('Calculation 1.1'!AH4=0,SUMSQ($M$14:$M$37)=0),0,IF(M$11=0,0,B31-M31)) -> 33.131 | Q31: =IF(OR('Calculation 1.1'!AH4=0,SUMSQ($N$14:$N$37)=0),0,IF(M$11=0,0,C31-N31)) -> 0.149 | R31: =O31 -> *
A32: Did not look for work | B32: ='Calculation 1.1'!W24 -> 589.036 | C32: ='Calculation 1.1'!X24 -> 2.752 | D32: =IF('Calculation 1.1'!Y24>=50,"**",IF('Calculation 1.1'!Y24>=25,"*","")) | F32: ='Calculation 1.1'!AA24 -> 407.793 | G32: ='Calculation 1.1'!AB24 -> 1.918 | H32: =IF(F$11=0,"",IF(AND(MONTH($B$11)=9,YEAR($B$11)<2023),"",IF('Calculation 1.1'!AC24>=50,"**",IF('Calculation 1.1'!AC24>=25,"*","")))) | I32: =IF(OR('Calculation 1.1'!AA4=0,SUMSQ($F$14:$F$37)=0),0,IF(F$11=0,0,B32-F32)) -> 181.243 | J32: =IF(OR('Calculation 1.1'!AA4=0,SUMSQ($G$14:$G$37)=0),0,IF(F$11=0,0,C32-G32)) -> 0.834 | K32: =H32 | M32: ='Calculation 1.1'!AH24 -> 545.44 | N32: ='Calculation 1.1'!AI24 -> 2.6 | O32: =IF(M$11=0,"",IF('Calculation 1.1'!AJ24>=50,"**",IF('Calculation 1.1'!AJ24>=25,"*",""))) | P32: =IF(OR('Calculation 1.1'!AH4=0,SUMSQ($M$14:$M$37)=0),0,IF(M$11=0,0,B32-M32)) -> 43.596 | Q32: =IF(OR('Calculation 1.1'!AH4=0,SUMSQ($N$14:$N$37)=0),0,IF(M$11=0,0,C32-N32)) -> 0.152 | R32: =O32
A33: Not available within 4 weeks | B33: ='Calculation 1.1'!W25 -> 172.432 | C33: ='Calculation 1.1'!X25 -> 0.806 | D33: =IF('Calculation 1.1'!Y25>=50,"**",IF('Calculation 1.1'!Y25>=25,"*","")) | F33: ='Calculation 1.1'!AA25 -> 139.535 | G33: ='Calculation 1.1'!AB25 -> 0.656 | H33: =IF(F$11=0,"",IF(AND(MONTH($B$11)=9,YEAR($B$11)<2023),"",IF('Calculation 1.1'!AC25>=50,"**",IF('Calculation 1.1'!AC25>=25,"*","")))) | I33: =IF(OR('Calculation 1.1'!AA4=0,SUMSQ($F$14:$F$37)=0),0,IF(F$11=0,0,B33-F33)) -> 32.897 | J33: =IF(OR('Calculation 1.1'!AA4=0,SUMSQ($G$14:$G$37)=0),0,IF(F$11=0,0,C33-G33)) -> 0.15 | K33: =H33 | M33: ='Calculation 1.1'!AH25 -> 71.485 | N33: ='Calculation 1.1'!AI25 -> 0.341 | O33: =IF(M$11=0,"",IF('Calculation 1.1'!AJ25>=50,"**",IF('Calculation 1.1'!AJ25>=25,"*",""))) -> * | P33: =IF(OR('Calculation 1.1'!AH4=0,SUMSQ($M$14:$M$37)=0),0,IF(M$11=0,0,B33-M33)) -> 100.947 | Q33: =IF(OR('Calculation 1.1'!AH4=0,SUMSQ($N$14:$N$37)=0),0,IF(M$11=0,0,C33-N33)) -> 0.465 | R33: =O33 -> *
A34: Did not want a paid job | B34: ='Calculation 1.1'!W26 -> 5687.024 | C34: ='Calculation 1.1'!X26 -> 26.569 | D34: =IF('Calculation 1.1'!Y26>=50,"**",IF('Calculation 1.1'!Y26>=25,"*","")) | F34: ='Calculation 1.1'!AA26 -> 5900.535 | G34: ='Calculation 1.1'!AB26 -> 27.751 | H34: =IF(F$11=0,"",IF(AND(MONTH($B$11)=9,YEAR($B$11)<2023),"",IF('Calculation 1.1'!AC26>=50,"**",IF('Calculation 1.1'!AC26>=25,"*","")))) | I34: =IF(OR('Calculation 1.1'!AA4=0,SUMSQ($F$14:$F$37)=0),0,IF(F$11=0,0,B34-F34)) -> -213.511 | J34: =IF(OR('Calculation 1.1'!AA4=0,SUMSQ($G$14:$G$37)=0),0,IF(F$11=0,0,C34-G34)) -> -1.182 | K34: =H34 | M34: ='Calculation 1.1'!AH26 -> 5660.729 | N34: ='Calculation 1.1'!AI26 -> 26.988 | O34: =IF(M$11=0,"",IF('Calculation 1.1'!AJ26>=50,"**",IF('Calculation 1.1'!AJ26>=25,"*",""))) | P34: =IF(OR('Calculation 1.1'!AH4=0,SUMSQ($M$14:$M$37)=0),0,IF(M$11=0,0,B34-M34)) -> 26.295 | Q34: =IF(OR('Calculation 1.1'!AH4=0,SUMSQ($N$14:$N$37)=0),0,IF(M$11=0,0,C34-N34)) -> -0.419 | R34: =O34
A35: Did not want a paid job, excluding retired and unable to work | B35: ='Calculation 1.1'!W27 -> 2153.33 | C35: ='Calculation 1.1'!X27 -> 10.06 | D35: =IF('Calculation 1.1'!Y27>=50,"**",IF('Calculation 1.1'!Y27>=25,"*","")) | F35: ='Calculation 1.1'!AA27 -> 2589.933 | G35: ='Calculation 1.1'!AB27 -> 12.181 | H35: =IF(F$11=0,"",IF(AND(MONTH($B$11)=9,YEAR($B$11)<2023),"",IF('Calculation 1.1'!AC27>=50,"**",IF('Calculation 1.1'!AC27>=25,"*","")))) | I35: =IF(OR('Calculation 1.1'!AA4=0,SUMSQ($F$14:$F$37)=0),0,IF(F$11=0,0,B35-F35)) -> -436.603 | J35: =IF(OR('Calculation 1.1'!AA4=0,SUMSQ($G$14:$G$37)=0),0,IF(F$11=0,0,C35-G35)) -> -2.121 | K35: =H35 | M35: ='Calculation 1.1'!AH27 -> 2398.858 | N35: ='Calculation 1.1'!AI27 -> 11.437 | O35: =IF(M$11=0,"",IF('Calculation 1.1'!AJ27>=50,"**",IF('Calculation 1.1'!AJ27>=25,"*",""))) | P35: =IF(OR('Calculation 1.1'!AH4=0,SUMSQ($M$14:$M$37)=0),0,IF(M$11=0,0,B35-M35)) -> -245.528 | Q35: =IF(OR('Calculation 1.1'!AH4=0,SUMSQ($N$14:$N$37)=0),0,IF(M$11=0,0,C35-N35)) -> -1.377 | R35: =O35
A36: Retired or permanently unable to work | B36: ='Calculation 1.1'!W28 -> 3533.694 | C36: ='Calculation 1.1'!X28 -> 16.509 | D36: =IF('Calculation 1.1'!Y28>=50,"**",IF('Calculation 1.1'!Y28>=25,"*","")) | F36: ='Calculation 1.1'!AA28 -> 3310.602 | G36: ='Calculation 1.1'!AB28 -> 15.57 | H36: =IF(F$11=0,"",IF(AND(MONTH($B$11)=9,YEAR($B$11)<2023),"",IF('Calculation 1.1'!AC28>=50,"**",IF('Calculation 1.1'!AC28>=25,"*","")))) | I36: =IF(OR('Calculation 1.1'!AA4=0,SUMSQ($F$14:$F$37)=0),0,IF(F$11=0,0,B36-F36)) -> 223.092 | J36: =IF(OR('Calculation 1.1'!AA4=0,SUMSQ($G$14:$G$37)=0),0,IF(F$11=0,0,C36-G36)) -> 0.939 | K36: =H36 | M36: ='Calculation 1.1'!AH28 -> 3261.871 | N36: ='Calculation 1.1'!AI28 -> 15.551 | O36: =IF(M$11=0,"",IF('Calculation 1.1'!AJ28>=50,"**",IF('Calculation 1.1'!AJ28>=25,"*",""))) | P36: =IF(OR('Calculation 1.1'!AH4=0,SUMSQ($M$14:$M$37)=0),0,IF(M$11=0,0,B36-M36)) -> 271.823 | Q36: =IF(OR('Calculation 1.1'!AH4=0,SUMSQ($N$14:$N$37)=0),0,IF(M$11=0,0,C36-N36)) -> 0.958 | R36: =O36
A37: TOTAL | B37: ='Calculation 1.1'!W29 -> 21404.669 | C37: ='Calculation 1.1'!X29 -> 100 | D37: =IF('Calculation 1.1'!Y29>=50,"**",IF('Calculation 1.1'!Y29>=25,"*","")) | F37: ='Calculation 1.1'!AA29 -> 21262.079 | G37: ='Calculation 1.1'!AB29 -> 100 | H37: =IF(F$11=0,"",IF(AND(MONTH($B$11)=9,YEAR($B$11)<2023),"",IF('Calculation 1.1'!AC29>=50,"**",IF('Calculation 1.1'!AC29>=25,"*","")))) | I37: =IF(OR('Calculation 1.1'!AA4=0,SUMSQ($F$14:$F$37)=0),0,IF(F$11=0,0,B37-F37)) -> 142.59 | J37: =IF(OR('Calculation 1.1'!AA4=0,SUMSQ($G$14:$G$37)=0),0,IF(F$11=0,0,C37-G37)) -> 0 | K37: =H37 | M37: ='Calculation 1.1'!AH29 -> 20975.232 | N37: ='Calculation 1.1'!AI29 -> 100 | O37: =IF(M$11=0,"",IF('Calculation 1.1'!AJ29>=50,"**",IF('Calculation 1.1'!AJ29>=25,"*",""))) | P37: =IF(OR('Calculation 1.1'!AH4=0,SUMSQ($M$14:$M$37)=0),0,IF(M$11=0,0,B37-M37)) -> 429.437 | Q37: =IF(OR('Calculation 1.1'!AH4=0,SUMSQ($N$14:$N$37)=0),0,IF(M$11=0,0,C37-N37)) -> 0 | R37: =O37
A39: * estimate has a relative standard error of 25% to 50% and should be used with caution
A40: ** estimate has a relative standard error greater than 50% and is considered too unreliable for general use
A42: ="© Commonwealth of Australia "&YEAR(TODAY()) -> © Commonwealth of Australia 2026

Sheet Table 1.2
A1: Australian Bureau of Statistics
A2: =Contents!A2 -> 6239.0 Barriers and Incentives to Labour Force Participation, Jun 2026
A3: =Contents!A3 -> Released at 11:30 am (Canberra time) Wed 28 October 2026
A4: =Contents!C8 -> Table 1.2 - Employment
A6: Select Scope | B6: People aged 18 years and over
A7: Select Population of interest | B7: People aged 18 years and over
A8: Select Sex | B8: Persons
B10: Employed | AH10: Unemployed | AR10: In the labour force | AV10: Not in the labour force | AZ10: TOTAL
B11: Usually worked full-time | F11: Usually worked part-time | AD11: Total | AH11: Had a job to start (or return to) | AK11: Looked for work | AN11: Total
F12: Preferred to work more hours | V12: Did not prefer to work more hours | Z12: Total
F13: Available for more hours within 4 weeks | O13: Not available for more hours within 4 weeks | R13: Total
F14: Looked for more hours | I14: Did not look for more hours | L14: Total
B15: '000 | C15: % | F15: '000 | G15: % | I15: '000 | J15: % | L15: '000 | M15: % | O15: '000 | P15: % | R15: '000 | S15: % | V15: '000 | W15: % | Z15: '000 | AA15: % | AD15: '000 | AE15: % | AH15: '000 | AI15: % | AK15: '000 | AL15: % | AN15: '000 | AO15: % | AR15: '000 | AS15: % | AV15: '000 | AW15: % | AZ15: '000 | BA15: %
A16: 2014-15
A17: 41883 | B17: ='Calculation 1.2'!Q5 -> 7720.701 | C17: ='Calculation 1.2'!R5 -> 44.316 | D17: =IF('Calculation 1.2'!S5="","",IF('Calculation 1.2'!S5>=50,"**",IF('Calculation 1.2'!S5>=25,"*",""))) | F17: ='Calculation 1.2'!U5 -> 457.099 | G17: ='Calculation 1.2'!V5 -> 2.624 | H17: =IF('Calculation 1.2'!W5="","",IF('Calculation 1.2'!W5>=50,"**",IF('Calculation 1.2'!W5>=25,"*",""))) | I17: ='Calculation 1.2'!X5 -> 409.884 | J17: ='Calculation 1.2'!Y5 -> 2.353 | K17: =IF('Calculation 1.2'!Z5="","",IF('Calculation 1.2'!Z5>=50,"**",IF('Calculation 1.2'!Z5>=25,"*",""))) | L17: ='Calculation 1.2'!AA5 -> 866.983 | M17: ='Calculation 1.2'!AB5 -> 4.976 | N17: =IF('Calculation 1.2'!AC5="","",IF('Calculation 1.2'!AC5>=50,"**",IF('Calculation 1.2'!AC5>=25,"*",""))) | O17: ='Calculation 1.2'!AD5 -> 68.479 | P17: ='Calculation 1.2'!AE5 -> 0.393 | Q17: =IF('Calculation 1.2'!AF5="","",IF('Calculation 1.2'!AF5>=50,"**",IF('Calculation 1.2'!AF5>=25,"*",""))) -> * | R17: ='Calculation 1.2'!AG5 -> 935.462 | S17: ='Calculation 1.2'!AH5 -> 5.369 | T17: =IF('Calculation 1.2'!AI5="","",IF('Calculation 1.2'!AI5>=50,"**",IF('Calculation 1.2'!AI5>=25,"*",""))) | V17: ='Calculation 1.2'!AK5 -> 2427.967 | W17: ='Calculation 1.2'!AL5 -> 13.936 | X17: =IF('Calculation 1.2'!AM5="","",IF('Calculation 1.2'!AM5>=50,"**",IF('Calculation 1.2'!AM5>=25,"*",""))) | Z17: ='Calculation 1.2'!AO5 -> 3363.429 | AA17: ='Calculation 1.2'!AP5 -> 19.306 | AB17: =IF('Calculation 1.2'!AQ5="","",IF('Calculation 1.2'!AQ5>=50,"**",IF('Calculation 1.2'!AQ5>=25,"*",""))) | AD17: ='Calculation 1.2'!AS5 -> 11084.13 | AE17: ='Calculation 1.2'!AT5 -> 63.622 | AF17: =IF('Calculation 1.2'!AU5="","",IF('Calculation 1.2'!AU5>=50,"**",IF('Calculation 1.2'!AU5>=25,"*",""))) | AH17: ='Calculation 1.2'!AW5 -> 22.987 | AI17: ='Calculation 1.2'!AX5 -> 0.132 | AJ17: =IF('Calculation 1.2'!AY5="","",IF('Calculation 1.2'!AY5>=50,"**",IF('Calculation 1.2'!AY5>=25,"*",""))) -> ** | AK17: ='Calculation 1.2'!AZ5 -> 636.426 | AL17: ='Calculation 1.2'!BA5 -> 3.653 | AM17: =IF('Calculation 1.2'!BB5="","",IF('Calculation 1.2'!BB5>=50,"**",IF('Calculation 1.2'!BB5>=25,"*",""))) | AN17: ='Calculation 1.2'!BC5 -> 659.413 | AO17: ='Calculation 1.2'!BD5 -> 3.785 | AP17: =IF('Calculation 1.2'!BE5="","",IF('Calculation 1.2'!BE5>=50,"**",IF('Calculation 1.2'!BE5>=25,"*",""))) | AR17: ='Calculation 1.2'!BG5 -> 11743.543 | AS17: ='Calculation 1.2'!BH5 -> 67.407 | AT17: =IF('Calculation 1.2'!BI5="","",IF('Calculation 1.2'!BI5>=50,"**",IF('Calculation 1.2'!BI5>=25,"*",""))) | AV17: ='Calculation 1.2'!BK5 -> 5678.354 | AW17: ='Calculation 1.2'!BL5 -> 32.593 | AX17: =IF('Calculation 1.2'!BM5="","",IF('Calculation 1.2'!BM5>=50,"**",IF('Calculation 1.2'!BM5>=25,"*",""))) | AZ17: ='Calculation 1.2'!BO5 -> 17421.897 | BA17: ='Calculation 1.2'!BP5 -> 100 | BB17: =IF('Calculation 1.2'!BQ5="","",IF('Calculation 1.2'!BQ5>=50,"**",IF('Calculation 1.2'!BQ5>=25,"*","")))
A18: 41974 | B18: ='Calculation 1.2'!Q6 -> 7813.985 | C18: ='Calculation 1.2'!R6 -> 44.575 | D18: =IF('Calculation 1.2'!S6="","",IF('Calculation 1.2'!S6>=50,"**",IF('Calculation 1.2'!S6>=25,"*",""))) | F18: ='Calculation 1.2'!U6 -> 509.81 | G18: ='Calculation 1.2'!V6 -> 2.908 | H18: =IF('Calculation 1.2'!W6="","",IF('Calculation 1.2'!W6>=50,"**",IF('Calculation 1.2'!W6>=25,"*",""))) | I18: ='Calculation 1.2'!X6 -> 452.925 | J18: ='Calculation 1.2'!Y6 -> 2.584 | K18: =IF('Calculation 1.2'!Z6="","",IF('Calculation 1.2'!Z6>=50,"**",IF('Calculation 1.2'!Z6>=25,"*",""))) | L18: ='Calculation 1.2'!AA6 -> 962.735 | M18: ='Calculation 1.2'!AB6 -> 5.492 | N18: =IF('Calculation 1.2'!AC6="","",IF('Calculation 1.2'!AC6>=50,"**",IF('Calculation 1.2'!AC6>=25,"*",""))) | O18: ='Calculation 1.2'!AD6 -> 39.588 | P18: ='Calculation 1.2'!AE6 -> 0.226 | Q18: =IF('Calculation 1.2'!AF6="","",IF('Calculation 1.2'!AF6>=50,"**",IF('Calculation 1.2'!AF6>=25,"*",""))) -> * | R18: ='Calculation 1.2'!AG6 -> 1002.323 | S18: ='Calculation 1.2'!AH6 -> 5.718 | T18: =IF('Calculation 1.2'!AI6="","",IF('Calculation 1.2'!AI6>=50,"**",IF('Calculation 1.2'!AI6>=25,"*",""))) | V18: ='Calculation 1.2'!AK6 -> 2358.56 | W18: ='Calculation 1.2'!AL6 -> 13.455 | X18: =IF('Calculation 1.2'!AM6="","",IF('Calculation 1.2'!AM6>=50,"**",IF('Calculation 1.2'!AM6>=25,"*",""))) | Z18: ='Calculation 1.2'!AO6 -> 3360.883 | AA18: ='Calculation 1.2'!AP6 -> 19.172 | AB18: =IF('Calculation 1.2'!AQ6="","",IF('Calculation 1.2'!AQ6>=50,"**",IF('Calculation 1.2'!AQ6>=25,"*",""))) | AD18: ='Calculation 1.2'!AS6 -> 11174.868 | AE18: ='Calculation 1.2'!AT6 -> 63.748 | AF18: =IF('Calculation 1.2'!AU6="","",IF('Calculation 1.2'!AU6>=50,"**",IF('Calculation 1.2'!AU6>=25,"*",""))) | AH18: ='Calculation 1.2'!AW6 -> 20.896 | AI18: ='Calculation 1.2'!AX6 -> 0.119 | AJ18: =IF('Calculation 1.2'!AY6="","",IF('Calculation 1.2'!AY6>=50,"**",IF('Calculation 1.2'!AY6>=25,"*",""))) -> ** | AK18: ='Calculation 1.2'!AZ6 -> 613.476 | AL18: ='Calculation 1.2'!BA6 -> 3.5 | AM18: =IF('Calculation 1.2'!BB6="","",IF('Calculation 1.2'!BB6>=50,"**",IF('Calculation 1.2'!BB6>=25,"*",""))) | AN18: ='Calculation 1.2'!BC6 -> 634.372 | AO18: ='Calculation 1.2'!BD6 -> 3.619 | AP18: =IF('Calculation 1.2'!BE6="","",IF('Calculation 1.2'!BE6>=50,"**",IF('Calculation 1.2'!BE6>=25,"*",""))) | AR18: ='Calculation 1.2'!BG6 -> 11809.24 | AS18: ='Calculation 1.2'!BH6 -> 67.366 | AT18: =IF('Calculation 1.2'!BI6="","",IF('Calculation 1.2'!BI6>=50,"**",IF('Calculation 1.2'!BI6>=25,"*",""))) | AV18: ='Calculation 1.2'!BK6 -> 5720.616 | AW18: ='Calculation 1.2'!BL6 -> 32.634 | AX18: =IF('Calculation 1.2'!BM6="","",IF('Calculation 1.2'!BM6>=50,"**",IF('Calculation 1.2'!BM6>=25,"*",""))) | AZ18: ='Calculation 1.2'!BO6 -> 17529.856 | BA18: ='Calculation 1.2'!BP6 -> 100 | BB18: =IF('Calculation 1.2'!BQ6="","",IF('Calculation 1.2'!BQ6>=50,"**",IF('Calculation 1.2'!BQ6>=25,"*","")))
A19: 42064 | B19: ='Calculation 1.2'!Q7 -> 7776.817 | C19: ='Calculation 1.2'!R7 -> 44.207 | D19: =IF('Calculation 1.2'!S7="","",IF('Calculation 1.2'!S7>=50,"**",IF('Calculation 1.2'!S7>=25,"*",""))) | F19: ='Calculation 1.2'!U7 -> 462.905 | G19: ='Calculation 1.2'!V7 -> 2.631 | H19: =IF('Calculation 1.2'!W7="","",IF('Calculation 1.2'!W7>=50,"**",IF('Calculation 1.2'!W7>=25,"*",""))) | I19: ='Calculation 1.2'!X7 -> 314.612 | J19: ='Calculation 1.2'!Y7 -> 1.788 | K19: =IF('Calculation 1.2'!Z7="","",IF('Calculation 1.2'!Z7>=50,"**",IF('Calculation 1.2'!Z7>=25,"*",""))) | L19: ='Calculation 1.2'!AA7 -> 777.517 | M19: ='Calculation 1.2'!AB7 -> 4.42 | N19: =IF('Calculation 1.2'!AC7="","",IF('Calculation 1.2'!AC7>=50,"**",IF('Calculation 1.2'!AC7>=25,"*",""))) | O19: ='Calculation 1.2'!AD7 -> 86.041 | P19: ='Calculation 1.2'!AE7 -> 0.489 | Q19: =IF('Calculation 1.2'!AF7="","",IF('Calculation 1.2'!AF7>=50,"**",IF('Calculation 1.2'!AF7>=25,"*",""))) -> * | R19: ='Calculation 1.2'!AG7 -> 863.558 | S19: ='Calculation 1.2'!AH7 -> 4.909 | T19: =IF('Calculation 1.2'!AI7="","",IF('Calculation 1.2'!AI7>=50,"**",IF('Calculation 1.2'!AI7>=25,"*",""))) | V19: ='Calculation 1.2'!AK7 -> 2531.58 | W19: ='Calculation 1.2'!AL7 -> 14.391 | X19: =IF('Calculation 1.2'!AM7="","",IF('Calculation 1.2'!AM7>=50,"**",IF('Calculation 1.2'!AM7>=25,"*",""))) | Z19: ='Calculation 1.2'!AO7 -> 3395.139 | AA19: ='Calculation 1.2'!AP7 -> 19.299 | AB19: =IF('Calculation 1.2'!AQ7="","",IF('Calculation 1.2'!AQ7>=50,"**",IF('Calculation 1.2'!AQ7>=25,"*",""))) | AD19: ='Calculation 1.2'!AS7 -> 11171.956 | AE19: ='Calculation 1.2'!AT7 -> 63.506 | AF19: =IF('Calculation 1.2'!AU7="","",IF('Calculation 1.2'!AU7>=50,"**",IF('Calculation 1.2'!AU7>=25,"*",""))) | AH19: ='Calculation 1.2'!AW7 -> 63.17 | AI19: ='Calculation 1.2'!AX7 -> 0.359 | AJ19: =IF('Calculation 1.2'!AY7="","",IF('Calculation 1.2'!AY7>=50,"**",IF('Calculation 1.2'!AY7>=25,"*",""))) -> * | AK19: ='Calculation 1.2'!AZ7 -> 668.083 | AL19: ='Calculation 1.2'!BA7 -> 3.798 | AM19: =IF('Calculation 1.2'!BB7="","",IF('Calculation 1.2'!BB7>=50,"**",IF('Calculation 1.2'!BB7>=25,"*",""))) | AN19: ='Calculation 1.2'!BC7 -> 731.253 | AO19: ='Calculation 1.2'!BD7 -> 4.157 | AP19: =IF('Calculation 1.2'!BE7="","",IF('Calculation 1.2'!BE7>=50,"**",IF('Calculation 1.2'!BE7>=25,"*",""))) | AR19: ='Calculation 1.2'!BG7 -> 11903.208 | AS19: ='Calculation 1.2'!BH7 -> 67.663 | AT19: =IF('Calculation 1.2'!BI7="","",IF('Calculation 1.2'!BI7>=50,"**",IF('Calculation 1.2'!BI7>=25,"*",""))) | AV19: ='Calculation 1.2'!BK7 -> 5688.647 | AW19: ='Calculation 1.2'!BL7 -> 32.337 | AX19: =IF('Calculation 1.2'!BM7="","",IF('Calculation 1.2'!BM7>=50,"**",IF('Calculation 1.2'!BM7>=25,"*",""))) | AZ19: ='Calculation 1.2'!BO7 -> 17591.856 | BA19: ='Calculation 1.2'!BP7 -> 100 | BB19: =IF('Calculation 1.2'!BQ7="","",IF('Calculation 1.2'!BQ7>=50,"**",IF('Calculation 1.2'!BQ7>=25,"*","")))
A20: 42156 | B20: ='Calculation 1.2'!Q8 -> 7823.997 | C20: ='Calculation 1.2'!R8 -> 44.317 | D20: =IF('Calculation 1.2'!S8="","",IF('Calculation 1.2'!S8>=50,"**",IF('Calculation 1.2'!S8>=25,"*",""))) | F20: ='Calculation 1.2'!U8 -> 450.886 | G20: ='Calculation 1.2'!V8 -> 2.554 | H20: =IF('Calculation 1.2'!W8="","",IF('Calculation 1.2'!W8>=50,"**",IF('Calculation 1.2'!W8>=25,"*",""))) | I20: ='Calculation 1.2'!X8 -> 392.275 | J20: ='Calculation 1.2'!Y8 -> 2.222 | K20: =IF('Calculation 1.2'!Z8="","",IF('Calculation 1.2'!Z8>=50,"**",IF('Calculation 1.2'!Z8>=25,"*",""))) | L20: ='Calculation 1.2'!AA8 -> 843.16 | M20: ='Calculation 1.2'!AB8 -> 4.776 | N20: =IF('Calculation 1.2'!AC8="","",IF('Calculation 1.2'!AC8>=50,"**",IF('Calculation 1.2'!AC8>=25,"*",""))) | O20: ='Calculation 1.2'!AD8 -> 68.709 | P20: ='Calculation 1.2'!AE8 -> 0.389 | Q20: =IF('Calculation 1.2'!AF8="","",IF('Calculation 1.2'!AF8>=50,"**",IF('Calculation 1.2'!AF8>=25,"*",""))) -> * | R20: ='Calculation 1.2'!AG8 -> 911.87 | S20: ='Calculation 1.2'!AH8 -> 5.165 | T20: =IF('Calculation 1.2'!AI8="","",IF('Calculation 1.2'!AI8>=50,"**",IF('Calculation 1.2'!AI8>=25,"*",""))) | V20: ='Calculation 1.2'!AK8 -> 2566.645 | W20: ='Calculation 1.2'!AL8 -> 14.538 | X20: =IF('Calculation 1.2'!AM8="","",IF('Calculation 1.2'!AM8>=50,"**",IF('Calculation 1.2'!AM8>=25,"*",""))) | Z20: ='Calculation 1.2'!AO8 -> 3478.515 | AA20: ='Calculation 1.2'!AP8 -> 19.703 | AB20: =IF('Calculation 1.2'!AQ8="","",IF('Calculation 1.2'!AQ8>=50,"**",IF('Calculation 1.2'!AQ8>=25,"*",""))) | AD20: ='Calculation 1.2'!AS8 -> 11302.511 | AE20: ='Calculation 1.2'!AT8 -> 64.021 | AF20: =IF('Calculation 1.2'!AU8="","",IF('Calculation 1.2'!AU8>=50,"**",IF('Calculation 1.2'!AU8>=25,"*",""))) | AH20: ='Calculation 1.2'!AW8 -> 17.142 | AI20: ='Calculation 1.2'!AX8 -> 0.097 | AJ20: =IF('Calculation 1.2'!AY8="","",IF('Calculation 1.2'!AY8>=50,"**",IF('Calculation 1.2'!AY8>=25,"*",""))) -> ** | AK20: ='Calculation 1.2'!AZ8 -> 635.554 | AL20: ='Calculation 1.2'!BA8 -> 3.6 | AM20: =IF('Calculation 1.2'!BB8="","",IF('Calculation 1.2'!BB8>=50,"**",IF('Calculation 1.2'!BB8>=25,"*",""))) | AN20: ='Calculation 1.2'!BC8 -> 652.697 | AO20: ='Calculation 1.2'!BD8 -> 3.697 | AP20: =IF('Calculation 1.2'!BE8="","",IF('Calculation 1.2'!BE8>=50,"**",IF('Calculation 1.2'!BE8>=25,"*",""))) | AR20: ='Calculation 1.2'!BG8 -> 11955.208 | AS20: ='Calculation 1.2'!BH8 -> 67.718 | AT20: =IF('Calculation 1.2'!BI8="","",IF('Calculation 1.2'!BI8>=50,"**",IF('Calculation 1.2'!BI8>=25,"*",""))) | AV20: ='Calculation 1.2'!BK8 -> 5699.309 | AW20: ='Calculation 1.2'!BL8 -> 32.282 | AX20: =IF('Calculation 1.2'!BM8="","",IF('Calculation 1.2'!BM8>=50,"**",IF('Calculation 1.2'!BM8>=25,"*",""))) | AZ20: ='Calculation 1.2'!BO8 -> 17654.518 | BA20: ='Calculation 1.2'!BP8 -> 100 | BB20: =IF('Calculation 1.2'!BQ8="","",IF('Calculation 1.2'!BQ8>=50,"**",IF('Calculation 1.2'!BQ8>=25,"*","")))
A21: =TEXT(DATE(YEAR(A17)+2,1,1),"yyyy") & "-" & TEXT(DATE(YEAR(A17)+3,1,1),"yy") -> 2016-17 | B21: ='Calculation 1.2'!Q9 | C21: ='Calculation 1.2'!R9 | D21: =IF('Calculation 1.2'!S9="","",IF('Calculation 1.2'!S9>=50,"**",IF('Calculation 1.2'!S9>=25,"*",""))) | F21: ='Calculation 1.2'!U9 | G21: ='Calculation 1.2'!V9 | H21: =IF('Calculation 1.2'!W9="","",IF('Calculation 1.2'!W9>=50,"**",IF('Calculation 1.2'!W9>=25,"*",""))) | I21: ='Calculation 1.2'!X9 | J21: ='Calculation 1.2'!Y9 | K21: =IF('Calculation 1.2'!Z9="","",IF('Calculation 1.2'!Z9>=50,"**",IF('Calculation 1.2'!Z9>=25,"*",""))) | L21: ='Calculation 1.2'!AA9 | M21: ='Calculation 1.2'!AB9 | N21: =IF('Calculation 1.2'!AC9="","",IF('Calculation 1.2'!AC9>=50,"**",IF('Calculation 1.2'!AC9>=25,"*",""))) | O21: ='Calculation 1.2'!AD9 | P21: ='Calculation 1.2'!AE9 | Q21: =IF('Calculation 1.2'!AF9="","",IF('Calculation 1.2'!AF9>=50,"**",IF('Calculation 1.2'!AF9>=25,"*",""))) | R21: ='Calculation 1.2'!AG9 | S21: ='Calculation 1.2'!AH9 | T21: =IF('Calculation 1.2'!AI9="","",IF('Calculation 1.2'!AI9>=50,"**",IF('Calculation 1.2'!AI9>=25,"*",""))) | V21: ='Calculation 1.2'!AK9 | W21: ='Calculation 1.2'!AL9 | X21: =IF('Calculation 1.2'!AM9="","",IF('Calculation 1.2'!AM9>=50,"**",IF('Calculation 1.2'!AM9>=25,"*",""))) | Z21: ='Calculation 1.2'!AO9 | AA21: ='Calculation 1.2'!AP9 | AB21: =IF('Calculation 1.2'!AQ9="","",IF('Calculation 1.2'!AQ9>=50,"**",IF('Calculation 1.2'!AQ9>=25,"*",""))) | AD21: ='Calculation 1.2'!AS9 | AE21: ='Calculation 1.2'!AT9 | AF21: =IF('Calculation 1.2'!AU9="","",IF('Calculation 1.2'!AU9>=50,"**",IF('Calculation 1.2'!AU9>=25,"*",""))) | AH21: ='Calculation 1.2'!AW9 | AI21: ='Calculation 1.2'!AX9 | AJ21: =IF('Calculation 1.2'!AY9="","",IF('Calculation 1.2'!AY9>=50,"**",IF('Calculation 1.2'!AY9>=25,"*",""))) | AK21: ='Calculation 1.2'!AZ9 | AL21: ='Calculation 1.2'!BA9 | AM21: =IF('Calculation 1.2'!BB9="","",IF('Calculation 1.2'!BB9>=50,"**",IF('Calculation 1.2'!BB9>=25,"*",""))) | AN21: ='Calculation 1.2'!BC9 | AO21: ='Calculation 1.2'!BD9 | AP21: =IF('Calculation 1.2'!BE9="","",IF('Calculation 1.2'!BE9>=50,"**",IF('Calculation 1.2'!BE9>=25,"*",""))) | AR21: ='Calculation 1.2'!BG9 | AS21: ='Calculation 1.2'!BH9 | AT21: =IF('Calculation 1.2'!BI9="","",IF('Calculation 1.2'!BI9>=50,"**",IF('Calculation 1.2'!BI9>=25,"*",""))) | AV21: ='Calculation 1.2'!BK9 | AW21: ='Calculation 1.2'!BL9 | AX21: =IF('Calculation 1.2'!BM9="","",IF('Calculation 1.2'!BM9>=50,"**",IF('Calculation 1.2'!BM9>=25,"*",""))) | AZ21: ='Calculation 1.2'!BO9 | BA21: ='Calculation 1.2'!BP9 | BB21: =IF('Calculation 1.2'!BQ9="","",IF('Calculation 1.2'!BQ9>=50,"**",IF('Calculation 1.2'!BQ9>=25,"*","")))
A22: =TEXT(DATE(YEAR(A17)+2,9,1), "mmm-yy") -> Sep-16 | B22: ='Calculation 1.2'!Q10 -> 7829.425 | C22: ='Calculation 1.2'!R10 -> 43.358 | D22: =IF('Calculation 1.2'!S10="","",IF('Calculation 1.2'!S10>=50,"**",IF('Calculation 1.2'!S10>=25,"*",""))) | F22: ='Calculation 1.2'!U10 -> 528.005 | G22: ='Calculation 1.2'!V10 -> 2.924 | H22: =IF('Calculation 1.2'!W10="","",IF('Calculation 1.2'!W10>=50,"**",IF('Calculation 1.2'!W10>=25,"*",""))) | I22: ='Calculation 1.2'!X10 -> 344.035 | J22: ='Calculation 1.2'!Y10 -> 1.905 | K22: =IF('Calculation 1.2'!Z10="","",IF('Calculation 1.2'!Z10>=50,"**",IF('Calculation 1.2'!Z10>=25,"*",""))) | L22: ='Calculation 1.2'!AA10 -> 872.039 | M22: ='Calculation 1.2'!AB10 -> 4.829 | N22: =IF('Calculation 1.2'!AC10="","",IF('Calculation 1.2'!AC10>=50,"**",IF('Calculation 1.2'!AC10>=25,"*",""))) | O22: ='Calculation 1.2'!AD10 -> 76.07 | P22: ='Calculation 1.2'!AE10 -> 0.421 | Q22: =IF('Calculation 1.2'!AF10="","",IF('Calculation 1.2'!AF10>=50,"**",IF('Calculation 1.2'!AF10>=25,"*",""))) -> * | R22: ='Calculation 1.2'!AG10 -> 948.109 | S22: ='Calculation 1.2'!AH10 -> 5.25 | T22: =IF('Calculation 1.2'!AI10="","",IF('Calculation 1.2'!AI10>=50,"**",IF('Calculation 1.2'!AI10>=25,"*",""))) | V22: ='Calculation 1.2'!AK10 -> 2696.661 | W22: ='Calculation 1.2'!AL10 -> 14.934 | X22: =IF('Calculation 1.2'!AM10="","",IF('Calculation 1.2'!AM10>=50,"**",IF('Calculation 1.2'!AM10>=25,"*",""))) | Z22: ='Calculation 1.2'!AO10 -> 3644.77 | AA22: ='Calculation 1.2'!AP10 -> 20.184 | AB22: =IF('Calculation 1.2'!AQ10="","",IF('Calculation 1.2'!AQ10>=50,"**",IF('Calculation 1.2'!AQ10>=25,"*",""))) | AD22: ='Calculation 1.2'!AS10 -> 11474.195 | AE22: ='Calculation 1.2'!AT10 -> 63.542 | AF22: =IF('Calculation 1.2'!AU10="","",IF('Calculation 1.2'!AU10>=50,"**",IF('Calculation 1.2'!AU10>=25,"*",""))) | AH22: ='Calculation 1.2'!AW10 -> 15.098 | AI22: ='Calculation 1.2'!AX10 -> 0.084 | AJ22: =IF('Calculation 1.2'!AY10="","",IF('Calculation 1.2'!AY10>=50,"**",IF('Calculation 1.2'!AY10>=25,"*",""))) -> ** | AK22: ='Calculation 1.2'!AZ10 -> 603.42 | AL22: ='Calculation 1.2'!BA10 -> 3.342 | AM22: =IF('Calculation 1.2'!BB10="","",IF('Calculation 1.2'!BB10>=50,"**",IF('Calculation 1.2'!BB10>=25,"*",""))) | AN22: ='Calculation 1.2'!BC10 -> 618.518 | AO22: ='Calculation 1.2'!BD10 -> 3.425 | AP22: =IF('Calculation 1.2'!BE10="","",IF('Calculation 1.2'!BE10>=50,"**",IF('Calculation 1.2'!BE10>=25,"*",""))) | AR22: ='Calculation 1.2'!BG10 -> 12092.714 | AS22: ='Calculation 1.2'!BH10 -> 66.968 | AT22: =IF('Calculation 1.2'!BI10="","",IF('Calculation 1.2'!BI10>=50,"**",IF('Calculation 1.2'!BI10>=25,"*",""))) | AV22: ='Calculation 1.2'!BK10 -> 5964.805 | AW22: ='Calculation 1.2'!BL10 -> 33.032 | AX22: =IF('Calculation 1.2'!BM10="","",IF('Calculation 1.2'!BM10>=50,"**",IF('Calculation 1.2'!BM10>=25,"*",""))) | AZ22: ='Calculation 1.2'!BO10 -> 18057.518 | BA22: ='Calculation 1.2'!BP10 -> 100 | BB22: =IF('Calculation 1.2'!BQ10="","",IF('Calculation 1.2'!BQ10>=50,"**",IF('Calculation 1.2'!BQ10>=25,"*","")))
A23: =TEXT(DATE(YEAR(A17)+2,12,1), "mmm-yy") -> Dec-16 | B23: ='Calculation 1.2'!Q11 -> 7839.172 | C23: ='Calculation 1.2'!R11 -> 43.183 | D23: =IF('Calculation 1.2'!S11="","",IF('Calculation 1.2'!S11>=50,"**",IF('Calculation 1.2'!S11>=25,"*",""))) | F23: ='Calculation 1.2'!U11 -> 537.61 | G23: ='Calculation 1.2'!V11 -> 2.961 | H23: =IF('Calculation 1.2'!W11="","",IF('Calculation 1.2'!W11>=50,"**",IF('Calculation 1.2'!W11>=25,"*",""))) | I23: ='Calculation 1.2'!X11 -> 414.913 | J23: ='Calculation 1.2'!Y11 -> 2.286 | K23: =IF('Calculation 1.2'!Z11="","",IF('Calculation 1.2'!Z11>=50,"**",IF('Calculation 1.2'!Z11>=25,"*",""))) | L23: ='Calculation 1.2'!AA11 -> 952.523 | M23: ='Calculation 1.2'!AB11 -> 5.247 | N23: =IF('Calculation 1.2'!AC11="","",IF('Calculation 1.2'!AC11>=50,"**",IF('Calculation 1.2'!AC11>=25,"*",""))) | O23: ='Calculation 1.2'!AD11 -> 83.554 | P23: ='Calculation 1.2'!AE11 -> 0.46 | Q23: =IF('Calculation 1.2'!AF11="","",IF('Calculation 1.2'!AF11>=50,"**",IF('Calculation 1.2'!AF11>=25,"*",""))) | R23: ='Calculation 1.2'!AG11 -> 1036.077 | S23: ='Calculation 1.2'!AH11 -> 5.707 | T23: =IF('Calculation 1.2'!AI11="","",IF('Calculation 1.2'!AI11>=50,"**",IF('Calculation 1.2'!AI11>=25,"*",""))) | V23: ='Calculation 1.2'!AK11 -> 2661.672 | W23: ='Calculation 1.2'!AL11 -> 14.662 | X23: =IF('Calculation 1.2'!AM11="","",IF('Calculation 1.2'!AM11>=50,"**",IF('Calculation 1.2'!AM11>=25,"*",""))) | Z23: ='Calculation 1.2'!AO11 -> 3697.749 | AA23: ='Calculation 1.2'!AP11 -> 20.369 | AB23: =IF('Calculation 1.2'!AQ11="","",IF('Calculation 1.2'!AQ11>=50,"**",IF('Calculation 1.2'!AQ11>=25,"*",""))) | AD23: ='Calculation 1.2'!AS11 -> 11536.922 | AE23: ='Calculation 1.2'!AT11 -> 63.552 | AF23: =IF('Calculation 1.2'!AU11="","",IF('Calculation 1.2'!AU11>=50,"**",IF('Calculation 1.2'!AU11>=25,"*",""))) | AH23: ='Calculation 1.2'!AW11 -> 16.228 | AI23: ='Calculation 1.2'!AX11 -> 0.089 | AJ23: =IF('Calculation 1.2'!AY11="","",IF('Calculation 1.2'!AY11>=50,"**",IF('Calculation 1.2'!AY11>=25,"*",""))) -> ** | AK23: ='Calculation 1.2'!AZ11 -> 588.252 | AL23: ='Calculation 1.2'!BA11 -> 3.24 | AM23: =IF('Calculation 1.2'!BB11="","",IF('Calculation 1.2'!BB11>=50,"**",IF('Calculation 1.2'!BB11>=25,"*",""))) | AN23: ='Calculation 1.2'!BC11 -> 604.48 | AO23: ='Calculation 1.2'!BD11 -> 3.33 | AP23: =IF('Calculation 1.2'!BE11="","",IF('Calculation 1.2'!BE11>=50,"**",IF('Calculation 1.2'!BE11>=25,"*",""))) | AR23: ='Calculation 1.2'!BG11 -> 12141.402 | AS23: ='Calculation 1.2'!BH11 -> 66.882 | AT23: =IF('Calculation 1.2'!BI11="","",IF('Calculation 1.2'!BI11>=50,"**",IF('Calculation 1.2'!BI11>=25,"*",""))) | AV23: ='Calculation 1.2'!BK11 -> 6012.055 | AW23: ='Calculation 1.2'!BL11 -> 33.118 | AX23: =IF('Calculation 1.2'!BM11="","",IF('Calculation 1.2'!BM11>=50,"**",IF('Calculation 1.2'!BM11>=25,"*",""))) | AZ23: ='Calculation 1.2'!BO11 -> 18153.456 | BA23: ='Calculation 1.2'!BP11 -> 100 | BB23: =IF('Calculation 1.2'!BQ11="","",IF('Calculation 1.2'!BQ11>=50,"**",IF('Calculation 1.2'!BQ11>=25,"*","")))
A24: =TEXT(DATE(YEAR(A17)+3,3,1), "mmm-yy") -> Mar-17 | B24: ='Calculation 1.2'!Q12 -> 7750.1 | C24: ='Calculation 1.2'!R12 -> 42.606 | D24: =IF('Calculation 1.2'!S12="","",IF('Calculation 1.2'!S12>=50,"**",IF('Calculation 1.2'!S12>=25,"*",""))) | F24: ='Calculation 1.2'!U12 -> 622.021 | G24: ='Calculation 1.2'!V12 -> 3.42 | H24: =IF('Calculation 1.2'!W12="","",IF('Calculation 1.2'!W12>=50,"**",IF('Calculation 1.2'!W12>=25,"*",""))) | I24: ='Calculation 1.2'!X12 -> 430.773 | J24: ='Calculation 1.2'!Y12 -> 2.368 | K24: =IF('Calculation 1.2'!Z12="","",IF('Calculation 1.2'!Z12>=50,"**",IF('Calculation 1.2'!Z12>=25,"*",""))) | L24: ='Calculation 1.2'!AA12 -> 1052.794 | M24: ='Calculation 1.2'!AB12 -> 5.788 | N24: =IF('Calculation 1.2'!AC12="","",IF('Calculation 1.2'!AC12>=50,"**",IF('Calculation 1.2'!AC12>=25,"*",""))) | O24: ='Calculation 1.2'!AD12 -> 62.446 | P24: ='Calculation 1.2'!AE12 -> 0.343 | Q24: =IF('Calculation 1.2'!AF12="","",IF('Calculation 1.2'!AF12>=50,"**",IF('Calculation 1.2'!AF12>=25,"*",""))) -> * | R24: ='Calculation 1.2'!AG12 -> 1115.24 | S24: ='Calculation 1.2'!AH12 -> 6.131 | T24: =IF('Calculation 1.2'!AI12="","",IF('Calculation 1.2'!AI12>=50,"**",IF('Calculation 1.2'!AI12>=25,"*",""))) | V24: ='Calculation 1.2'!AK12 -> 2580.301 | W24: ='Calculation 1.2'!AL12 -> 14.185 | X24: =IF('Calculation 1.2'!AM12="","",IF('Calculation 1.2'!AM12>=50,"**",IF('Calculation 1.2'!AM12>=25,"*",""))) | Z24: ='Calculation 1.2'!AO12 -> 3695.541 | AA24: ='Calculation 1.2'!AP12 -> 20.316 | AB24: =IF('Calculation 1.2'!AQ12="","",IF('Calculation 1.2'!AQ12>=50,"**",IF('Calculation 1.2'!AQ12>=25,"*",""))) | AD24: ='Calculation 1.2'!AS12 -> 11445.641 | AE24: ='Calculation 1.2'!AT12 -> 62.922 | AF24: =IF('Calculation 1.2'!AU12="","",IF('Calculation 1.2'!AU12>=50,"**",IF('Calculation 1.2'!AU12>=25,"*",""))) | AH24: ='Calculation 1.2'!AW12 -> 17.74 | AI24: ='Calculation 1.2'!AX12 -> 0.098 | AJ24: =IF('Calculation 1.2'!AY12="","",IF('Calculation 1.2'!AY12>=50,"**",IF('Calculation 1.2'!AY12>=25,"*",""))) -> ** | AK24: ='Calculation 1.2'!AZ12 -> 684.313 | AL24: ='Calculation 1.2'!BA12 -> 3.762 | AM24: =IF('Calculation 1.2'!BB12="","",IF('Calculation 1.2'!BB12>=50,"**",IF('Calculation 1.2'!BB12>=25,"*",""))) | AN24: ='Calculation 1.2'!BC12 -> 702.053 | AO24: ='Calculation 1.2'!BD12 -> 3.859 | AP24: =IF('Calculation 1.2'!BE12="","",IF('Calculation 1.2'!BE12>=50,"**",IF('Calculation 1.2'!BE12>=25,"*",""))) | AR24: ='Calculation 1.2'!BG12 -> 12147.694 | AS24: ='Calculation 1.2'!BH12 -> 66.781 | AT24: =IF('Calculation 1.2'!BI12="","",IF('Calculation 1.2'!BI12>=50,"**",IF('Calculation 1.2'!BI12>=25,"*",""))) | AV24: ='Calculation 1.2'!BK12 -> 6042.588 | AW24: ='Calculation 1.2'!BL12 -> 33.219 | AX24: =IF('Calculation 1.2'!BM12="","",IF('Calculation 1.2'!BM12>=50,"**",IF('Calculation 1.2'!BM12>=25,"*",""))) | AZ24: ='Calculation 1.2'!BO12 -> 18190.282 | BA24: ='Calculation 1.2'!BP12 -> 100 | BB24: =IF('Calculation 1.2'!BQ12="","",IF('Calculation 1.2'!BQ12>=50,"**",IF('Calculation 1.2'!BQ12>=25,"*","")))
A25: =TEXT(DATE(YEAR(A17)+3,6,1), "mmm-yy") -> Jun-17 | B25: ='Calculation 1.2'!Q13 -> 7923.017 | C25: ='Calculation 1.2'!R13 -> 43.407 | D25: =IF('Calculation 1.2'!S13="","",IF('Calculation 1.2'!S13>=50,"**",IF('Calculation 1.2'!S13>=25,"*",""))) | F25: ='Calculation 1.2'!U13 -> 570.676 | G25: ='Calculation 1.2'!V13 -> 3.127 | H25: =IF('Calculation 1.2'!W13="","",IF('Calculation 1.2'!W13>=50,"**",IF('Calculation 1.2'!W13>=25,"*",""))) | I25: ='Calculation 1.2'!X13 -> 425.806 | J25: ='Calculation 1.2'!Y13 -> 2.333 | K25: =IF('Calculation 1.2'!Z13="","",IF('Calculation 1.2'!Z13>=50,"**",IF('Calculation 1.2'!Z13>=25,"*",""))) | L25: ='Calculation 1.2'!AA13 -> 996.482 | M25: ='Calculation 1.2'!AB13 -> 5.459 | N25: =IF('Calculation 1.2'!AC13="","",IF('Calculation 1.2'!AC13>=50,"**",IF('Calculation 1.2'!AC13>=25,"*",""))) | O25: ='Calculation 1.2'!AD13 -> 97.196 | P25: ='Calculation 1.2'!AE13 -> 0.532 | Q25: =IF('Calculation 1.2'!AF13="","",IF('Calculation 1.2'!AF13>=50,"**",IF('Calculation 1.2'!AF13>=25,"*",""))) | R25: ='Calculation 1.2'!AG13 -> 1093.677 | S25: ='Calculation 1.2'!AH13 -> 5.992 | T25: =IF('Calculation 1.2'!AI13="","",IF('Calculation 1.2'!AI13>=50,"**",IF('Calculation 1.2'!AI13>=25,"*",""))) | V25: ='Calculation 1.2'!AK13 -> 2632.765 | W25: ='Calculation 1.2'!AL13 -> 14.424 | X25: =IF('Calculation 1.2'!AM13="","",IF('Calculation 1.2'!AM13>=50,"**",IF('Calculation 1.2'!AM13>=25,"*",""))) | Z25: ='Calculation 1.2'!AO13 -> 3726.442 | AA25: ='Calculation 1.2'!AP13 -> 20.416 | AB25: =IF('Calculation 1.2'!AQ13="","",IF('Calculation 1.2'!AQ13>=50,"**",IF('Calculation 1.2'!AQ13>=25,"*",""))) | AD25: ='Calculation 1.2'!AS13 -> 11649.459 | AE25: ='Calculation 1.2'!AT13 -> 63.823 | AF25: =IF('Calculation 1.2'!AU13="","",IF('Calculation 1.2'!AU13>=50,"**",IF('Calculation 1.2'!AU13>=25,"*",""))) | AH25: ='Calculation 1.2'!AW13 -> 33.757 | AI25: ='Calculation 1.2'!AX13 -> 0.185 | AJ25: =IF('Calculation 1.2'!AY13="","",IF('Calculation 1.2'!AY13>=50,"**",IF('Calculation 1.2'!AY13>=25,"*",""))) -> * | AK25: ='Calculation 1.2'!AZ13 -> 585.016 | AL25: ='Calculation 1.2'!BA13 -> 3.205 | AM25: =IF('Calculation 1.2'!BB13="","",IF('Calculation 1.2'!BB13>=50,"**",IF('Calculation 1.2'!BB13>=25,"*",""))) | AN25: ='Calculation 1.2'!BC13 -> 618.774 | AO25: ='Calculation 1.2'!BD13 -> 3.39 | AP25: =IF('Calculation 1.2'!BE13="","",IF('Calculation 1.2'!BE13>=50,"**",IF('Calculation 1.2'!BE13>=25,"*",""))) | AR25: ='Calculation 1.2'!BG13 -> 12268.233 | AS25: ='Calculation 1.2'!BH13 -> 67.213 | AT25: =IF('Calculation 1.2'!BI13="","",IF('Calculation 1.2'!BI13>=50,"**",IF('Calculation 1.2'!BI13>=25,"*",""))) | AV25: ='Calculation 1.2'!BK13 -> 5984.546 | AW25: ='Calculation 1.2'!BL13 -> 32.787 | AX25: =IF('Calculation 1.2'!BM13="","",IF('Calculation 1.2'!BM13>=50,"**",IF('Calculation 1.2'!BM13>=25,"*",""))) | AZ25: ='Calculation 1.2'!BO13 -> 18252.779 | BA25: ='Calculation 1.2'!BP13 -> 100 | BB25: =IF('Calculation 1.2'!BQ13="","",IF('Calculation 1.2'!BQ13>=50,"**",IF('Calculation 1.2'!BQ13>=25,"*","")))
A26: =TEXT(DATE(YEAR(A22)+2,1,1),"yyyy") & "-" & TEXT(DATE(YEAR(A22)+3,1,1),"yy") -> 2018-19 | B26: ='Calculation 1.2'!Q14 | C26: ='Calculation 1.2'!R14 | D26: =IF('Calculation 1.2'!S14="","",IF('Calculation 1.2'!S14>=50,"**",IF('Calculation 1.2'!S14>=25,"*",""))) | F26: ='Calculation 1.2'!U14 | G26: ='Calculation 1.2'!V14 | H26: =IF('Calculation 1.2'!W14="","",IF('Calculation 1.2'!W14>=50,"**",IF('Calculation 1.2'!W14>=25,"*",""))) | I26: ='Calculation 1.2'!X14 | J26: ='Calculation 1.2'!Y14 | K26: =IF('Calculation 1.2'!Z14="","",IF('Calculation 1.2'!Z14>=50,"**",IF('Calculation 1.2'!Z14>=25,"*",""))) | L26: ='Calculation 1.2'!AA14 | M26: ='Calculation 1.2'!AB14 | N26: =IF('Calculation 1.2'!AC14="","",IF('Calculation 1.2'!AC14>=50,"**",IF('Calculation 1.2'!AC14>=25,"*",""))) | O26: ='Calculation 1.2'!AD14 | P26: ='Calculation 1.2'!AE14 | Q26: =IF('Calculation 1.2'!AF14="","",IF('Calculation 1.2'!AF14>=50,"**",IF('Calculation 1.2'!AF14>=25,"*",""))) | R26: ='Calculation 1.2'!AG14 | S26: ='Calculation 1.2'!AH14 | T26: =IF('Calculation 1.2'!AI14="","",IF('Calculation 1.2'!AI14>=50,"**",IF('Calculation 1.2'!AI14>=25,"*",""))) | V26: ='Calculation 1.2'!AK14 | W26: ='Calculation 1.2'!AL14 | X26: =IF('Calculation 1.2'!AM14="","",IF('Calculation 1.2'!AM14>=50,"**",IF('Calculation 1.2'!AM14>=25,"*",""))) | Z26: ='Calculation 1.2'!AO14 | AA26: ='Calculation 1.2'!AP14 | AB26: =IF('Calculation 1.2'!AQ14="","",IF('Calculation 1.2'!AQ14>=50,"**",IF('Calculation 1.2'!AQ14>=25,"*",""))) | AD26: ='Calculation 1.2'!AS14 | AE26: ='Calculation 1.2'!AT14 | AF26: =IF('Calculation 1.2'!AU14="","",IF('Calculation 1.2'!AU14>=50,"**",IF('Calculation 1.2'!AU14>=25,"*",""))) | AH26: ='Calculation 1.2'!AW14 | AI26: ='Calculation 1.2'!AX14 | AJ26: =IF('Calculation 1.2'!AY14="","",IF('Calculation 1.2'!AY14>=50,"**",IF('Calculation 1.2'!AY14>=25,"*",""))) | AK26: ='Calculation 1.2'!AZ14 | AL26: ='Calculation 1.2'!BA14 | AM26: =IF('Calculation 1.2'!BB14="","",IF('Calculation 1.2'!BB14>=50,"**",IF('Calculation 1.2'!BB14>=25,"*",""))) | AN26: ='Calculation 1.2'!BC14 | AO26: ='Calculation 1.2'!BD14 | AP26: =IF('Calculation 1.2'!BE14="","",IF('Calculation 1.2'!BE14>=50,"**",IF('Calculation 1.2'!BE14>=25,"*",""))) | AR26: ='Calculation 1.2'!BG14 | AS26: ='Calculation 1.2'!BH14 | AT26: =IF('Calculation 1.2'!BI14="","",IF('Calculation 1.2'!BI14>=50,"**",IF('Calculation 1.2'!BI14>=25,"*",""))) | AV26: ='Calculation 1.2'!BK14 | AW26: ='Calculation 1.2'!BL14 | AX26: =IF('Calculation 1.2'!BM14="","",IF('Calculation 1.2'!BM14>=50,"**",IF('Calculation 1.2'!BM14>=25,"*",""))) | AZ26: ='Calculation 1.2'!BO14 | BA26: ='Calculation 1.2'!BP14 | BB26: =IF('Calculation 1.2'!BQ14="","",IF('Calculation 1.2'!BQ14>=50,"**",IF('Calculation 1.2'!BQ14>=25,"*","")))
A27: =TEXT(DATE(YEAR(A22)+2,9,1), "mmm-yy") -> Sep-18 | B27: ='Calculation 1.2'!Q15 -> 8109.109 | C27: ='Calculation 1.2'!R15 -> 43.461 | D27: =IF('Calculation 1.2'!S15="","",IF('Calculation 1.2'!S15>=50,"**",IF('Calculation 1.2'!S15>=25,"*",""))) | F27: ='Calculation 1.2'!U15 -> 579.974 | G27: ='Calculation 1.2'!V15 -> 3.108 | H27: =IF('Calculation 1.2'!W15="","",IF('Calculation 1.2'!W15>=50,"**",IF('Calculation 1.2'!W15>=25,"*",""))) | I27: ='Calculation 1.2'!X15 -> 441.775 | J27: ='Calculation 1.2'!Y15 -> 2.368 | K27: =IF('Calculation 1.2'!Z15="","",IF('Calculation 1.2'!Z15>=50,"**",IF('Calculation 1.2'!Z15>=25,"*",""))) | L27: ='Calculation 1.2'!AA15 -> 1021.749 | M27: ='Calculation 1.2'!AB15 -> 5.476 | N27: =IF('Calculation 1.2'!AC15="","",IF('Calculation 1.2'!AC15>=50,"**",IF('Calculation 1.2'!AC15>=25,"*",""))) | O27: ='Calculation 1.2'!AD15 -> 43.423 | P27: ='Calculation 1.2'!AE15 -> 0.233 | Q27: =IF('Calculation 1.2'!AF15="","",IF('Calculation 1.2'!AF15>=50,"**",IF('Calculation 1.2'!AF15>=25,"*",""))) -> ** | R27: ='Calculation 1.2'!AG15 -> 1065.172 | S27: ='Calculation 1.2'!AH15 -> 5.709 | T27: =IF('Calculation 1.2'!AI15="","",IF('Calculation 1.2'!AI15>=50,"**",IF('Calculation 1.2'!AI15>=25,"*",""))) | V27: ='Calculation 1.2'!AK15 -> 2800.851 | W27: ='Calculation 1.2'!AL15 -> 15.011 | X27: =IF('Calculation 1.2'!AM15="","",IF('Calculation 1.2'!AM15>=50,"**",IF('Calculation 1.2'!AM15>=25,"*",""))) | Z27: ='Calculation 1.2'!AO15 -> 3866.022 | AA27: ='Calculation 1.2'!AP15 -> 20.72 | AB27: =IF('Calculation 1.2'!AQ15="","",IF('Calculation 1.2'!AQ15>=50,"**",IF('Calculation 1.2'!AQ15>=25,"*",""))) | AD27: ='Calculation 1.2'!AS15 -> 11975.131 | AE27: ='Calculation 1.2'!AT15 -> 64.181 | AF27: =IF('Calculation 1.2'!AU15="","",IF('Calculation 1.2'!AU15>=50,"**",IF('Calculation 1.2'!AU15>=25,"*",""))) | AH27: ='Calculation 1.2'!AW15 -> 13.082 | AI27: ='Calculation 1.2'!AX15 -> 0.07 | AJ27: =IF('Calculation 1.2'!AY15="","",IF('Calculation 1.2'!AY15>=50,"**",IF('Calculation 1.2'!AY15>=25,"*",""))) -> ** | AK27: ='Calculation 1.2'!AZ15 -> 571.945 | AL27: ='Calculation 1.2'!BA15 -> 3.065 | AM27: =IF('Calculation 1.2'!BB15="","",IF('Calculation 1.2'!BB15>=50,"**",IF('Calculation 1.2'!BB15>=25,"*",""))) | AN27: ='Calculation 1.2'!BC15 -> 585.027 | AO27: ='Calculation 1.2'!BD15 -> 3.135 | AP27: =IF('Calculation 1.2'!BE15="","",IF('Calculation 1.2'!BE15>=50,"**",IF('Calculation 1.2'!BE15>=25,"*",""))) | AR27: ='Calculation 1.2'!BG15 -> 12560.158 | AS27: ='Calculation 1.2'!BH15 -> 67.316 | AT27: =IF('Calculation 1.2'!BI15="","",IF('Calculation 1.2'!BI15>=50,"**",IF('Calculation 1.2'!BI15>=25,"*",""))) | AV27: ='Calculation 1.2'!BK15 -> 6098.322 | AW27: ='Calculation 1.2'!BL15 -> 32.684 | AX27: =IF('Calculation 1.2'!BM15="","",IF('Calculation 1.2'!BM15>=50,"**",IF('Calculation 1.2'!BM15>=25,"*",""))) | AZ27: ='Calculation 1.2'!BO15 -> 18658.479 | BA27: ='Calculation 1.2'!BP15 -> 100 | BB27: =IF('Calculation 1.2'!BQ15="","",IF('Calculation 1.2'!BQ15>=50,"**",IF('Calculation 1.2'!BQ15>=25,"*","")))
A28: =TEXT(DATE(YEAR(A22)+2,12,1), "mmm-yy") -> Dec-18 | B28: ='Calculation 1.2'!Q16 -> 8233.658 | C28: ='Calculation 1.2'!R16 -> 44.001 | D28: =IF('Calculation 1.2'!S16="","",IF('Calculation 1.2'!S16>=50,"**",IF('Calculation 1.2'!S16>=25,"*",""))) | F28: ='Calculation 1.2'!U16 -> 506.47 | G28: ='Calculation 1.2'!V16 -> 2.707 | H28: =IF('Calculation 1.2'!W16="","",IF('Calculation 1.2'!W16>=50,"**",IF('Calculation 1.2'!W16>=25,"*",""))) | I28: ='Calculation 1.2'!X16 -> 508.756 | J28: ='Calculation 1.2'!Y16 -> 2.719 | K28: =IF('Calculation 1.2'!Z16="","",IF('Calculation 1.2'!Z16>=50,"**",IF('Calculation 1.2'!Z16>=25,"*",""))) | L28: ='Calculation 1.2'!AA16 -> 1015.226 | M28: ='Calculation 1.2'!AB16 -> 5.425 | N28: =IF('Calculation 1.2'!AC16="","",IF('Calculation 1.2'!AC16>=50,"**",IF('Calculation 1.2'!AC16>=25,"*",""))) | O28: ='Calculation 1.2'!AD16 -> 49.014 | P28: ='Calculation 1.2'!AE16 -> 0.262 | Q28: =IF('Calculation 1.2'!AF16="","",IF('Calculation 1.2'!AF16>=50,"**",IF('Calculation 1.2'!AF16>=25,"*",""))) -> * | R28: ='Calculation 1.2'!AG16 -> 1064.24 | S28: ='Calculation 1.2'!AH16 -> 5.687 | T28: =IF('Calculation 1.2'!AI16="","",IF('Calculation 1.2'!AI16>=50,"**",IF('Calculation 1.2'!AI16>=25,"*",""))) | V28: ='Calculation 1.2'!AK16 -> 2809 | W28: ='Calculation 1.2'!AL16 -> 15.011 | X28: =IF('Calculation 1.2'!AM16="","",IF('Calculation 1.2'!AM16>=50,"**",IF('Calculation 1.2'!AM16>=25,"*",""))) | Z28: ='Calculation 1.2'!AO16 -> 3873.24 | AA28: ='Calculation 1.2'!AP16 -> 20.699 | AB28: =IF('Calculation 1.2'!AQ16="","",IF('Calculation 1.2'!AQ16>=50,"**",IF('Calculation 1.2'!AQ16>=25,"*",""))) | AD28: ='Calculation 1.2'!AS16 -> 12106.898 | AE28: ='Calculation 1.2'!AT16 -> 64.7 | AF28: =IF('Calculation 1.2'!AU16="","",IF('Calculation 1.2'!AU16>=50,"**",IF('Calculation 1.2'!AU16>=25,"*",""))) | AH28: ='Calculation 1.2'!AW16 -> 10.86 | AI28: ='Calculation 1.2'!AX16 -> 0.058 | AJ28: =IF('Calculation 1.2'!AY16="","",IF('Calculation 1.2'!AY16>=50,"**",IF('Calculation 1.2'!AY16>=25,"*",""))) -> ** | AK28: ='Calculation 1.2'!AZ16 -> 526.63 | AL28: ='Calculation 1.2'!BA16 -> 2.814 | AM28: =IF('Calculation 1.2'!BB16="","",IF('Calculation 1.2'!BB16>=50,"**",IF('Calculation 1.2'!BB16>=25,"*",""))) | AN28: ='Calculation 1.2'!BC16 -> 537.49 | AO28: ='Calculation 1.2'!BD16 -> 2.872 | AP28: =IF('Calculation 1.2'!BE16="","",IF('Calculation 1.2'!BE16>=50,"**",IF('Calculation 1.2'!BE16>=25,"*",""))) | AR28: ='Calculation 1.2'!BG16 -> 12644.388 | AS28: ='Calculation 1.2'!BH16 -> 67.572 | AT28: =IF('Calculation 1.2'!BI16="","",IF('Calculation 1.2'!BI16>=50,"**",IF('Calculation 1.2'!BI16>=25,"*",""))) | AV28: ='Calculation 1.2'!BK16 -> 6068.051 | AW28: ='Calculation 1.2'!BL16 -> 32.428 | AX28: =IF('Calculation 1.2'!BM16="","",IF('Calculation 1.2'!BM16>=50,"**",IF('Calculation 1.2'!BM16>=25,"*",""))) | AZ28: ='Calculation 1.2'!BO16 -> 18712.439 | BA28: ='Calculation 1.2'!BP16 -> 100 | BB28: =IF('Calculation 1.2'!BQ16="","",IF('Calculation 1.2'!BQ16>=50,"**",IF('Calculation 1.2'!BQ16>=25,"*","")))
A29: =TEXT(DATE(YEAR(A22)+3,3,1), "mmm-yy") -> Mar-19 | B29: ='Calculation 1.2'!Q17 -> 8362.65 | C29: ='Calculation 1.2'!R17 -> 44.52 | D29: =IF('Calculation 1.2'!S17="","",IF('Calculation 1.2'!S17>=50,"**",IF('Calculation 1.2'!S17>=25,"*",""))) | F29: ='Calculation 1.2'!U17 -> 449.347 | G29: ='Calculation 1.2'!V17 -> 2.392 | H29: =IF('Calculation 1.2'!W17="","",IF('Calculation 1.2'!W17>=50,"**",IF('Calculation 1.2'!W17>=25,"*",""))) | I29: ='Calculation 1.2'!X17 -> 432.935 | J29: ='Calculation 1.2'!Y17 -> 2.305 | K29: =IF('Calculation 1.2'!Z17="","",IF('Calculation 1.2'!Z17>=50,"**",IF('Calculation 1.2'!Z17>=25,"*",""))) | L29: ='Calculation 1.2'!AA17 -> 899.606 | M29: ='Calculation 1.2'!AB17 -> 4.789 | N29: =IF('Calculation 1.2'!AC17="","",IF('Calculation 1.2'!AC17>=50,"**",IF('Calculation 1.2'!AC17>=25,"*",""))) | O29: ='Calculation 1.2'!AD17 -> 22.358 | P29: ='Calculation 1.2'!AE17 -> 0.119 | Q29: =IF('Calculation 1.2'!AF17="","",IF('Calculation 1.2'!AF17>=50,"**",IF('Calculation 1.2'!AF17>=25,"*",""))) -> ** | R29: ='Calculation 1.2'!AG17 -> 921.964 | S29: ='Calculation 1.2'!AH17 -> 4.908 | T29: =IF('Calculation 1.2'!AI17="","",IF('Calculation 1.2'!AI17>=50,"**",IF('Calculation 1.2'!AI17>=25,"*",""))) | V29: ='Calculation 1.2'!AK17 -> 2816.684 | W29: ='Calculation 1.2'!AL17 -> 14.995 | X29: =IF('Calculation 1.2'!AM17="","",IF('Calculation 1.2'!AM17>=50,"**",IF('Calculation 1.2'!AM17>=25,"*",""))) | Z29: ='Calculation 1.2'!AO17 -> 3738.649 | AA29: ='Calculation 1.2'!AP17 -> 19.903 | AB29: =IF('Calculation 1.2'!AQ17="","",IF('Calculation 1.2'!AQ17>=50,"**",IF('Calculation 1.2'!AQ17>=25,"*",""))) | AD29: ='Calculation 1.2'!AS17 -> 12101.298 | AE29: ='Calculation 1.2'!AT17 -> 64.423 | AF29: =IF('Calculation 1.2'!AU17="","",IF('Calculation 1.2'!AU17>=50,"**",IF('Calculation 1.2'!AU17>=25,"*",""))) | AH29: ='Calculation 1.2'!AW17 -> 38.247 | AI29: ='Calculation 1.2'!AX17 -> 0.204 | AJ29: =IF('Calculation 1.2'!AY17="","",IF('Calculation 1.2'!AY17>=50,"**",IF('Calculation 1.2'!AY17>=25,"*",""))) -> * | AK29: ='Calculation 1.2'!AZ17 -> 587.248 | AL29: ='Calculation 1.2'!BA17 -> 3.126 | AM29: =IF('Calculation 1.2'!BB17="","",IF('Calculation 1.2'!BB17>=50,"**",IF('Calculation 1.2'!BB17>=25,"*",""))) | AN29: ='Calculation 1.2'!BC17 -> 625.495 | AO29: ='Calculation 1.2'!BD17 -> 3.33 | AP29: =IF('Calculation 1.2'!BE17="","",IF('Calculation 1.2'!BE17>=50,"**",IF('Calculation 1.2'!BE17>=25,"*",""))) | AR29: ='Calculation 1.2'!BG17 -> 12726.794 | AS29: ='Calculation 1.2'!BH17 -> 67.753 | AT29: =IF('Calculation 1.2'!BI17="","",IF('Calculation 1.2'!BI17>=50,"**",IF('Calculation 1.2'!BI17>=25,"*",""))) | AV29: ='Calculation 1.2'!BK17 -> 6057.205 | AW29: ='Calculation 1.2'!BL17 -> 32.247 | AX29: =IF('Calculation 1.2'!BM17="","",IF('Calculation 1.2'!BM17>=50,"**",IF('Calculation 1.2'!BM17>=25,"*",""))) | AZ29: ='Calculation 1.2'!BO17 -> 18783.998 | BA29: ='Calculation 1.2'!BP17 -> 100 | BB29: =IF('Calculation 1.2'!BQ17="","",IF('Calculation 1.2'!BQ17>=50,"**",IF('Calculation 1.2'!BQ17>=25,"*","")))
A30: =TEXT(DATE(YEAR(A22)+3,6,1), "mmm-yy") -> Jun-19 | B30: ='Calculation 1.2'!Q18 -> 8345.035 | C30: ='Calculation 1.2'!R18 -> 44.242 | D30: =IF('Calculation 1.2'!S18="","",IF('Calculation 1.2'!S18>=50,"**",IF('Calculation 1.2'!S18>=25,"*",""))) | F30: ='Calculation 1.2'!U18 -> 485.014 | G30: ='Calculation 1.2'!V18 -> 2.571 | H30: =IF('Calculation 1.2'!W18="","",IF('Calculation 1.2'!W18>=50,"**",IF('Calculation 1.2'!W18>=25,"*",""))) | I30: ='Calculation 1.2'!X18 -> 500.567 | J30: ='Calculation 1.2'!Y18 -> 2.654 | K30: =IF('Calculation 1.2'!Z18="","",IF('Calculation 1.2'!Z18>=50,"**",IF('Calculation 1.2'!Z18>=25,"*",""))) | L30: ='Calculation 1.2'!AA18 -> 993.206 | M30: ='Calculation 1.2'!AB18 -> 5.266 | N30: =IF('Calculation 1.2'!AC18="","",IF('Calculation 1.2'!AC18>=50,"**",IF('Calculation 1.2'!AC18>=25,"*",""))) | O30: ='Calculation 1.2'!AD18 -> 57.174 | P30: ='Calculation 1.2'!AE18 -> 0.303 | Q30: =IF('Calculation 1.2'!AF18="","",IF('Calculation 1.2'!AF18>=50,"**",IF('Calculation 1.2'!AF18>=25,"*",""))) -> * | R30: ='Calculation 1.2'!AG18 -> 1050.38 | S30: ='Calculation 1.2'!AH18 -> 5.569 | T30: =IF('Calculation 1.2'!AI18="","",IF('Calculation 1.2'!AI18>=50,"**",IF('Calculation 1.2'!AI18>=25,"*",""))) | V30: ='Calculation 1.2'!AK18 -> 2857.284 | W30: ='Calculation 1.2'!AL18 -> 15.148 | X30: =IF('Calculation 1.2'!AM18="","",IF('Calculation 1.2'!AM18>=50,"**",IF('Calculation 1.2'!AM18>=25,"*",""))) | Z30: ='Calculation 1.2'!AO18 -> 3907.664 | AA30: ='Calculation 1.2'!AP18 -> 20.717 | AB30: =IF('Calculation 1.2'!AQ18="","",IF('Calculation 1.2'!AQ18>=50,"**",IF('Calculation 1.2'!AQ18>=25,"*",""))) | AD30: ='Calculation 1.2'!AS18 -> 12252.699 | AE30: ='Calculation 1.2'!AT18 -> 64.958 | AF30: =IF('Calculation 1.2'!AU18="","",IF('Calculation 1.2'!AU18>=50,"**",IF('Calculation 1.2'!AU18>=25,"*",""))) | AH30: ='Calculation 1.2'!AW18 -> 17.151 | AI30: ='Calculation 1.2'!AX18 -> 0.091 | AJ30: =IF('Calculation 1.2'!AY18="","",IF('Calculation 1.2'!AY18>=50,"**",IF('Calculation 1.2'!AY18>=25,"*",""))) -> * | AK30: ='Calculation 1.2'!AZ18 -> 583.484 | AL30: ='Calculation 1.2'!BA18 -> 3.093 | AM30: =IF('Calculation 1.2'!BB18="","",IF('Calculation 1.2'!BB18>=50,"**",IF('Calculation 1.2'!BB18>=25,"*",""))) | AN30: ='Calculation 1.2'!BC18 -> 600.635 | AO30: ='Calculation 1.2'!BD18 -> 3.184 | AP30: =IF('Calculation 1.2'!BE18="","",IF('Calculation 1.2'!BE18>=50,"**",IF('Calculation 1.2'!BE18>=25,"*",""))) | AR30: ='Calculation 1.2'!BG18 -> 12853.334 | AS30: ='Calculation 1.2'!BH18 -> 68.143 | AT30: =IF('Calculation 1.2'!BI18="","",IF('Calculation 1.2'!BI18>=50,"**",IF('Calculation 1.2'!BI18>=25,"*",""))) | AV30: ='Calculation 1.2'!BK18 -> 6009.039 | AW30: ='Calculation 1.2'!BL18 -> 31.857 | AX30: =IF('Calculation 1.2'!BM18="","",IF('Calculation 1.2'!BM18>=50,"**",IF('Calculation 1.2'!BM18>=25,"*",""))) | AZ30: ='Calculation 1.2'!BO18 -> 18862.373 | BA30: ='Calculation 1.2'!BP18 -> 100 | BB30: =IF('Calculation 1.2'!BQ18="","",IF('Calculation 1.2'!BQ18>=50,"**",IF('Calculation 1.2'!BQ18>=25,"*","")))
A31: =TEXT(DATE(YEAR(A27)+2,1,1),"yyyy") & "-" & TEXT(DATE(YEAR(A27)+3,1,1),"yy") -> 2020-21 | B31: ='Calculation 1.2'!Q19 | C31: ='Calculation 1.2'!R19 | D31: =IF('Calculation 1.2'!S19="","",IF('Calculation 1.2'!S19>=50,"**",IF('Calculation 1.2'!S19>=25,"*",""))) | F31: ='Calculation 1.2'!U19 | G31: ='Calculation 1.2'!V19 | H31: =IF('Calculation 1.2'!W19="","",IF('Calculation 1.2'!W19>=50,"**",IF('Calculation 1.2'!W19>=25,"*",""))) | I31: ='Calculation 1.2'!X19 | J31: ='Calculation 1.2'!Y19 | K31: =IF('Calculation 1.2'!Z19="","",IF('Calculation 1.2'!Z19>=50,"**",IF('Calculation 1.2'!Z19>=25,"*",""))) | L31: ='Calculation 1.2'!AA19 | M31: ='Calculation 1.2'!AB19 | N31: =IF('Calculation 1.2'!AC19="","",IF('Calculation 1.2'!AC19>=50,"**",IF('Calculation 1.2'!AC19>=25,"*",""))) | O31: ='Calculation 1.2'!AD19 | P31: ='Calculation 1.2'!AE19 | Q31: =IF('Calculation 1.2'!AF19="","",IF('Calculation 1.2'!AF19>=50,"**",IF('Calculation 1.2'!AF19>=25,"*",""))) | R31: ='Calculation 1.2'!AG19 | S31: ='Calculation 1.2'!AH19 | T31: =IF('Calculation 1.2'!AI19="","",IF('Calculation 1.2'!AI19>=50,"**",IF('Calculation 1.2'!AI19>=25,"*",""))) | V31: ='Calculation 1.2'!AK19 | W31: ='Calculation 1.2'!AL19 | X31: =IF('Calculation 1.2'!AM19="","",IF('Calculation 1.2'!AM19>=50,"**",IF('Calculation 1.2'!AM19>=25,"*",""))) | Z31: ='Calculation 1.2'!AO19 | AA31: ='Calculation 1.2'!AP19 | AB31: =IF('Calculation 1.2'!AQ19="","",IF('Calculation 1.2'!AQ19>=50,"**",IF('Calculation 1.2'!AQ19>=25,"*",""))) | AD31: ='Calculation 1.2'!AS19 | AE31: ='Calculation 1.2'!AT19 | AF31: =IF('Calculation 1.2'!AU19="","",IF('Calculation 1.2'!AU19>=50,"**",IF('Calculation 1.2'!AU19>=25,"*",""))) | AH31: ='Calculation 1.2'!AW19 | AI31: ='Calculation 1.2'!AX19 | AJ31: =IF('Calculation 1.2'!AY19="","",IF('Calculation 1.2'!AY19>=50,"**",IF('Calculation 1.2'!AY19>=25,"*",""))) | AK31: ='Calculation 1.2'!AZ19 | AL31: ='Calculation 1.2'!BA19 | AM31: =IF('Calculation 1.2'!BB19="","",IF('Calculation 1.2'!BB19>=50,"**",IF('Calculation 1.2'!BB19>=25,"*",""))) | AN31: ='Calculation 1.2'!BC19 | AO31: ='Calculation 1.2'!BD19 | AP31: =IF('Calculation 1.2'!BE19="","",IF('Calculation 1.2'!BE19>=50,"**",IF('Calculation 1.2'!BE19>=25,"*",""))) | AR31: ='Calculation 1.2'!BG19 | AS31: ='Calculation 1.2'!BH19 | AT31: =IF('Calculation 1.2'!BI19="","",IF('Calculation 1.2'!BI19>=50,"**",IF('Calculation 1.2'!BI19>=25,"*",""))) | AV31: ='Calculation 1.2'!BK19 | AW31: ='Calculation 1.2'!BL19 | AX31: =IF('Calculation 1.2'!BM19="","",IF('Calculation 1.2'!BM19>=50,"**",IF('Calculation 1.2'!BM19>=25,"*",""))) | AZ31: ='Calculation 1.2'!BO19 | BA31: ='Calculation 1.2'!BP19 | BB31: =IF('Calculation 1.2'!BQ19="","",IF('Calculation 1.2'!BQ19>=50,"**",IF('Calculation 1.2'!BQ19>=25,"*","")))
A32: =TEXT(DATE(YEAR(A27)+2,9,1), "mmm-yy") -> Sep-20 | B32: ='Calculation 1.2'!Q20 -> 8098.087 | C32: ='Calculation 1.2'!R20 -> 42.249 | D32: =IF('Calculation 1.2'!S20="","",IF('Calculation 1.2'!S20>=50,"**",IF('Calculation 1.2'!S20>=25,"*",""))) | F32: ='Calculation 1.2'!U20 -> 424.087 | G32: ='Calculation 1.2'!V20 -> 2.213 | H32: =IF('Calculation 1.2'!W20="","",IF('Calculation 1.2'!W20>=50,"**",IF('Calculation 1.2'!W20>=25,"*",""))) | I32: ='Calculation 1.2'!X20 -> 602.205 | J32: ='Calculation 1.2'!Y20 -> 3.142 | K32: =IF('Calculation 1.2'!Z20="","",IF('Calculation 1.2'!Z20>=50,"**",IF('Calculation 1.2'!Z20>=25,"*",""))) | L32: ='Calculation 1.2'!AA20 -> 1026.293 | M32: ='Calculation 1.2'!AB20 -> 5.354 | N32: =IF('Calculation 1.2'!AC20="","",IF('Calculation 1.2'!AC20>=50,"**",IF('Calculation 1.2'!AC20>=25,"*",""))) | O32: ='Calculation 1.2'!AD20 -> 50.213 | P32: ='Calculation 1.2'!AE20 -> 0.262 | Q32: =IF('Calculation 1.2'!AF20="","",IF('Calculation 1.2'!AF20>=50,"**",IF('Calculation 1.2'!AF20>=25,"*",""))) -> * | R32: ='Calculation 1.2'!AG20 -> 1076.506 | S32: ='Calculation 1.2'!AH20 -> 5.616 | T32: =IF('Calculation 1.2'!AI20="","",IF('Calculation 1.2'!AI20>=50,"**",IF('Calculation 1.2'!AI20>=25,"*",""))) | V32: ='Calculation 1.2'!AK20 -> 2725.103 | W32: ='Calculation 1.2'!AL20 -> 14.217 | X32: =IF('Calculation 1.2'!AM20="","",IF('Calculation 1.2'!AM20>=50,"**",IF('Calculation 1.2'!AM20>=25,"*",""))) | Z32: ='Calculation 1.2'!AO20 -> 3801.608 | AA32: ='Calculation 1.2'!AP20 -> 19.834 | AB32: =IF('Calculation 1.2'!AQ20="","",IF('Calculation 1.2'!AQ20>=50,"**",IF('Calculation 1.2'!AQ20>=25,"*",""))) | AD32: ='Calculation 1.2'!AS20 -> 11899.695 | AE32: ='Calculation 1.2'!AT20 -> 62.083 | AF32: =IF('Calculation 1.2'!AU20="","",IF('Calculation 1.2'!AU20>=50,"**",IF('Calculation 1.2'!AU20>=25,"*",""))) | AH32: ='Calculation 1.2'!AW20 -> 43.131 | AI32: ='Calculation 1.2'!AX20 -> 0.225 | AJ32: =IF('Calculation 1.2'!AY20="","",IF('Calculation 1.2'!AY20>=50,"**",IF('Calculation 1.2'!AY20>=25,"*",""))) -> ** | AK32: ='Calculation 1.2'!AZ20 -> 796.465 | AL32: ='Calculation 1.2'!BA20 -> 4.155 | AM32: =IF('Calculation 1.2'!BB20="","",IF('Calculation 1.2'!BB20>=50,"**",IF('Calculation 1.2'!BB20>=25,"*",""))) | AN32: ='Calculation 1.2'!BC20 -> 839.595 | AO32: ='Calculation 1.2'!BD20 -> 4.38 | AP32: =IF('Calculation 1.2'!BE20="","",IF('Calculation 1.2'!BE20>=50,"**",IF('Calculation 1.2'!BE20>=25,"*",""))) | AR32: ='Calculation 1.2'!BG20 -> 12739.291 | AS32: ='Calculation 1.2'!BH20 -> 66.463 | AT32: =IF('Calculation 1.2'!BI20="","",IF('Calculation 1.2'!BI20>=50,"**",IF('Calculation 1.2'!BI20>=25,"*",""))) | AV32: ='Calculation 1.2'!BK20 -> 6428.18 | AW32: ='Calculation 1.2'!BL20 -> 33.537 | AX32: =IF('Calculation 1.2'!BM20="","",IF('Calculation 1.2'!BM20>=50,"**",IF('Calculation 1.2'!BM20>=25,"*",""))) | AZ32: ='Calculation 1.2'!BO20 -> 19167.471 | BA32: ='Calculation 1.2'!BP20 -> 100 | BB32: =IF('Calculation 1.2'!BQ20="","",IF('Calculation 1.2'!BQ20>=50,"**",IF('Calculation 1.2'!BQ20>=25,"*","")))
A33: =TEXT(DATE(YEAR(A27)+2,12,1), "mmm-yy") -> Dec-20 | B33: ='Calculation 1.2'!Q21 -> 8226.107 | C33: ='Calculation 1.2'!R21 -> 42.93 | D33: =IF('Calculation 1.2'!S21="","",IF('Calculation 1.2'!S21>=50,"**",IF('Calculation 1.2'!S21>=25,"*",""))) | F33: ='Calculation 1.2'!U21 -> 707.594 | G33: ='Calculation 1.2'!V21 -> 3.693 | H33: =IF('Calculation 1.2'!W21="","",IF('Calculation 1.2'!W21>=50,"**",IF('Calculation 1.2'!W21>=25,"*",""))) | I33: ='Calculation 1.2'!X21 -> 461.757 | J33: ='Calculation 1.2'!Y21 -> 2.41 | K33: =IF('Calculation 1.2'!Z21="","",IF('Calculation 1.2'!Z21>=50,"**",IF('Calculation 1.2'!Z21>=25,"*",""))) | L33: ='Calculation 1.2'!AA21 -> 1169.351 | M33: ='Calculation 1.2'!AB21 -> 6.103 | N33: =IF('Calculation 1.2'!AC21="","",IF('Calculation 1.2'!AC21>=50,"**",IF('Calculation 1.2'!AC21>=25,"*",""))) | O33: ='Calculation 1.2'!AD21 -> 92.99 | P33: ='Calculation 1.2'!AE21 -> 0.485 | Q33: =IF('Calculation 1.2'!AF21="","",IF('Calculation 1.2'!AF21>=50,"**",IF('Calculation 1.2'!AF21>=25,"*",""))) -> * | R33: ='Calculation 1.2'!AG21 -> 1262.341 | S33: ='Calculation 1.2'!AH21 -> 6.588 | T33: =IF('Calculation 1.2'!AI21="","",IF('Calculation 1.2'!AI21>=50,"**",IF('Calculation 1.2'!AI21>=25,"*",""))) | V33: ='Calculation 1.2'!AK21 -> 2694.703 | W33: ='Calculation 1.2'!AL21 -> 14.063 | X33: =IF('Calculation 1.2'!AM21="","",IF('Calculation 1.2'!AM21>=50,"**",IF('Calculation 1.2'!AM21>=25,"*",""))) | Z33: ='Calculation 1.2'!AO21 -> 3957.044 | AA33: ='Calculation 1.2'!AP21 -> 20.651 | AB33: =IF('Calculation 1.2'!AQ21="","",IF('Calculation 1.2'!AQ21>=50,"**",IF('Calculation 1.2'!AQ21>=25,"*",""))) | AD33: ='Calculation 1.2'!AS21 -> 12183.151 | AE33: ='Calculation 1.2'!AT21 -> 63.581 | AF33: =IF('Calculation 1.2'!AU21="","",IF('Calculation 1.2'!AU21>=50,"**",IF('Calculation 1.2'!AU21>=25,"*",""))) | AH33: ='Calculation 1.2'!AW21 -> 40.5 | AI33: ='Calculation 1.2'!AX21 -> 0.211 | AJ33: =IF('Calculation 1.2'!AY21="","",IF('Calculation 1.2'!AY21>=50,"**",IF('Calculation 1.2'!AY21>=25,"*",""))) -> ** | AK33: ='Calculation 1.2'!AZ21 -> 729.721 | AL33: ='Calculation 1.2'!BA21 -> 3.808 | AM33: =IF('Calculation 1.2'!BB21="","",IF('Calculation 1.2'!BB21>=50,"**",IF('Calculation 1.2'!BB21>=25,"*",""))) | AN33: ='Calculation 1.2'!BC21 -> 770.221 | AO33: ='Calculation 1.2'!BD21 -> 4.02 | AP33: =IF('Calculation 1.2'!BE21="","",IF('Calculation 1.2'!BE21>=50,"**",IF('Calculation 1.2'!BE21>=25,"*",""))) | AR33: ='Calculation 1.2'!BG21 -> 12953.372 | AS33: ='Calculation 1.2'!BH21 -> 67.6 | AT33: =IF('Calculation 1.2'!BI21="","",IF('Calculation 1.2'!BI21>=50,"**",IF('Calculation 1.2'!BI21>=25,"*",""))) | AV33: ='Calculation 1.2'!BK21 -> 6208.297 | AW33: ='Calculation 1.2'!BL21 -> 32.4 | AX33: =IF('Calculation 1.2'!BM21="","",IF('Calculation 1.2'!BM21>=50,"**",IF('Calculation 1.2'!BM21>=25,"*",""))) | AZ33: ='Calculation 1.2'!BO21 -> 19161.669 | BA33: ='Calculation 1.2'!BP21 -> 100 | BB33: =IF('Calculation 1.2'!BQ21="","",IF('Calculation 1.2'!BQ21>=50,"**",IF('Calculation 1.2'!BQ21>=25,"*","")))
A34: =TEXT(DATE(YEAR(A27)+3,3,1), "mmm-yy") -> Mar-21 | B34: ='Calculation 1.2'!Q22 -> 8418.212 | C34: ='Calculation 1.2'!R22 -> 43.923 | D34: =IF('Calculation 1.2'!S22="","",IF('Calculation 1.2'!S22>=50,"**",IF('Calculation 1.2'!S22>=25,"*",""))) | F34: ='Calculation 1.2'!U22 -> 430.151 | G34: ='Calculation 1.2'!V22 -> 2.244 | H34: =IF('Calculation 1.2'!W22="","",IF('Calculation 1.2'!W22>=50,"**",IF('Calculation 1.2'!W22>=25,"*",""))) | I34: ='Calculation 1.2'!X22 -> 527.366 | J34: ='Calculation 1.2'!Y22 -> 2.752 | K34: =IF('Calculation 1.2'!Z22="","",IF('Calculation 1.2'!Z22>=50,"**",IF('Calculation 1.2'!Z22>=25,"*",""))) | L34: ='Calculation 1.2'!AA22 -> 957.517 | M34: ='Calculation 1.2'!AB22 -> 4.996 | N34: =IF('Calculation 1.2'!AC22="","",IF('Calculation 1.2'!AC22>=50,"**",IF('Calculation 1.2'!AC22>=25,"*",""))) | O34: ='Calculation 1.2'!AD22 -> 57.99 | P34: ='Calculation 1.2'!AE22 -> 0.303 | Q34: =IF('Calculation 1.2'!AF22="","",IF('Calculation 1.2'!AF22>=50,"**",IF('Calculation 1.2'!AF22>=25,"*",""))) -> * | R34: ='Calculation 1.2'!AG22 -> 1015.507 | S34: ='Calculation 1.2'!AH22 -> 5.298 | T34: =IF('Calculation 1.2'!AI22="","",IF('Calculation 1.2'!AI22>=50,"**",IF('Calculation 1.2'!AI22>=25,"*",""))) | V34: ='Calculation 1.2'!AK22 -> 2803.202 | W34: ='Calculation 1.2'!AL22 -> 14.626 | X34: =IF('Calculation 1.2'!AM22="","",IF('Calculation 1.2'!AM22>=50,"**",IF('Calculation 1.2'!AM22>=25,"*",""))) | Z34: ='Calculation 1.2'!AO22 -> 3818.709 | AA34: ='Calculation 1.2'!AP22 -> 19.924 | AB34: =IF('Calculation 1.2'!AQ22="","",IF('Calculation 1.2'!AQ22>=50,"**",IF('Calculation 1.2'!AQ22>=25,"*",""))) | AD34: ='Calculation 1.2'!AS22 -> 12236.921 | AE34: ='Calculation 1.2'!AT22 -> 63.847 | AF34: =IF('Calculation 1.2'!AU22="","",IF('Calculation 1.2'!AU22>=50,"**",IF('Calculation 1.2'!AU22>=25,"*",""))) | AH34: ='Calculation 1.2'!AW22 -> 60.847 | AI34: ='Calculation 1.2'!AX22 -> 0.317 | AJ34: =IF('Calculation 1.2'!AY22="","",IF('Calculation 1.2'!AY22>=50,"**",IF('Calculation 1.2'!AY22>=25,"*",""))) -> * | AK34: ='Calculation 1.2'!AZ22 -> 710.115 | AL34: ='Calculation 1.2'!BA22 -> 3.705 | AM34: =IF('Calculation 1.2'!BB22="","",IF('Calculation 1.2'!BB22>=50,"**",IF('Calculation 1.2'!BB22>=25,"*",""))) | AN34: ='Calculation 1.2'!BC22 -> 770.962 | AO34: ='Calculation 1.2'!BD22 -> 4.023 | AP34: =IF('Calculation 1.2'!BE22="","",IF('Calculation 1.2'!BE22>=50,"**",IF('Calculation 1.2'!BE22>=25,"*",""))) | AR34: ='Calculation 1.2'!BG22 -> 13007.884 | AS34: ='Calculation 1.2'!BH22 -> 67.87 | AT34: =IF('Calculation 1.2'!BI22="","",IF('Calculation 1.2'!BI22>=50,"**",IF('Calculation 1.2'!BI22>=25,"*",""))) | AV34: ='Calculation 1.2'!BK22 -> 6158.101 | AW34: ='Calculation 1.2'!BL22 -> 32.13 | AX34: =IF('Calculation 1.2'!BM22="","",IF('Calculation 1.2'!BM22>=50,"**",IF('Calculation 1.2'!BM22>=25,"*",""))) | AZ34: ='Calculation 1.2'!BO22 -> 19165.985 | BA34: ='Calculation 1.2'!BP22 -> 100 | BB34: =IF('Calculation 1.2'!BQ22="","",IF('Calculation 1.2'!BQ22>=50,"**",IF('Calculation 1.2'!BQ22>=25,"*","")))
A35: =TEXT(DATE(YEAR(A27)+3,6,1), "mmm-yy") -> Jun-21 | B35: ='Calculation 1.2'!Q23 -> 8467.649 | C35: ='Calculation 1.2'!R23 -> 44.14 | D35: =IF('Calculation 1.2'!S23="","",IF('Calculation 1.2'!S23>=50,"**",IF('Calculation 1.2'!S23>=25,"*",""))) | F35: ='Calculation 1.2'!U23 -> 513.471 | G35: ='Calculation 1.2'!V23 -> 2.677 | H35: =IF('Calculation 1.2'!W23="","",IF('Calculation 1.2'!W23>=50,"**",IF('Calculation 1.2'!W23>=25,"*",""))) | I35: ='Calculation 1.2'!X23 -> 381.996 | J35: ='Calculation 1.2'!Y23 -> 1.991 | K35: =IF('Calculation 1.2'!Z23="","",IF('Calculation 1.2'!Z23>=50,"**",IF('Calculation 1.2'!Z23>=25,"*",""))) | L35: ='Calculation 1.2'!AA23 -> 895.467 | M35: ='Calculation 1.2'!AB23 -> 4.668 | N35: =IF('Calculation 1.2'!AC23="","",IF('Calculation 1.2'!AC23>=50,"**",IF('Calculation 1.2'!AC23>=25,"*",""))) | O35: ='Calculation 1.2'!AD23 -> 43.765 | P35: ='Calculation 1.2'!AE23 -> 0.228 | Q35: =IF('Calculation 1.2'!AF23="","",IF('Calculation 1.2'!AF23>=50,"**",IF('Calculation 1.2'!AF23>=25,"*",""))) -> * | R35: ='Calculation 1.2'!AG23 -> 939.232 | S35: ='Calculation 1.2'!AH23 -> 4.896 | T35: =IF('Calculation 1.2'!AI23="","",IF('Calculation 1.2'!AI23>=50,"**",IF('Calculation 1.2'!AI23>=25,"*",""))) | V35: ='Calculation 1.2'!AK23 -> 3023.542 | W35: ='Calculation 1.2'!AL23 -> 15.761 | X35: =IF('Calculation 1.2'!AM23="","",IF('Calculation 1.2'!AM23>=50,"**",IF('Calculation 1.2'!AM23>=25,"*",""))) | Z35: ='Calculation 1.2'!AO23 -> 3962.774 | AA35: ='Calculation 1.2'!AP23 -> 20.657 | AB35: =IF('Calculation 1.2'!AQ23="","",IF('Calculation 1.2'!AQ23>=50,"**",IF('Calculation 1.2'!AQ23>=25,"*",""))) | AD35: ='Calculation 1.2'!AS23 -> 12430.423 | AE35: ='Calculation 1.2'!AT23 -> 64.797 | AF35: =IF('Calculation 1.2'!AU23="","",IF('Calculation 1.2'!AU23>=50,"**",IF('Calculation 1.2'!AU23>=25,"*",""))) | AH35: ='Calculation 1.2'!AW23 -> 41.013 | AI35: ='Calculation 1.2'!AX23 -> 0.214 | AJ35: =IF('Calculation 1.2'!AY23="","",IF('Calculation 1.2'!AY23>=50,"**",IF('Calculation 1.2'!AY23>=25,"*",""))) -> ** | AK35: ='Calculation 1.2'!AZ23 -> 586.147 | AL35: ='Calculation 1.2'!BA23 -> 3.055 | AM35: =IF('Calculation 1.2'!BB23="","",IF('Calculation 1.2'!BB23>=50,"**",IF('Calculation 1.2'!BB23>=25,"*",""))) | AN35: ='Calculation 1.2'!BC23 -> 627.159 | AO35: ='Calculation 1.2'!BD23 -> 3.269 | AP35: =IF('Calculation 1.2'!BE23="","",IF('Calculation 1.2'!BE23>=50,"**",IF('Calculation 1.2'!BE23>=25,"*",""))) | AR35: ='Calculation 1.2'!BG23 -> 13057.582 | AS35: ='Calculation 1.2'!BH23 -> 68.066 | AT35: =IF('Calculation 1.2'!BI23="","",IF('Calculation 1.2'!BI23>=50,"**",IF('Calculation 1.2'!BI23>=25,"*",""))) | AV35: ='Calculation 1.2'!BK23 -> 6126.119 | AW35: ='Calculation 1.2'!BL23 -> 31.934 | AX35: =IF('Calculation 1.2'!BM23="","",IF('Calculation 1.2'!BM23>=50,"**",IF('Calculation 1.2'!BM23>=25,"*",""))) | AZ35: ='Calculation 1.2'!BO23 -> 19183.702 | BA35: ='Calculation 1.2'!BP23 -> 100 | BB35: =IF('Calculation 1.2'!BQ23="","",IF('Calculation 1.2'!BQ23>=50,"**",IF('Calculation 1.2'!BQ23>=25,"*","")))
A36: =TEXT(DATE(YEAR(A32)+2,1,1),"yyyy") & "-" & TEXT(DATE(YEAR(A32)+3,1,1),"yy") -> 2022-23 | B36: ='Calculation 1.2'!Q24 | C36: ='Calculation 1.2'!R24 | D36: =IF('Calculation 1.2'!S24="","",IF('Calculation 1.2'!S24>=50,"**",IF('Calculation 1.2'!S24>=25,"*",""))) | F36: ='Calculation 1.2'!U24 | G36: ='Calculation 1.2'!V24 | H36: =IF('Calculation 1.2'!W24="","",IF('Calculation 1.2'!W24>=50,"**",IF('Calculation 1.2'!W24>=25,"*",""))) | I36: ='Calculation 1.2'!X24 | J36: ='Calculation 1.2'!Y24 | K36: =IF('Calculation 1.2'!Z24="","",IF('Calculation 1.2'!Z24>=50,"**",IF('Calculation 1.2'!Z24>=25,"*",""))) | L36: ='Calculation 1.2'!AA24 | M36: ='Calculation 1.2'!AB24 | N36: =IF('Calculation 1.2'!AC24="","",IF('Calculation 1.2'!AC24>=50,"**",IF('Calculation 1.2'!AC24>=25,"*",""))) | O36: ='Calculation 1.2'!AD24 | P36: ='Calculation 1.2'!AE24 | Q36: =IF('Calculation 1.2'!AF24="","",IF('Calculation 1.2'!AF24>=50,"**",IF('Calculation 1.2'!AF24>=25,"*",""))) | R36: ='Calculation 1.2'!AG24 | S36: ='Calculation 1.2'!AH24 | T36: =IF('Calculation 1.2'!AI24="","",IF('Calculation 1.2'!AI24>=50,"**",IF('Calculation 1.2'!AI24>=25,"*",""))) | V36: ='Calculation 1.2'!AK24 | W36: ='Calculation 1.2'!AL24 | X36: =IF('Calculation 1.2'!AM24="","",IF('Calculation 1.2'!AM24>=50,"**",IF('Calculation 1.2'!AM24>=25,"*",""))) | Z36: ='Calculation 1.2'!AO24 | AA36: ='Calculation 1.2'!AP24 | AB36: =IF('Calculation 1.2'!AQ24="","",IF('Calculation 1.2'!AQ24>=50,"**",IF('Calculation 1.2'!AQ24>=25,"*",""))) | AD36: ='Calculation 1.2'!AS24 | AE36: ='Calculation 1.2'!AT24 | AF36: =IF('Calculation 1.2'!AU24="","",IF('Calculation 1.2'!AU24>=50,"**",IF('Calculation 1.2'!AU24>=25,"*",""))) | AH36: ='Calculation 1.2'!AW24 | AI36: ='Calculation 1.2'!AX24 | AJ36: =IF('Calculation 1.2'!AY24="","",IF('Calculation 1.2'!AY24>=50,"**",IF('Calculation 1.2'!AY24>=25,"*",""))) | AK36: ='Calculation 1.2'!AZ24 | AL36: ='Calculation 1.2'!BA24 | AM36: =IF('Calculation 1.2'!BB24="","",IF('Calculation 1.2'!BB24>=50,"**",IF('Calculation 1.2'!BB24>=25,"*",""))) | AN36: ='Calculation 1.2'!BC24 | AO36: ='Calculation 1.2'!BD24 | AP36: =IF('Calculation 1.2'!BE24="","",IF('Calculation 1.2'!BE24>=50,"**",IF('Calculation 1.2'!BE24>=25,"*",""))) | AR36: ='Calculation 1.2'!BG24 | AS36: ='Calculation 1.2'!BH24 | AT36: =IF('Calculation 1.2'!BI24="","",IF('Calculation 1.2'!BI24>=50,"**",IF('Calculation 1.2'!BI24>=25,"*",""))) | AV36: ='Calculation 1.2'!BK24 | AW36: ='Calculation 1.2'!BL24 | AX36: =IF('Calculation 1.2'!BM24="","",IF('Calculation 1.2'!BM24>=50,"**",IF('Calculation 1.2'!BM24>=25,"*",""))) | AZ36: ='Calculation 1.2'!BO24 | BA36: ='Calculation 1.2'!BP24 | BB36: =IF('Calculation 1.2'!BQ24="","",IF('Calculation 1.2'!BQ24>=50,"**",IF('Calculation 1.2'!BQ24>=25,"*","")))
A37: =TEXT(DATE(YEAR(A32)+2,9,1), "mmm-yy") -> Sep-22 | B37: ='Calculation 1.2'!Q25 -> 8990.996 | C37: ='Calculation 1.2'!R25 -> 45.872 | D37: =IF('Calculation 1.2'!S25="","",IF('Calculation 1.2'!S25>=50,"**",IF('Calculation 1.2'!S25>=25,"*",""))) | F37: ='Calculation 1.2'!U25 -> 303.039 | G37: ='Calculation 1.2'!V25 -> 1.546 | H37: =IF('Calculation 1.2'!W25="","",IF('Calculation 1.2'!W25>=50,"**",IF('Calculation 1.2'!W25>=25,"*",""))) | I37: ='Calculation 1.2'!X25 -> 307.538 | J37: ='Calculation 1.2'!Y25 -> 1.569 | K37: =IF('Calculation 1.2'!Z25="","",IF('Calculation 1.2'!Z25>=50,"**",IF('Calculation 1.2'!Z25>=25,"*",""))) | L37: ='Calculation 1.2'!AA25 -> 610.578 | M37: ='Calculation 1.2'!AB25 -> 3.115 | N37: =IF('Calculation 1.2'!AC25="","",IF('Calculation 1.2'!AC25>=50,"**",IF('Calculation 1.2'!AC25>=25,"*",""))) | O37: ='Calculation 1.2'!AD25 -> 80.098 | P37: ='Calculation 1.2'!AE25 -> 0.409 | Q37: =IF('Calculation 1.2'!AF25="","",IF('Calculation 1.2'!AF25>=50,"**",IF('Calculation 1.2'!AF25>=25,"*",""))) -> * | R37: ='Calculation 1.2'!AG25 -> 690.676 | S37: ='Calculation 1.2'!AH25 -> 3.524 | T37: =IF('Calculation 1.2'!AI25="","",IF('Calculation 1.2'!AI25>=50,"**",IF('Calculation 1.2'!AI25>=25,"*",""))) | V37: ='Calculation 1.2'!AK25 -> 3262.848 | W37: ='Calculation 1.2'!AL25 -> 16.647 | X37: =IF('Calculation 1.2'!AM25="","",IF('Calculation 1.2'!AM25>=50,"**",IF('Calculation 1.2'!AM25>=25,"*",""))) | Z37: ='Calculation 1.2'!AO25 -> 3953.524 | AA37: ='Calculation 1.2'!AP25 -> 20.171 | AB37: =IF('Calculation 1.2'!AQ25="","",IF('Calculation 1.2'!AQ25>=50,"**",IF('Calculation 1.2'!AQ25>=25,"*",""))) | AD37: ='Calculation 1.2'!AS25 -> 12944.52 | AE37: ='Calculation 1.2'!AT25 -> 66.044 | AF37: =IF('Calculation 1.2'!AU25="","",IF('Calculation 1.2'!AU25>=50,"**",IF('Calculation 1.2'!AU25>=25,"*",""))) | AH37: ='Calculation 1.2'!AW25 -> 37.36 | AI37: ='Calculation 1.2'!AX25 -> 0.191 | AJ37: =IF('Calculation 1.2'!AY25="","",IF('Calculation 1.2'!AY25>=50,"**",IF('Calculation 1.2'!AY25>=25,"*",""))) -> ** | AK37: ='Calculation 1.2'!AZ25 -> 309.905 | AL37: ='Calculation 1.2'!BA25 -> 1.581 | AM37: =IF('Calculation 1.2'!BB25="","",IF('Calculation 1.2'!BB25>=50,"**",IF('Calculation 1.2'!BB25>=25,"*",""))) | AN37: ='Calculation 1.2'!BC25 -> 347.265 | AO37: ='Calculation 1.2'!BD25 -> 1.772 | AP37: =IF('Calculation 1.2'!BE25="","",IF('Calculation 1.2'!BE25>=50,"**",IF('Calculation 1.2'!BE25>=25,"*",""))) | AR37: ='Calculation 1.2'!BG25 -> 13291.785 | AS37: ='Calculation 1.2'!BH25 -> 67.815 | AT37: =IF('Calculation 1.2'!BI25="","",IF('Calculation 1.2'!BI25>=50,"**",IF('Calculation 1.2'!BI25>=25,"*",""))) | AV37: ='Calculation 1.2'!BK25 -> 6308.185 | AW37: ='Calculation 1.2'!BL25 -> 32.185 | AX37: =IF('Calculation 1.2'!BM25="","",IF('Calculation 1.2'!BM25>=50,"**",IF('Calculation 1.2'!BM25>=25,"*",""))) | AZ37: ='Calculation 1.2'!BO25 -> 19599.97 | BA37: ='Calculation 1.2'!BP25 -> 100 | BB37: =IF('Calculation 1.2'!BQ25="","",IF('Calculation 1.2'!BQ25>=50,"**",IF('Calculation 1.2'!BQ25>=25,"*","")))
A38: =TEXT(DATE(YEAR(A32)+2,12,1), "mmm-yy") -> Dec-22 | B38: ='Calculation 1.2'!Q26 -> 9168.462 | C38: ='Calculation 1.2'!R26 -> 46.423 | D38: =IF('Calculation 1.2'!S26="","",IF('Calculation 1.2'!S26>=50,"**",IF('Calculation 1.2'!S26>=25,"*",""))) | F38: ='Calculation 1.2'!U26 -> 313.672 | G38: ='Calculation 1.2'!V26 -> 1.588 | H38: =IF('Calculation 1.2'!W26="","",IF('Calculation 1.2'!W26>=50,"**",IF('Calculation 1.2'!W26>=25,"*",""))) | I38: ='Calculation 1.2'!X26 -> 346.101 | J38: ='Calculation 1.2'!Y26 -> 1.752 | K38: =IF('Calculation 1.2'!Z26="","",IF('Calculation 1.2'!Z26>=50,"**",IF('Calculation 1.2'!Z26>=25,"*",""))) | L38: ='Calculation 1.2'!AA26 -> 659.774 | M38: ='Calculation 1.2'!AB26 -> 3.341 | N38: =IF('Calculation 1.2'!AC26="","",IF('Calculation 1.2'!AC26>=50,"**",IF('Calculation 1.2'!AC26>=25,"*",""))) | O38: ='Calculation 1.2'!AD26 -> 81.009 | P38: ='Calculation 1.2'!AE26 -> 0.41 | Q38: =IF('Calculation 1.2'!AF26="","",IF('Calculation 1.2'!AF26>=50,"**",IF('Calculation 1.2'!AF26>=25,"*",""))) -> * | R38: ='Calculation 1.2'!AG26 -> 740.783 | S38: ='Calculation 1.2'!AH26 -> 3.751 | T38: =IF('Calculation 1.2'!AI26="","",IF('Calculation 1.2'!AI26>=50,"**",IF('Calculation 1.2'!AI26>=25,"*",""))) | V38: ='Calculation 1.2'!AK26 -> 3207.873 | W38: ='Calculation 1.2'!AL26 -> 16.243 | X38: =IF('Calculation 1.2'!AM26="","",IF('Calculation 1.2'!AM26>=50,"**",IF('Calculation 1.2'!AM26>=25,"*",""))) | Z38: ='Calculation 1.2'!AO26 -> 3948.656 | AA38: ='Calculation 1.2'!AP26 -> 19.994 | AB38: =IF('Calculation 1.2'!AQ26="","",IF('Calculation 1.2'!AQ26>=50,"**",IF('Calculation 1.2'!AQ26>=25,"*",""))) | AD38: ='Calculation 1.2'!AS26 -> 13117.118 | AE38: ='Calculation 1.2'!AT26 -> 66.417 | AF38: =IF('Calculation 1.2'!AU26="","",IF('Calculation 1.2'!AU26>=50,"**",IF('Calculation 1.2'!AU26>=25,"*",""))) | AH38: ='Calculation 1.2'!AW26 -> 24.353 | AI38: ='Calculation 1.2'!AX26 -> 0.123 | AJ38: =IF('Calculation 1.2'!AY26="","",IF('Calculation 1.2'!AY26>=50,"**",IF('Calculation 1.2'!AY26>=25,"*",""))) -> ** | AK38: ='Calculation 1.2'!AZ26 -> 371.937 | AL38: ='Calculation 1.2'!BA26 -> 1.883 | AM38: =IF('Calculation 1.2'!BB26="","",IF('Calculation 1.2'!BB26>=50,"**",IF('Calculation 1.2'!BB26>=25,"*",""))) | AN38: ='Calculation 1.2'!BC26 -> 396.291 | AO38: ='Calculation 1.2'!BD26 -> 2.007 | AP38: =IF('Calculation 1.2'!BE26="","",IF('Calculation 1.2'!BE26>=50,"**",IF('Calculation 1.2'!BE26>=25,"*",""))) | AR38: ='Calculation 1.2'!BG26 -> 13513.409 | AS38: ='Calculation 1.2'!BH26 -> 68.423 | AT38: =IF('Calculation 1.2'!BI26="","",IF('Calculation 1.2'!BI26>=50,"**",IF('Calculation 1.2'!BI26>=25,"*",""))) | AV38: ='Calculation 1.2'!BK26 -> 6236.254 | AW38: ='Calculation 1.2'!BL26 -> 31.577 | AX38: =IF('Calculation 1.2'!BM26="","",IF('Calculation 1.2'!BM26>=50,"**",IF('Calculation 1.2'!BM26>=25,"*",""))) | AZ38: ='Calculation 1.2'!BO26 -> 19749.662 | BA38: ='Calculation 1.2'!BP26 -> 100 | BB38: =IF('Calculation 1.2'!BQ26="","",IF('Calculation 1.2'!BQ26>=50,"**",IF('Calculation 1.2'!BQ26>=25,"*","")))
A39: =TEXT(DATE(YEAR(A32)+3,3,1), "mmm-yy") -> Mar-23 | B39: ='Calculation 1.2'!Q27 -> 9282.905 | C39: ='Calculation 1.2'!R27 -> 46.635 | D39: =IF('Calculation 1.2'!S27="","",IF('Calculation 1.2'!S27>=50,"**",IF('Calculation 1.2'!S27>=25,"*",""))) | F39: ='Calculation 1.2'!U27 -> 324.988 | G39: ='Calculation 1.2'!V27 -> 1.633 | H39: =IF('Calculation 1.2'!W27="","",IF('Calculation 1.2'!W27>=50,"**",IF('Calculation 1.2'!W27>=25,"*",""))) | I39: ='Calculation 1.2'!X27 -> 310.368 | J39: ='Calculation 1.2'!Y27 -> 1.559 | K39: =IF('Calculation 1.2'!Z27="","",IF('Calculation 1.2'!Z27>=50,"**",IF('Calculation 1.2'!Z27>=25,"*",""))) | L39: ='Calculation 1.2'!AA27 -> 635.356 | M39: ='Calculation 1.2'!AB27 -> 3.192 | N39: =IF('Calculation 1.2'!AC27="","",IF('Calculation 1.2'!AC27>=50,"**",IF('Calculation 1.2'!AC27>=25,"*",""))) | O39: ='Calculation 1.2'!AD27 -> 76.243 | P39: ='Calculation 1.2'!AE27 -> 0.383 | Q39: =IF('Calculation 1.2'!AF27="","",IF('Calculation 1.2'!AF27>=50,"**",IF('Calculation 1.2'!AF27>=25,"*",""))) -> * | R39: ='Calculation 1.2'!AG27 -> 711.599 | S39: ='Calculation 1.2'!AH27 -> 3.575 | T39: =IF('Calculation 1.2'!AI27="","",IF('Calculation 1.2'!AI27>=50,"**",IF('Calculation 1.2'!AI27>=25,"*",""))) | V39: ='Calculation 1.2'!AK27 -> 3136.322 | W39: ='Calculation 1.2'!AL27 -> 15.756 | X39: =IF('Calculation 1.2'!AM27="","",IF('Calculation 1.2'!AM27>=50,"**",IF('Calculation 1.2'!AM27>=25,"*",""))) | Z39: ='Calculation 1.2'!AO27 -> 3847.921 | AA39: ='Calculation 1.2'!AP27 -> 19.331 | AB39: =IF('Calculation 1.2'!AQ27="","",IF('Calculation 1.2'!AQ27>=50,"**",IF('Calculation 1.2'!AQ27>=25,"*",""))) | AD39: ='Calculation 1.2'!AS27 -> 13130.826 | AE39: ='Calculation 1.2'!AT27 -> 65.966 | AF39: =IF('Calculation 1.2'!AU27="","",IF('Calculation 1.2'!AU27>=50,"**",IF('Calculation 1.2'!AU27>=25,"*",""))) | AH39: ='Calculation 1.2'!AW27 -> 53.287 | AI39: ='Calculation 1.2'!AX27 -> 0.268 | AJ39: =IF('Calculation 1.2'!AY27="","",IF('Calculation 1.2'!AY27>=50,"**",IF('Calculation 1.2'!AY27>=25,"*",""))) -> * | AK39: ='Calculation 1.2'!AZ27 -> 422.548 | AL39: ='Calculation 1.2'!BA27 -> 2.123 | AM39: =IF('Calculation 1.2'!BB27="","",IF('Calculation 1.2'!BB27>=50,"**",IF('Calculation 1.2'!BB27>=25,"*",""))) | AN39: ='Calculation 1.2'!BC27 -> 475.835 | AO39: ='Calculation 1.2'!BD27 -> 2.39 | AP39: =IF('Calculation 1.2'!BE27="","",IF('Calculation 1.2'!BE27>=50,"**",IF('Calculation 1.2'!BE27>=25,"*",""))) | AR39: ='Calculation 1.2'!BG27 -> 13606.661 | AS39: ='Calculation 1.2'!BH27 -> 68.357 | AT39: =IF('Calculation 1.2'!BI27="","",IF('Calculation 1.2'!BI27>=50,"**",IF('Calculation 1.2'!BI27>=25,"*",""))) | AV39: ='Calculation 1.2'!BK27 -> 6298.652 | AW39: ='Calculation 1.2'!BL27 -> 31.643 | AX39: =IF('Calculation 1.2'!BM27="","",IF('Calculation 1.2'!BM27>=50,"**",IF('Calculation 1.2'!BM27>=25,"*",""))) | AZ39: ='Calculation 1.2'!BO27 -> 19905.313 | BA39: ='Calculation 1.2'!BP27 -> 100 | BB39: =IF('Calculation 1.2'!BQ27="","",IF('Calculation 1.2'!BQ27>=50,"**",IF('Calculation 1.2'!BQ27>=25,"*","")))
A40: =TEXT(DATE(YEAR(A32)+3,6,1), "mmm-yy") -> Jun-23 | B40: ='Calculation 1.2'!Q28 -> 9390.768 | C40: ='Calculation 1.2'!R28 -> 46.829 | D40: =IF('Calculation 1.2'!S28="","",IF('Calculation 1.2'!S28>=50,"**",IF('Calculation 1.2'!S28>=25,"*",""))) | F40: ='Calculation 1.2'!U28 -> 323.444 | G40: ='Calculation 1.2'!V28 -> 1.613 | H40: =IF('Calculation 1.2'!W28="","",IF('Calculation 1.2'!W28>=50,"**",IF('Calculation 1.2'!W28>=25,"*",""))) | I40: ='Calculation 1.2'!X28 -> 322.939 | J40: ='Calculation 1.2'!Y28 -> 1.61 | K40: =IF('Calculation 1.2'!Z28="","",IF('Calculation 1.2'!Z28>=50,"**",IF('Calculation 1.2'!Z28>=25,"*",""))) | L40: ='Calculation 1.2'!AA28 -> 646.383 | M40: ='Calculation 1.2'!AB28 -> 3.223 | N40: =IF('Calculation 1.2'!AC28="","",IF('Calculation 1.2'!AC28>=50,"**",IF('Calculation 1.2'!AC28>=25,"*",""))) | O40: ='Calculation 1.2'!AD28 -> 57.624 | P40: ='Calculation 1.2'!AE28 -> 0.287 | Q40: =IF('Calculation 1.2'!AF28="","",IF('Calculation 1.2'!AF28>=50,"**",IF('Calculation 1.2'!AF28>=25,"*",""))) | R40: ='Calculation 1.2'!AG28 -> 704.007 | S40: ='Calculation 1.2'!AH28 -> 3.511 | T40: =IF('Calculation 1.2'!AI28="","",IF('Calculation 1.2'!AI28>=50,"**",IF('Calculation 1.2'!AI28>=25,"*",""))) | V40: ='Calculation 1.2'!AK28 -> 3267.738 | W40: ='Calculation 1.2'!AL28 -> 16.295 | X40: =IF('Calculation 1.2'!AM28="","",IF('Calculation 1.2'!AM28>=50,"**",IF('Calculation 1.2'!AM28>=25,"*",""))) | Z40: ='Calculation 1.2'!AO28 -> 3971.745 | AA40: ='Calculation 1.2'!AP28 -> 19.806 | AB40: =IF('Calculation 1.2'!AQ28="","",IF('Calculation 1.2'!AQ28>=50,"**",IF('Calculation 1.2'!AQ28>=25,"*",""))) | AD40: ='Calculation 1.2'!AS28 -> 13362.513 | AE40: ='Calculation 1.2'!AT28 -> 66.635 | AF40: =IF('Calculation 1.2'!AU28="","",IF('Calculation 1.2'!AU28>=50,"**",IF('Calculation 1.2'!AU28>=25,"*",""))) | AH40: ='Calculation 1.2'!AW28 -> 16.745 | AI40: ='Calculation 1.2'!AX28 -> 0.084 | AJ40: =IF('Calculation 1.2'!AY28="","",IF('Calculation 1.2'!AY28>=50,"**",IF('Calculation 1.2'!AY28>=25,"*",""))) -> * | AK40: ='Calculation 1.2'!AZ28 -> 422.063 | AL40: ='Calculation 1.2'!BA28 -> 2.105 | AM40: =IF('Calculation 1.2'!BB28="","",IF('Calculation 1.2'!BB28>=50,"**",IF('Calculation 1.2'!BB28>=25,"*",""))) | AN40: ='Calculation 1.2'!BC28 -> 438.808 | AO40: ='Calculation 1.2'!BD28 -> 2.188 | AP40: =IF('Calculation 1.2'!BE28="","",IF('Calculation 1.2'!BE28>=50,"**",IF('Calculation 1.2'!BE28>=25,"*",""))) | AR40: ='Calculation 1.2'!BG28 -> 13801.321 | AS40: ='Calculation 1.2'!BH28 -> 68.823 | AT40: =IF('Calculation 1.2'!BI28="","",IF('Calculation 1.2'!BI28>=50,"**",IF('Calculation 1.2'!BI28>=25,"*",""))) | AV40: ='Calculation 1.2'!BK28 -> 6251.946 | AW40: ='Calculation 1.2'!BL28 -> 31.177 | AX40: =IF('Calculation 1.2'!BM28="","",IF('Calculation 1.2'!BM28>=50,"**",IF('Calculation 1.2'!BM28>=25,"*",""))) | AZ40: ='Calculation 1.2'!BO28 -> 20053.267 | BA40: ='Calculation 1.2'!BP28 -> 100 | BB40: =IF('Calculation 1.2'!BQ28="","",IF('Calculation 1.2'!BQ28>=50,"**",IF('Calculation 1.2'!BQ28>=25,"*","")))
A41: =TEXT(DATE(YEAR(A37)+1,1,1),"yyyy") & "-" & TEXT(DATE(YEAR(A37)+2,1,1),"yy") -> 2023-24 | B41: ='Calculation 1.2'!Q29 | C41: ='Calculation 1.2'!R29 | D41: =IF('Calculation 1.2'!S29="","",IF('Calculation 1.2'!S29>=50,"**",IF('Calculation 1.2'!S29>=25,"*",""))) | F41: ='Calculation 1.2'!U29 | G41: ='Calculation 1.2'!V29 | H41: =IF('Calculation 1.2'!W29="","",IF('Calculation 1.2'!W29>=50,"**",IF('Calculation 1.2'!W29>=25,"*",""))) | I41: ='Calculation 1.2'!X29 | J41: ='Calculation 1.2'!Y29 | K41: =IF('Calculation 1.2'!Z29="","",IF('Calculation 1.2'!Z29>=50,"**",IF('Calculation 1.2'!Z29>=25,"*",""))) | L41: ='Calculation 1.2'!AA29 | M41: ='Calculation 1.2'!AB29 | N41: =IF('Calculation 1.2'!AC29="","",IF('Calculation 1.2'!AC29>=50,"**",IF('Calculation 1.2'!AC29>=25,"*",""))) | O41: ='Calculation 1.2'!AD29 | P41: ='Calculation 1.2'!AE29 | Q41: =IF('Calculation 1.2'!AF29="","",IF('Calculation 1.2'!AF29>=50,"**",IF('Calculation 1.2'!AF29>=25,"*",""))) | R41: ='Calculation 1.2'!AG29 | S41: ='Calculation 1.2'!AH29 | T41: =IF('Calculation 1.2'!AI29="","",IF('Calculation 1.2'!AI29>=50,"**",IF('Calculation 1.2'!AI29>=25,"*",""))) | V41: ='Calculation 1.2'!AK29 | W41: ='Calculation 1.2'!AL29 | X41: =IF('Calculation 1.2'!AM29="","",IF('Calculation 1.2'!AM29>=50,"**",IF('Calculation 1.2'!AM29>=25,"*",""))) | Z41: ='Calculation 1.2'!AO29 | AA41: ='Calculation 1.2'!AP29 | AB41: =IF('Calculation 1.2'!AQ29="","",IF('Calculation 1.2'!AQ29>=50,"**",IF('Calculation 1.2'!AQ29>=25,"*",""))) | AD41: ='Calculation 1.2'!AS29 | AE41: ='Calculation 1.2'!AT29 | AF41: =IF('Calculation 1.2'!AU29="","",IF('Calculation 1.2'!AU29>=50,"**",IF('Calculation 1.2'!AU29>=25,"*",""))) | AH41: ='Calculation 1.2'!AW29 | AI41: ='Calculation 1.2'!AX29 | AJ41: =IF('Calculation 1.2'!AY29="","",IF('Calculation 1.2'!AY29>=50,"**",IF('Calculation 1.2'!AY29>=25,"*",""))) | AK41: ='Calculation 1.2'!AZ29 | AL41: ='Calculation 1.2'!BA29 | AM41: =IF('Calculation 1.2'!BB29="","",IF('Calculation 1.2'!BB29>=50,"**",IF('Calculation 1.2'!BB29>=25,"*",""))) | AN41: ='Calculation 1.2'!BC29 | AO41: ='Calculation 1.2'!BD29 | AP41: =IF('Calculation 1.2'!BE29="","",IF('Calculation 1.2'!BE29>=50,"**",IF('Calculation 1.2'!BE29>=25,"*",""))) | AR41: ='Calculation 1.2'!BG29 | AS41: ='Calculation 1.2'!BH29 | AT41: =IF('Calculation 1.2'!BI29="","",IF('Calculation 1.2'!BI29>=50,"**",IF('Calculation 1.2'!BI29>=25,"*",""))) | AV41: ='Calculation 1.2'!BK29 | AW41: ='Calculation 1.2'!BL29 | AX41: =IF('Calculation 1.2'!BM29="","",IF('Calculation 1.2'!BM29>=50,"**",IF('Calculation 1.2'!BM29>=25,"*",""))) | AZ41: ='Calculation 1.2'!BO29 | BA41: ='Calculation 1.2'!BP29 | BB41: =IF('Calculation 1.2'!BQ29="","",IF('Calculation 1.2'!BQ29>=50,"**",IF('Calculation 1.2'!BQ29>=25,"*","")))
A42: =TEXT(DATE(YEAR(A37)+1,9,1), "mmm-yy") -> Sep-23 | B42: ='Calculation 1.2'!Q30 -> 9320.617 | C42: ='Calculation 1.2'!R30 -> 46.106 | D42: =IF('Calculation 1.2'!S30="","",IF('Calculation 1.2'!S30>=50,"**",IF('Calculation 1.2'!S30>=25,"*",""))) | F42: ='Calculation 1.2'!U30 -> 302.34 | G42: ='Calculation 1.2'!V30 -> 1.496 | H42: =IF('Calculation 1.2'!W30="","",IF('Calculation 1.2'!W30>=50,"**",IF('Calculation 1.2'!W30>=25,"*",""))) | I42: ='Calculation 1.2'!X30 -> 405.575 | J42: ='Calculation 1.2'!Y30 -> 2.006 | K42: =IF('Calculation 1.2'!Z30="","",IF('Calculation 1.2'!Z30>=50,"**",IF('Calculation 1.2'!Z30>=25,"*",""))) | L42: ='Calculation 1.2'!AA30 -> 707.915 | M42: ='Calculation 1.2'!AB30 -> 3.502 | N42: =IF('Calculation 1.2'!AC30="","",IF('Calculation 1.2'!AC30>=50,"**",IF('Calculation 1.2'!AC30>=25,"*",""))) | O42: ='Calculation 1.2'!AD30 -> 90.965 | P42: ='Calculation 1.2'!AE30 -> 0.45 | Q42: =IF('Calculation 1.2'!AF30="","",IF('Calculation 1.2'!AF30>=50,"**",IF('Calculation 1.2'!AF30>=25,"*",""))) -> * | R42: ='Calculation 1.2'!AG30 -> 798.881 | S42: ='Calculation 1.2'!AH30 -> 3.952 | T42: =IF('Calculation 1.2'!AI30="","",IF('Calculation 1.2'!AI30>=50,"**",IF('Calculation 1.2'!AI30>=25,"*",""))) | V42: ='Calculation 1.2'!AK30 -> 3263.65 | W42: ='Calculation 1.2'!AL30 -> 16.144 | X42: =IF('Calculation 1.2'!AM30="","",IF('Calculation 1.2'!AM30>=50,"**",IF('Calculation 1.2'!AM30>=25,"*",""))) | Z42: ='Calculation 1.2'!AO30 -> 4062.531 | AA42: ='Calculation 1.2'!AP30 -> 20.096 | AB42: =IF('Calculation 1.2'!AQ30="","",IF('Calculation 1.2'!AQ30>=50,"**",IF('Calculation 1.2'!AQ30>=25,"*",""))) | AD42: ='Calculation 1.2'!AS30 -> 13383.148 | AE42: ='Calculation 1.2'!AT30 -> 66.202 | AF42: =IF('Calculation 1.2'!AU30="","",IF('Calculation 1.2'!AU30>=50,"**",IF('Calculation 1.2'!AU30>=25,"*",""))) | AH42: ='Calculation 1.2'!AW30 -> 32.513 | AI42: ='Calculation 1.2'!AX30 -> 0.161 | AJ42: =IF('Calculation 1.2'!AY30="","",IF('Calculation 1.2'!AY30>=50,"**",IF('Calculation 1.2'!AY30>=25,"*",""))) -> * | AK42: ='Calculation 1.2'!AZ30 -> 407.671 | AL42: ='Calculation 1.2'!BA30 -> 2.017 | AM42: =IF('Calculation 1.2'!BB30="","",IF('Calculation 1.2'!BB30>=50,"**",IF('Calculation 1.2'!BB30>=25,"*",""))) | AN42: ='Calculation 1.2'!BC30 -> 440.183 | AO42: ='Calculation 1.2'!BD30 -> 2.177 | AP42: =IF('Calculation 1.2'!BE30="","",IF('Calculation 1.2'!BE30>=50,"**",IF('Calculation 1.2'!BE30>=25,"*",""))) | AR42: ='Calculation 1.2'!BG30 -> 13823.331 | AS42: ='Calculation 1.2'!BH30 -> 68.38 | AT42: =IF('Calculation 1.2'!BI30="","",IF('Calculation 1.2'!BI30>=50,"**",IF('Calculation 1.2'!BI30>=25,"*",""))) | AV42: ='Calculation 1.2'!BK30 -> 6392.184 | AW42: ='Calculation 1.2'!BL30 -> 31.62 | AX42: =IF('Calculation 1.2'!BM30="","",IF('Calculation 1.2'!BM30>=50,"**",IF('Calculation 1.2'!BM30>=25,"*",""))) | AZ42: ='Calculation 1.2'!BO30 -> 20215.515 | BA42: ='Calculation 1.2'!BP30 -> 100 | BB42: =IF('Calculation 1.2'!BQ30="","",IF('Calculation 1.2'!BQ30>=50,"**",IF('Calculation 1.2'!BQ30>=25,"*","")))
A43: =TEXT(DATE(YEAR(A37)+1,12,1), "mmm-yy") -> Dec-23 | B43: ='Calculation 1.2'!Q31 -> 9427.207 | C43: ='Calculation 1.2'!R31 -> 46.295 | D43: =IF('Calculation 1.2'!S31="","",IF('Calculation 1.2'!S31>=50,"**",IF('Calculation 1.2'!S31>=25,"*",""))) | F43: ='Calculation 1.2'!U31 -> 302.986 | G43: ='Calculation 1.2'!V31 -> 1.488 | H43: =IF('Calculation 1.2'!W31="","",IF('Calculation 1.2'!W31>=50,"**",IF('Calculation 1.2'!W31>=25,"*",""))) | I43: ='Calculation 1.2'!X31 -> 402.087 | J43: ='Calculation 1.2'!Y31 -> 1.975 | K43: =IF('Calculation 1.2'!Z31="","",IF('Calculation 1.2'!Z31>=50,"**",IF('Calculation 1.2'!Z31>=25,"*",""))) | L43: ='Calculation 1.2'!AA31 -> 705.074 | M43: ='Calculation 1.2'!AB31 -> 3.462 | N43: =IF('Calculation 1.2'!AC31="","",IF('Calculation 1.2'!AC31>=50,"**",IF('Calculation 1.2'!AC31>=25,"*",""))) | O43: ='Calculation 1.2'!AD31 -> 90.201 | P43: ='Calculation 1.2'!AE31 -> 0.443 | Q43: =IF('Calculation 1.2'!AF31="","",IF('Calculation 1.2'!AF31>=50,"**",IF('Calculation 1.2'!AF31>=25,"*",""))) | R43: ='Calculation 1.2'!AG31 -> 795.274 | S43: ='Calculation 1.2'!AH31 -> 3.905 | T43: =IF('Calculation 1.2'!AI31="","",IF('Calculation 1.2'!AI31>=50,"**",IF('Calculation 1.2'!AI31>=25,"*",""))) | V43: ='Calculation 1.2'!AK31 -> 3346.469 | W43: ='Calculation 1.2'!AL31 -> 16.434 | X43: =IF('Calculation 1.2'!AM31="","",IF('Calculation 1.2'!AM31>=50,"**",IF('Calculation 1.2'!AM31>=25,"*",""))) | Z43: ='Calculation 1.2'!AO31 -> 4141.744 | AA43: ='Calculation 1.2'!AP31 -> 20.339 | AB43: =IF('Calculation 1.2'!AQ31="","",IF('Calculation 1.2'!AQ31>=50,"**",IF('Calculation 1.2'!AQ31>=25,"*",""))) | AD43: ='Calculation 1.2'!AS31 -> 13568.951 | AE43: ='Calculation 1.2'!AT31 -> 66.634 | AF43: =IF('Calculation 1.2'!AU31="","",IF('Calculation 1.2'!AU31>=50,"**",IF('Calculation 1.2'!AU31>=25,"*",""))) | AH43: ='Calculation 1.2'!AW31 -> 23.514 | AI43: ='Calculation 1.2'!AX31 -> 0.115 | AJ43: =IF('Calculation 1.2'!AY31="","",IF('Calculation 1.2'!AY31>=50,"**",IF('Calculation 1.2'!AY31>=25,"*",""))) -> ** | AK43: ='Calculation 1.2'!AZ31 -> 415.781 | AL43: ='Calculation 1.2'!BA31 -> 2.042 | AM43: =IF('Calculation 1.2'!BB31="","",IF('Calculation 1.2'!BB31>=50,"**",IF('Calculation 1.2'!BB31>=25,"*",""))) | AN43: ='Calculation 1.2'!BC31 -> 439.295 | AO43: ='Calculation 1.2'!BD31 -> 2.157 | AP43: =IF('Calculation 1.2'!BE31="","",IF('Calculation 1.2'!BE31>=50,"**",IF('Calculation 1.2'!BE31>=25,"*",""))) | AR43: ='Calculation 1.2'!BG31 -> 14008.245 | AS43: ='Calculation 1.2'!BH31 -> 68.791 | AT43: =IF('Calculation 1.2'!BI31="","",IF('Calculation 1.2'!BI31>=50,"**",IF('Calculation 1.2'!BI31>=25,"*",""))) | AV43: ='Calculation 1.2'!BK31 -> 6355.243 | AW43: ='Calculation 1.2'!BL31 -> 31.209 | AX43: =IF('Calculation 1.2'!BM31="","",IF('Calculation 1.2'!BM31>=50,"**",IF('Calculation 1.2'!BM31>=25,"*",""))) | AZ43: ='Calculation 1.2'!BO31 -> 20363.488 | BA43: ='Calculation 1.2'!BP31 -> 100 | BB43: =IF('Calculation 1.2'!BQ31="","",IF('Calculation 1.2'!BQ31>=50,"**",IF('Calculation 1.2'!BQ31>=25,"*","")))
A44: =TEXT(DATE(YEAR(A37)+2,3,1), "mmm-yy") -> Mar-24 | B44: ='Calculation 1.2'!Q32 -> 9423.034 | C44: ='Calculation 1.2'!R32 -> 45.972 | D44: =IF('Calculation 1.2'!S32="","",IF('Calculation 1.2'!S32>=50,"**",IF('Calculation 1.2'!S32>=25,"*",""))) | F44: ='Calculation 1.2'!U32 -> 376.009 | G44: ='Calculation 1.2'!V32 -> 1.834 | H44: =IF('Calculation 1.2'!W32="","",IF('Calculation 1.2'!W32>=50,"**",IF('Calculation 1.2'!W32>=25,"*",""))) | I44: ='Calculation 1.2'!X32 -> 451.4 | J44: ='Calculation 1.2'!Y32 -> 2.202 | K44: =IF('Calculation 1.2'!Z32="","",IF('Calculation 1.2'!Z32>=50,"**",IF('Calculation 1.2'!Z32>=25,"*",""))) | L44: ='Calculation 1.2'!AA32 -> 827.409 | M44: ='Calculation 1.2'!AB32 -> 4.037 | N44: =IF('Calculation 1.2'!AC32="","",IF('Calculation 1.2'!AC32>=50,"**",IF('Calculation 1.2'!AC32>=25,"*",""))) | O44: ='Calculation 1.2'!AD32 -> 110.548 | P44: ='Calculation 1.2'!AE32 -> 0.539 | Q44: =IF('Calculation 1.2'!AF32="","",IF('Calculation 1.2'!AF32>=50,"**",IF('Calculation 1.2'!AF32>=25,"*",""))) | R44: ='Calculation 1.2'!AG32 -> 937.957 | S44: ='Calculation 1.2'!AH32 -> 4.576 | T44: =IF('Calculation 1.2'!AI32="","",IF('Calculation 1.2'!AI32>=50,"**",IF('Calculation 1.2'!AI32>=25,"*",""))) | V44: ='Calculation 1.2'!AK32 -> 3155.002 | W44: ='Calculation 1.2'!AL32 -> 15.392 | X44: =IF('Calculation 1.2'!AM32="","",IF('Calculation 1.2'!AM32>=50,"**",IF('Calculation 1.2'!AM32>=25,"*",""))) | Z44: ='Calculation 1.2'!AO32 -> 4092.959 | AA44: ='Calculation 1.2'!AP32 -> 19.968 | AB44: =IF('Calculation 1.2'!AQ32="","",IF('Calculation 1.2'!AQ32>=50,"**",IF('Calculation 1.2'!AQ32>=25,"*",""))) | AD44: ='Calculation 1.2'!AS32 -> 13515.993 | AE44: ='Calculation 1.2'!AT32 -> 65.941 | AF44: =IF('Calculation 1.2'!AU32="","",IF('Calculation 1.2'!AU32>=50,"**",IF('Calculation 1.2'!AU32>=25,"*",""))) | AH44: ='Calculation 1.2'!AW32 -> 57.994 | AI44: ='Calculation 1.2'!AX32 -> 0.283 | AJ44: =IF('Calculation 1.2'!AY32="","",IF('Calculation 1.2'!AY32>=50,"**",IF('Calculation 1.2'!AY32>=25,"*",""))) -> * | AK44: ='Calculation 1.2'!AZ32 -> 466.724 | AL44: ='Calculation 1.2'!BA32 -> 2.277 | AM44: =IF('Calculation 1.2'!BB32="","",IF('Calculation 1.2'!BB32>=50,"**",IF('Calculation 1.2'!BB32>=25,"*",""))) | AN44: ='Calculation 1.2'!BC32 -> 524.718 | AO44: ='Calculation 1.2'!BD32 -> 2.56 | AP44: =IF('Calculation 1.2'!BE32="","",IF('Calculation 1.2'!BE32>=50,"**",IF('Calculation 1.2'!BE32>=25,"*",""))) | AR44: ='Calculation 1.2'!BG32 -> 14040.711 | AS44: ='Calculation 1.2'!BH32 -> 68.501 | AT44: =IF('Calculation 1.2'!BI32="","",IF('Calculation 1.2'!BI32>=50,"**",IF('Calculation 1.2'!BI32>=25,"*",""))) | AV44: ='Calculation 1.2'!BK32 -> 6456.526 | AW44: ='Calculation 1.2'!BL32 -> 31.499 | AX44: =IF('Calculation 1.2'!BM32="","",IF('Calculation 1.2'!BM32>=50,"**",IF('Calculation 1.2'!BM32>=25,"*",""))) | AZ44: ='Calculation 1.2'!BO32 -> 20497.237 | BA44: ='Calculation 1.2'!BP32 -> 100 | BB44: =IF('Calculation 1.2'!BQ32="","",IF('Calculation 1.2'!BQ32>=50,"**",IF('Calculation 1.2'!BQ32>=25,"*","")))
A45: =TEXT(DATE(YEAR(A37)+2,6,1), "mmm-yy") -> Jun-24 | B45: ='Calculation 1.2'!Q33 -> 9442.716 | C45: ='Calculation 1.2'!R33 -> 45.806 | D45: =IF('Calculation 1.2'!S33="","",IF('Calculation 1.2'!S33>=50,"**",IF('Calculation 1.2'!S33>=25,"*",""))) | F45: ='Calculation 1.2'!U33 -> 394.38 | G45: ='Calculation 1.2'!V33 -> 1.913 | H45: =IF('Calculation 1.2'!W33="","",IF('Calculation 1.2'!W33>=50,"**",IF('Calculation 1.2'!W33>=25,"*",""))) | I45: ='Calculation 1.2'!X33 -> 435.792 | J45: ='Calculation 1.2'!Y33 -> 2.114 | K45: =IF('Calculation 1.2'!Z33="","",IF('Calculation 1.2'!Z33>=50,"**",IF('Calculation 1.2'!Z33>=25,"*",""))) | L45: ='Calculation 1.2'!AA33 -> 830.172 | M45: ='Calculation 1.2'!AB33 -> 4.027 | N45: =IF('Calculation 1.2'!AC33="","",IF('Calculation 1.2'!AC33>=50,"**",IF('Calculation 1.2'!AC33>=25,"*",""))) | O45: ='Calculation 1.2'!AD33 -> 148.552 | P45: ='Calculation 1.2'!AE33 -> 0.721 | Q45: =IF('Calculation 1.2'!AF33="","",IF('Calculation 1.2'!AF33>=50,"**",IF('Calculation 1.2'!AF33>=25,"*",""))) | R45: ='Calculation 1.2'!AG33 -> 978.724 | S45: ='Calculation 1.2'!AH33 -> 4.748 | T45: =IF('Calculation 1.2'!AI33="","",IF('Calculation 1.2'!AI33>=50,"**",IF('Calculation 1.2'!AI33>=25,"*",""))) | V45: ='Calculation 1.2'!AK33 -> 3275.84 | W45: ='Calculation 1.2'!AL33 -> 15.891 | X45: =IF('Calculation 1.2'!AM33="","",IF('Calculation 1.2'!AM33>=50,"**",IF('Calculation 1.2'!AM33>=25,"*",""))) | Z45: ='Calculation 1.2'!AO33 -> 4254.564 | AA45: ='Calculation 1.2'!AP33 -> 20.639 | AB45: =IF('Calculation 1.2'!AQ33="","",IF('Calculation 1.2'!AQ33>=50,"**",IF('Calculation 1.2'!AQ33>=25,"*",""))) | AD45: ='Calculation 1.2'!AS33 -> 13697.28 | AE45: ='Calculation 1.2'!AT33 -> 66.445 | AF45: =IF('Calculation 1.2'!AU33="","",IF('Calculation 1.2'!AU33>=50,"**",IF('Calculation 1.2'!AU33>=25,"*",""))) | AH45: ='Calculation 1.2'!AW33 -> 34.644 | AI45: ='Calculation 1.2'!AX33 -> 0.168 | AJ45: =IF('Calculation 1.2'!AY33="","",IF('Calculation 1.2'!AY33>=50,"**",IF('Calculation 1.2'!AY33>=25,"*",""))) -> ** | AK45: ='Calculation 1.2'!AZ33 -> 474.48 | AL45: ='Calculation 1.2'!BA33 -> 2.302 | AM45: =IF('Calculation 1.2'!BB33="","",IF('Calculation 1.2'!BB33>=50,"**",IF('Calculation 1.2'!BB33>=25,"*",""))) | AN45: ='Calculation 1.2'!BC33 -> 509.124 | AO45: ='Calculation 1.2'!BD33 -> 2.47 | AP45: =IF('Calculation 1.2'!BE33="","",IF('Calculation 1.2'!BE33>=50,"**",IF('Calculation 1.2'!BE33>=25,"*",""))) | AR45: ='Calculation 1.2'!BG33 -> 14206.404 | AS45: ='Calculation 1.2'!BH33 -> 68.915 | AT45: =IF('Calculation 1.2'!BI33="","",IF('Calculation 1.2'!BI33>=50,"**",IF('Calculation 1.2'!BI33>=25,"*",""))) | AV45: ='Calculation 1.2'!BK33 -> 6408.057 | AW45: ='Calculation 1.2'!BL33 -> 31.085 | AX45: =IF('Calculation 1.2'!BM33="","",IF('Calculation 1.2'!BM33>=50,"**",IF('Calculation 1.2'!BM33>=25,"*",""))) | AZ45: ='Calculation 1.2'!BO33 -> 20614.461 | BA45: ='Calculation 1.2'!BP33 -> 100 | BB45: =IF('Calculation 1.2'!BQ33="","",IF('Calculation 1.2'!BQ33>=50,"**",IF('Calculation 1.2'!BQ33>=25,"*","")))
A46: =TEXT(DATE(YEAR(A42)+1,1,1),"yyyy") & "-" & TEXT(DATE(YEAR(A42)+2,1,1),"yy") -> 2024-25 | B46: ='Calculation 1.2'!Q34 | C46: ='Calculation 1.2'!R34 | D46: =IF('Calculation 1.2'!S34="","",IF('Calculation 1.2'!S34>=50,"**",IF('Calculation 1.2'!S34>=25,"*",""))) | F46: ='Calculation 1.2'!U34 | G46: ='Calculation 1.2'!V34 | H46: =IF('Calculation 1.2'!W34="","",IF('Calculation 1.2'!W34>=50,"**",IF('Calculation 1.2'!W34>=25,"*",""))) | I46: ='Calculation 1.2'!X34 | J46: ='Calculation 1.2'!Y34 | K46: =IF('Calculation 1.2'!Z34="","",IF('Calculation 1.2'!Z34>=50,"**",IF('Calculation 1.2'!Z34>=25,"*",""))) | L46: ='Calculation 1.2'!AA34 | M46: ='Calculation 1.2'!AB34 | N46: =IF('Calculation 1.2'!AC34="","",IF('Calculation 1.2'!AC34>=50,"**",IF('Calculation 1.2'!AC34>=25,"*",""))) | O46: ='Calculation 1.2'!AD34 | P46: ='Calculation 1.2'!AE34 | Q46: =IF('Calculation 1.2'!AF34="","",IF('Calculation 1.2'!AF34>=50,"**",IF('Calculation 1.2'!AF34>=25,"*",""))) | R46: ='Calculation 1.2'!AG34 | S46: ='Calculation 1.2'!AH34 | T46: =IF('Calculation 1.2'!AI34="","",IF('Calculation 1.2'!AI34>=50,"**",IF('Calculation 1.2'!AI34>=25,"*",""))) | V46: ='Calculation 1.2'!AK34 | W46: ='Calculation 1.2'!AL34 | X46: =IF('Calculation 1.2'!AM34="","",IF('Calculation 1.2'!AM34>=50,"**",IF('Calculation 1.2'!AM34>=25,"*",""))) | Z46: ='Calculation 1.2'!AO34 | AA46: ='Calculation 1.2'!AP34 | AB46: =IF('Calculation 1.2'!AQ34="","",IF('Calculation 1.2'!AQ34>=50,"**",IF('Calculation 1.2'!AQ34>=25,"*",""))) | AD46: ='Calculation 1.2'!AS34 | AE46: ='Calculation 1.2'!AT34 | AF46: =IF('Calculation 1.2'!AU34="","",IF('Calculation 1.2'!AU34>=50,"**",IF('Calculation 1.2'!AU34>=25,"*",""))) | AH46: ='Calculation 1.2'!AW34 | AI46: ='Calculation 1.2'!AX34 | AJ46: =IF('Calculation 1.2'!AY34="","",IF('Calculation 1.2'!AY34>=50,"**",IF('Calculation 1.2'!AY34>=25,"*",""))) | AK46: ='Calculation 1.2'!AZ34 | AL46: ='Calculation 1.2'!BA34 | AM46: =IF('Calculation 1.2'!BB34="","",IF('Calculation 1.2'!BB34>=50,"**",IF('Calculation 1.2'!BB34>=25,"*",""))) | AN46: ='Calculation 1.2'!BC34 | AO46: ='Calculation 1.2'!BD34 | AP46: =IF('Calculation 1.2'!BE34="","",IF('Calculation 1.2'!BE34>=50,"**",IF('Calculation 1.2'!BE34>=25,"*",""))) | AR46: ='Calculation 1.2'!BG34 | AS46: ='Calculation 1.2'!BH34 | AT46: =IF('Calculation 1.2'!BI34="","",IF('Calculation 1.2'!BI34>=50,"**",IF('Calculation 1.2'!BI34>=25,"*",""))) | AV46: ='Calculation 1.2'!BK34 | AW46: ='Calculation 1.2'!BL34 | AX46: =IF('Calculation 1.2'!BM34="","",IF('Calculation 1.2'!BM34>=50,"**",IF('Calculation 1.2'!BM34>=25,"*",""))) | AZ46: ='Calculation 1.2'!BO34 | BA46: ='Calculation 1.2'!BP34 | BB46: =IF('Calculation 1.2'!BQ34="","",IF('Calculation 1.2'!BQ34>=50,"**",IF('Calculation 1.2'!BQ34>=25,"*","")))
A47: =TEXT(DATE(YEAR(A42)+1,9,1), "mmm-yy") -> Sep-24 | B47: ='Calculation 1.2'!Q35 -> 9508.459 | C47: ='Calculation 1.2'!R35 -> 45.938 | D47: =IF('Calculation 1.2'!S35="","",IF('Calculation 1.2'!S35>=50,"**",IF('Calculation 1.2'!S35>=25,"*",""))) | F47: ='Calculation 1.2'!U35 -> 276.861 | G47: ='Calculation 1.2'!V35 -> 1.338 | H47: =IF('Calculation 1.2'!W35="","",IF('Calculation 1.2'!W35>=50,"**",IF('Calculation 1.2'!W35>=25,"*",""))) | I47: ='Calculation 1.2'!X35 -> 369.92 | J47: ='Calculation 1.2'!Y35 -> 1.787 | K47: =IF('Calculation 1.2'!Z35="","",IF('Calculation 1.2'!Z35>=50,"**",IF('Calculation 1.2'!Z35>=25,"*",""))) | L47: ='Calculation 1.2'!AA35 -> 646.781 | M47: ='Calculation 1.2'!AB35 -> 3.125 | N47: =IF('Calculation 1.2'!AC35="","",IF('Calculation 1.2'!AC35>=50,"**",IF('Calculation 1.2'!AC35>=25,"*",""))) | O47: ='Calculation 1.2'!AD35 -> 89.026 | P47: ='Calculation 1.2'!AE35 -> 0.43 | Q47: =IF('Calculation 1.2'!AF35="","",IF('Calculation 1.2'!AF35>=50,"**",IF('Calculation 1.2'!AF35>=25,"*",""))) -> * | R47: ='Calculation 1.2'!AG35 -> 735.807 | S47: ='Calculation 1.2'!AH35 -> 3.555 | T47: =IF('Calculation 1.2'!AI35="","",IF('Calculation 1.2'!AI35>=50,"**",IF('Calculation 1.2'!AI35>=25,"*",""))) | V47: ='Calculation 1.2'!AK35 -> 3492.459 | W47: ='Calculation 1.2'!AL35 -> 16.873 | X47: =IF('Calculation 1.2'!AM35="","",IF('Calculation 1.2'!AM35>=50,"**",IF('Calculation 1.2'!AM35>=25,"*",""))) | Z47: ='Calculation 1.2'!AO35 -> 4228.266 | AA47: ='Calculation 1.2'!AP35 -> 20.428 | AB47: =IF('Calculation 1.2'!AQ35="","",IF('Calculation 1.2'!AQ35>=50,"**",IF('Calculation 1.2'!AQ35>=25,"*",""))) | AD47: ='Calculation 1.2'!AS35 -> 13736.725 | AE47: ='Calculation 1.2'!AT35 -> 66.366 | AF47: =IF('Calculation 1.2'!AU35="","",IF('Calculation 1.2'!AU35>=50,"**",IF('Calculation 1.2'!AU35>=25,"*",""))) | AH47: ='Calculation 1.2'!AW35 -> 57.952 | AI47: ='Calculation 1.2'!AX35 -> 0.28 | AJ47: =IF('Calculation 1.2'!AY35="","",IF('Calculation 1.2'!AY35>=50,"**",IF('Calculation 1.2'!AY35>=25,"*",""))) -> * | AK47: ='Calculation 1.2'!AZ35 -> 457.09 | AL47: ='Calculation 1.2'!BA35 -> 2.208 | AM47: =IF('Calculation 1.2'!BB35="","",IF('Calculation 1.2'!BB35>=50,"**",IF('Calculation 1.2'!BB35>=25,"*",""))) | AN47: ='Calculation 1.2'!BC35 -> 515.043 | AO47: ='Calculation 1.2'!BD35 -> 2.488 | AP47: =IF('Calculation 1.2'!BE35="","",IF('Calculation 1.2'!BE35>=50,"**",IF('Calculation 1.2'!BE35>=25,"*",""))) | AR47: ='Calculation 1.2'!BG35 -> 14251.768 | AS47: ='Calculation 1.2'!BH35 -> 68.854 | AT47: =IF('Calculation 1.2'!BI35="","",IF('Calculation 1.2'!BI35>=50,"**",IF('Calculation 1.2'!BI35>=25,"*",""))) | AV47: ='Calculation 1.2'!BK35 -> 6446.681 | AW47: ='Calculation 1.2'!BL35 -> 31.146 | AX47: =IF('Calculation 1.2'!BM35="","",IF('Calculation 1.2'!BM35>=50,"**",IF('Calculation 1.2'!BM35>=25,"*",""))) | AZ47: ='Calculation 1.2'!BO35 -> 20698.449 | BA47: ='Calculation 1.2'!BP35 -> 100 | BB47: =IF('Calculation 1.2'!BQ35="","",IF('Calculation 1.2'!BQ35>=50,"**",IF('Calculation 1.2'!BQ35>=25,"*","")))
A48: =TEXT(DATE(YEAR(A42)+1,12,1), "mmm-yy") -> Dec-24 | B48: ='Calculation 1.2'!Q36 -> 9588.106 | C48: ='Calculation 1.2'!R36 -> 46.102 | D48: =IF('Calculation 1.2'!S36="","",IF('Calculation 1.2'!S36>=50,"**",IF('Calculation 1.2'!S36>=25,"*",""))) | F48: ='Calculation 1.2'!U36 -> 381.447 | G48: ='Calculation 1.2'!V36 -> 1.834 | H48: =IF('Calculation 1.2'!W36="","",IF('Calculation 1.2'!W36>=50,"**",IF('Calculation 1.2'!W36>=25,"*",""))) | I48: ='Calculation 1.2'!X36 -> 387.661 | J48: ='Calculation 1.2'!Y36 -> 1.864 | K48: =IF('Calculation 1.2'!Z36="","",IF('Calculation 1.2'!Z36>=50,"**",IF('Calculation 1.2'!Z36>=25,"*",""))) | L48: ='Calculation 1.2'!AA36 -> 769.108 | M48: ='Calculation 1.2'!AB36 -> 3.698 | N48: =IF('Calculation 1.2'!AC36="","",IF('Calculation 1.2'!AC36>=50,"**",IF('Calculation 1.2'!AC36>=25,"*",""))) | O48: ='Calculation 1.2'!AD36 -> 130.707 | P48: ='Calculation 1.2'!AE36 -> 0.628 | Q48: =IF('Calculation 1.2'!AF36="","",IF('Calculation 1.2'!AF36>=50,"**",IF('Calculation 1.2'!AF36>=25,"*",""))) | R48: ='Calculation 1.2'!AG36 -> 899.815 | S48: ='Calculation 1.2'!AH36 -> 4.327 | T48: =IF('Calculation 1.2'!AI36="","",IF('Calculation 1.2'!AI36>=50,"**",IF('Calculation 1.2'!AI36>=25,"*",""))) | V48: ='Calculation 1.2'!AK36 -> 3401.716 | W48: ='Calculation 1.2'!AL36 -> 16.356 | X48: =IF('Calculation 1.2'!AM36="","",IF('Calculation 1.2'!AM36>=50,"**",IF('Calculation 1.2'!AM36>=25,"*",""))) | Z48: ='Calculation 1.2'!AO36 -> 4301.532 | AA48: ='Calculation 1.2'!AP36 -> 20.683 | AB48: =IF('Calculation 1.2'!AQ36="","",IF('Calculation 1.2'!AQ36>=50,"**",IF('Calculation 1.2'!AQ36>=25,"*",""))) | AD48: ='Calculation 1.2'!AS36 -> 13889.638 | AE48: ='Calculation 1.2'!AT36 -> 66.785 | AF48: =IF('Calculation 1.2'!AU36="","",IF('Calculation 1.2'!AU36>=50,"**",IF('Calculation 1.2'!AU36>=25,"*",""))) | AH48: ='Calculation 1.2'!AW36 -> 22.038 | AI48: ='Calculation 1.2'!AX36 -> 0.106 | AJ48: =IF('Calculation 1.2'!AY36="","",IF('Calculation 1.2'!AY36>=50,"**",IF('Calculation 1.2'!AY36>=25,"*",""))) -> * | AK48: ='Calculation 1.2'!AZ36 -> 448.957 | AL48: ='Calculation 1.2'!BA36 -> 2.159 | AM48: =IF('Calculation 1.2'!BB36="","",IF('Calculation 1.2'!BB36>=50,"**",IF('Calculation 1.2'!BB36>=25,"*",""))) | AN48: ='Calculation 1.2'!BC36 -> 470.995 | AO48: ='Calculation 1.2'!BD36 -> 2.265 | AP48: =IF('Calculation 1.2'!BE36="","",IF('Calculation 1.2'!BE36>=50,"**",IF('Calculation 1.2'!BE36>=25,"*",""))) | AR48: ='Calculation 1.2'!BG36 -> 14360.633 | AS48: ='Calculation 1.2'!BH36 -> 69.05 | AT48: =IF('Calculation 1.2'!BI36="","",IF('Calculation 1.2'!BI36>=50,"**",IF('Calculation 1.2'!BI36>=25,"*",""))) | AV48: ='Calculation 1.2'!BK36 -> 6436.773 | AW48: ='Calculation 1.2'!BL36 -> 30.95 | AX48: =IF('Calculation 1.2'!BM36="","",IF('Calculation 1.2'!BM36>=50,"**",IF('Calculation 1.2'!BM36>=25,"*",""))) | AZ48: ='Calculation 1.2'!BO36 -> 20797.406 | BA48: ='Calculation 1.2'!BP36 -> 100 | BB48: =IF('Calculation 1.2'!BQ36="","",IF('Calculation 1.2'!BQ36>=50,"**",IF('Calculation 1.2'!BQ36>=25,"*","")))
A49: =TEXT(DATE(YEAR(A44)+1,3,1), "mmm-yy") -> Mar-25 | B49: ='Calculation 1.2'!Q37 -> 9561.382 | C49: ='Calculation 1.2'!R37 -> 45.769 | D49: =IF('Calculation 1.2'!S37="","",IF('Calculation 1.2'!S37>=50,"**",IF('Calculation 1.2'!S37>=25,"*",""))) | F49: ='Calculation 1.2'!U37 -> 328.191 | G49: ='Calculation 1.2'!V37 -> 1.571 | H49: =IF('Calculation 1.2'!W37="","",IF('Calculation 1.2'!W37>=50,"**",IF('Calculation 1.2'!W37>=25,"*",""))) | I49: ='Calculation 1.2'!X37 -> 312.992 | J49: ='Calculation 1.2'!Y37 -> 1.498 | K49: =IF('Calculation 1.2'!Z37="","",IF('Calculation 1.2'!Z37>=50,"**",IF('Calculation 1.2'!Z37>=25,"*",""))) | L49: ='Calculation 1.2'!AA37 -> 641.182 | M49: ='Calculation 1.2'!AB37 -> 3.069 | N49: =IF('Calculation 1.2'!AC37="","",IF('Calculation 1.2'!AC37>=50,"**",IF('Calculation 1.2'!AC37>=25,"*",""))) | O49: ='Calculation 1.2'!AD37 -> 69.083 | P49: ='Calculation 1.2'!AE37 -> 0.331 | Q49: =IF('Calculation 1.2'!AF37="","",IF('Calculation 1.2'!AF37>=50,"**",IF('Calculation 1.2'!AF37>=25,"*",""))) -> * | R49: ='Calculation 1.2'!AG37 -> 710.265 | S49: ='Calculation 1.2'!AH37 -> 3.4 | T49: =IF('Calculation 1.2'!AI37="","",IF('Calculation 1.2'!AI37>=50,"**",IF('Calculation 1.2'!AI37>=25,"*",""))) | V49: ='Calculation 1.2'!AK37 -> 3551.314 | W49: ='Calculation 1.2'!AL37 -> 17 | X49: =IF('Calculation 1.2'!AM37="","",IF('Calculation 1.2'!AM37>=50,"**",IF('Calculation 1.2'!AM37>=25,"*",""))) | Z49: ='Calculation 1.2'!AO37 -> 4261.579 | AA49: ='Calculation 1.2'!AP37 -> 20.4 | AB49: =IF('Calculation 1.2'!AQ37="","",IF('Calculation 1.2'!AQ37>=50,"**",IF('Calculation 1.2'!AQ37>=25,"*",""))) | AD49: ='Calculation 1.2'!AS37 -> 13822.961 | AE49: ='Calculation 1.2'!AT37 -> 66.169 | AF49: =IF('Calculation 1.2'!AU37="","",IF('Calculation 1.2'!AU37>=50,"**",IF('Calculation 1.2'!AU37>=25,"*",""))) | AH49: ='Calculation 1.2'!AW37 -> 45.738 | AI49: ='Calculation 1.2'!AX37 -> 0.219 | AJ49: =IF('Calculation 1.2'!AY37="","",IF('Calculation 1.2'!AY37>=50,"**",IF('Calculation 1.2'!AY37>=25,"*",""))) -> * | AK49: ='Calculation 1.2'!AZ37 -> 525.254 | AL49: ='Calculation 1.2'!BA37 -> 2.514 | AM49: =IF('Calculation 1.2'!BB37="","",IF('Calculation 1.2'!BB37>=50,"**",IF('Calculation 1.2'!BB37>=25,"*",""))) | AN49: ='Calculation 1.2'!BC37 -> 570.993 | AO49: ='Calculation 1.2'!BD37 -> 2.733 | AP49: =IF('Calculation 1.2'!BE37="","",IF('Calculation 1.2'!BE37>=50,"**",IF('Calculation 1.2'!BE37>=25,"*",""))) | AR49: ='Calculation 1.2'!BG37 -> 14393.954 | AS49: ='Calculation 1.2'!BH37 -> 68.902 | AT49: =IF('Calculation 1.2'!BI37="","",IF('Calculation 1.2'!BI37>=50,"**",IF('Calculation 1.2'!BI37>=25,"*",""))) | AV49: ='Calculation 1.2'!BK37 -> 6496.387 | AW49: ='Calculation 1.2'!BL37 -> 31.098 | AX49: =IF('Calculation 1.2'!BM37="","",IF('Calculation 1.2'!BM37>=50,"**",IF('Calculation 1.2'!BM37>=25,"*",""))) | AZ49: ='Calculation 1.2'!BO37 -> 20890.341 | BA49: ='Calculation 1.2'!BP37 -> 100 | BB49: =IF('Calculation 1.2'!BQ37="","",IF('Calculation 1.2'!BQ37>=50,"**",IF('Calculation 1.2'!BQ37>=25,"*","")))
A50: =TEXT(DATE(YEAR(A45)+1,6,1), "mmm-yy") -> Jun-25 | B50: ='Calculation 1.2'!Q38 -> 9673.829 | C50: ='Calculation 1.2'!R38 -> 46.12 | D50: =IF('Calculation 1.2'!S38="","",IF('Calculation 1.2'!S38>=50,"**",IF('Calculation 1.2'!S38>=25,"*",""))) | F50: ='Calculation 1.2'!U38 -> 420.825 | G50: ='Calculation 1.2'!V38 -> 2.006 | H50: =IF('Calculation 1.2'!W38="","",IF('Calculation 1.2'!W38>=50,"**",IF('Calculation 1.2'!W38>=25,"*",""))) | I50: ='Calculation 1.2'!X38 -> 372.357 | J50: ='Calculation 1.2'!Y38 -> 1.775 | K50: =IF('Calculation 1.2'!Z38="","",IF('Calculation 1.2'!Z38>=50,"**",IF('Calculation 1.2'!Z38>=25,"*",""))) | L50: ='Calculation 1.2'!AA38 -> 793.182 | M50: ='Calculation 1.2'!AB38 -> 3.782 | N50: =IF('Calculation 1.2'!AC38="","",IF('Calculation 1.2'!AC38>=50,"**",IF('Calculation 1.2'!AC38>=25,"*",""))) | O50: ='Calculation 1.2'!AD38 -> 59.334 | P50: ='Calculation 1.2'!AE38 -> 0.283 | Q50: =IF('Calculation 1.2'!AF38="","",IF('Calculation 1.2'!AF38>=50,"**",IF('Calculation 1.2'!AF38>=25,"*",""))) -> * | R50: ='Calculation 1.2'!AG38 -> 852.516 | S50: ='Calculation 1.2'!AH38 -> 4.064 | T50: =IF('Calculation 1.2'!AI38="","",IF('Calculation 1.2'!AI38>=50,"**",IF('Calculation 1.2'!AI38>=25,"*",""))) | V50: ='Calculation 1.2'!AK38 -> 3444.922 | W50: ='Calculation 1.2'!AL38 -> 16.424 | X50: =IF('Calculation 1.2'!AM38="","",IF('Calculation 1.2'!AM38>=50,"**",IF('Calculation 1.2'!AM38>=25,"*",""))) | Z50: ='Calculation 1.2'!AO38 -> 4297.438 | AA50: ='Calculation 1.2'!AP38 -> 20.488 | AB50: =IF('Calculation 1.2'!AQ38="","",IF('Calculation 1.2'!AQ38>=50,"**",IF('Calculation 1.2'!AQ38>=25,"*",""))) | AD50: ='Calculation 1.2'!AS38 -> 13971.266 | AE50: ='Calculation 1.2'!AT38 -> 66.608 | AF50: =IF('Calculation 1.2'!AU38="","",IF('Calculation 1.2'!AU38>=50,"**",IF('Calculation 1.2'!AU38>=25,"*",""))) | AH50: ='Calculation 1.2'!AW38 -> 41.653 | AI50: ='Calculation 1.2'!AX38 -> 0.199 | AJ50: =IF('Calculation 1.2'!AY38="","",IF('Calculation 1.2'!AY38>=50,"**",IF('Calculation 1.2'!AY38>=25,"*",""))) -> * | AK50: ='Calculation 1.2'!AZ38 -> 491.154 | AL50: ='Calculation 1.2'!BA38 -> 2.342 | AM50: =IF('Calculation 1.2'!BB38="","",IF('Calculation 1.2'!BB38>=50,"**",IF('Calculation 1.2'!BB38>=25,"*",""))) | AN50: ='Calculation 1.2'!BC38 -> 532.806 | AO50: ='Calculation 1.2'!BD38 -> 2.54 | AP50: =IF('Calculation 1.2'!BE38="","",IF('Calculation 1.2'!BE38>=50,"**",IF('Calculation 1.2'!BE38>=25,"*",""))) | AR50: ='Calculation 1.2'!BG38 -> 14504.073 | AS50: ='Calculation 1.2'!BH38 -> 69.149 | AT50: =IF('Calculation 1.2'!BI38="","",IF('Calculation 1.2'!BI38>=50,"**",IF('Calculation 1.2'!BI38>=25,"*",""))) | AV50: ='Calculation 1.2'!BK38 -> 6471.16 | AW50: ='Calculation 1.2'!BL38 -> 30.851 | AX50: =IF('Calculation 1.2'!BM38="","",IF('Calculation 1.2'!BM38>=50,"**",IF('Calculation 1.2'!BM38>=25,"*",""))) | AZ50: ='Calculation 1.2'!BO38 -> 20975.232 | BA50: ='Calculation 1.2'!BP38 -> 100 | BB50: =IF('Calculation 1.2'!BQ38="","",IF('Calculation 1.2'!BQ38>=50,"**",IF('Calculation 1.2'!BQ38>=25,"*","")))
A51: =TEXT(DATE(YEAR(A47)+1,1,1),"yyyy") & "-" & TEXT(DATE(YEAR(A47)+2,1,1),"yy") -> 2025-26 | B51: ='Calculation 1.2'!Q39 | C51: ='Calculation 1.2'!R39 | D51: =IF('Calculation 1.2'!S39="","",IF('Calculation 1.2'!S39>=50,"**",IF('Calculation 1.2'!S39>=25,"*",""))) | F51: ='Calculation 1.2'!U39 | G51: ='Calculation 1.2'!V39 | H51: =IF('Calculation 1.2'!W39="","",IF('Calculation 1.2'!W39>=50,"**",IF('Calculation 1.2'!W39>=25,"*",""))) | I51: ='Calculation 1.2'!X39 | J51: ='Calculation 1.2'!Y39 | K51: =IF('Calculation 1.2'!Z39="","",IF('Calculation 1.2'!Z39>=50,"**",IF('Calculation 1.2'!Z39>=25,"*",""))) | L51: ='Calculation 1.2'!AA39 | M51: ='Calculation 1.2'!AB39 | N51: =IF('Calculation 1.2'!AC39="","",IF('Calculation 1.2'!AC39>=50,"**",IF('Calculation 1.2'!AC39>=25,"*",""))) | O51: ='Calculation 1.2'!AD39 | P51: ='Calculation 1.2'!AE39 | Q51: =IF('Calculation 1.2'!AF39="","",IF('Calculation 1.2'!AF39>=50,"**",IF('Calculation 1.2'!AF39>=25,"*",""))) | R51: ='Calculation 1.2'!AG39 | S51: ='Calculation 1.2'!AH39 | T51: =IF('Calculation 1.2'!AI39="","",IF('Calculation 1.2'!AI39>=50,"**",IF('Calculation 1.2'!AI39>=25,"*",""))) | V51: ='Calculation 1.2'!AK39 | W51: ='Calculation 1.2'!AL39 | X51: =IF('Calculation 1.2'!AM39="","",IF('Calculation 1.2'!AM39>=50,"**",IF('Calculation 1.2'!AM39>=25,"*",""))) | Z51: ='Calculation 1.2'!AO39 | AA51: ='Calculation 1.2'!AP39 | AB51: =IF('Calculation 1.2'!AQ39="","",IF('Calculation 1.2'!AQ39>=50,"**",IF('Calculation 1.2'!AQ39>=25,"*",""))) | AD51: ='Calculation 1.2'!AS39 | AE51: ='Calculation 1.2'!AT39 | AF51: =IF('Calculation 1.2'!AU39="","",IF('Calculation 1.2'!AU39>=50,"**",IF('Calculation 1.2'!AU39>=25,"*",""))) | AH51: ='Calculation 1.2'!AW39 | AI51: ='Calculation 1.2'!AX39 | AJ51: =IF('Calculation 1.2'!AY39="","",IF('Calculation 1.2'!AY39>=50,"**",IF('Calculation 1.2'!AY39>=25,"*",""))) | AK51: ='Calculation 1.2'!AZ39 | AL51: ='Calculation 1.2'!BA39 | AM51: =IF('Calculation 1.2'!BB39="","",IF('Calculation 1.2'!BB39>=50,"**",IF('Calculation 1.2'!BB39>=25,"*",""))) | AN51: ='Calculation 1.2'!BC39 | AO51: ='Calculation 1.2'!BD39 | AP51: =IF('Calculation 1.2'!BE39="","",IF('Calculation 1.2'!BE39>=50,"**",IF('Calculation 1.2'!BE39>=25,"*",""))) | AR51: ='Calculation 1.2'!BG39 | AS51: ='Calculation 1.2'!BH39 | AT51: =IF('Calculation 1.2'!BI39="","",IF('Calculation 1.2'!BI39>=50,"**",IF('Calculation 1.2'!BI39>=25,"*",""))) | AV51: ='Calculation 1.2'!BK39 | AW51: ='Calculation 1.2'!BL39 | AX51: =IF('Calculation 1.2'!BM39="","",IF('Calculation 1.2'!BM39>=50,"**",IF('Calculation 1.2'!BM39>=25,"*",""))) | AZ51: ='Calculation 1.2'!BO39 | BA51: ='Calculation 1.2'!BP39 | BB51: =IF('Calculation 1.2'!BQ39="","",IF('Calculation 1.2'!BQ39>=50,"**",IF('Calculation 1.2'!BQ39>=25,"*","")))
A52: =TEXT(DATE(YEAR(A47)+1,9,1), "mmm-yy") -> Sep-25 | B52: ='Calculation 1.2'!Q40 -> 9664.906 | C52: ='Calculation 1.2'!R40 -> 45.905 | D52: =IF('Calculation 1.2'!S40="","",IF('Calculation 1.2'!S40>=50,"**",IF('Calculation 1.2'!S40>=25,"*",""))) | F52: ='Calculation 1.2'!U40 -> 457.767 | G52: ='Calculation 1.2'!V40 -> 2.174 | H52: =IF('Calculation 1.2'!W40="","",IF('Calculation 1.2'!W40>=50,"**",IF('Calculation 1.2'!W40>=25,"*",""))) | I52: ='Calculation 1.2'!X40 -> 341.323 | J52: ='Calculation 1.2'!Y40 -> 1.621 | K52: =IF('Calculation 1.2'!Z40="","",IF('Calculation 1.2'!Z40>=50,"**",IF('Calculation 1.2'!Z40>=25,"*",""))) | L52: ='Calculation 1.2'!AA40 -> 799.09 | M52: ='Calculation 1.2'!AB40 -> 3.795 | N52: =IF('Calculation 1.2'!AC40="","",IF('Calculation 1.2'!AC40>=50,"**",IF('Calculation 1.2'!AC40>=25,"*",""))) | O52: ='Calculation 1.2'!AD40 -> 80.682 | P52: ='Calculation 1.2'!AE40 -> 0.383 | Q52: =IF('Calculation 1.2'!AF40="","",IF('Calculation 1.2'!AF40>=50,"**",IF('Calculation 1.2'!AF40>=25,"*",""))) -> * | R52: ='Calculation 1.2'!AG40 -> 879.772 | S52: ='Calculation 1.2'!AH40 -> 4.179 | T52: =IF('Calculation 1.2'!AI40="","",IF('Calculation 1.2'!AI40>=50,"**",IF('Calculation 1.2'!AI40>=25,"*",""))) | V52: ='Calculation 1.2'!AK40 -> 3370.519 | W52: ='Calculation 1.2'!AL40 -> 16.009 | X52: =IF('Calculation 1.2'!AM40="","",IF('Calculation 1.2'!AM40>=50,"**",IF('Calculation 1.2'!AM40>=25,"*",""))) | Z52: ='Calculation 1.2'!AO40 -> 4250.291 | AA52: ='Calculation 1.2'!AP40 -> 20.187 | AB52: =IF('Calculation 1.2'!AQ40="","",IF('Calculation 1.2'!AQ40>=50,"**",IF('Calculation 1.2'!AQ40>=25,"*",""))) | AD52: ='Calculation 1.2'!AS40 -> 13915.197 | AE52: ='Calculation 1.2'!AT40 -> 66.092 | AF52: =IF('Calculation 1.2'!AU40="","",IF('Calculation 1.2'!AU40>=50,"**",IF('Calculation 1.2'!AU40>=25,"*",""))) | AH52: ='Calculation 1.2'!AW40 -> 35.975 | AI52: ='Calculation 1.2'!AX40 -> 0.171 | AJ52: =IF('Calculation 1.2'!AY40="","",IF('Calculation 1.2'!AY40>=50,"**",IF('Calculation 1.2'!AY40>=25,"*",""))) -> ** | AK52: ='Calculation 1.2'!AZ40 -> 513.97 | AL52: ='Calculation 1.2'!BA40 -> 2.441 | AM52: =IF('Calculation 1.2'!BB40="","",IF('Calculation 1.2'!BB40>=50,"**",IF('Calculation 1.2'!BB40>=25,"*",""))) | AN52: ='Calculation 1.2'!BC40 -> 549.945 | AO52: ='Calculation 1.2'!BD40 -> 2.612 | AP52: =IF('Calculation 1.2'!BE40="","",IF('Calculation 1.2'!BE40>=50,"**",IF('Calculation 1.2'!BE40>=25,"*",""))) | AR52: ='Calculation 1.2'!BG40 -> 14465.142 | AS52: ='Calculation 1.2'!BH40 -> 68.704 | AT52: =IF('Calculation 1.2'!BI40="","",IF('Calculation 1.2'!BI40>=50,"**",IF('Calculation 1.2'!BI40>=25,"*",""))) | AV52: ='Calculation 1.2'!BK40 -> 6589.107 | AW52: ='Calculation 1.2'!BL40 -> 31.296 | AX52: =IF('Calculation 1.2'!BM40="","",IF('Calculation 1.2'!BM40>=50,"**",IF('Calculation 1.2'!BM40>=25,"*",""))) | AZ52: ='Calculation 1.2'!BO40 -> 21054.249 | BA52: ='Calculation 1.2'!BP40 -> 100 | BB52: =IF('Calculation 1.2'!BQ40="","",IF('Calculation 1.2'!BQ40>=50,"**",IF('Calculation 1.2'!BQ40>=25,"*","")))
A53: =TEXT(DATE(YEAR(A47)+1,12,1), "mmm-yy") -> Dec-25 | B53: ='Calculation 1.2'!Q41 -> 9727.665 | C53: ='Calculation 1.2'!R41 -> 45.993 | D53: =IF('Calculation 1.2'!S41="","",IF('Calculation 1.2'!S41>=50,"**",IF('Calculation 1.2'!S41>=25,"*",""))) | F53: ='Calculation 1.2'!U41 -> 308.181 | G53: ='Calculation 1.2'!V41 -> 1.457 | H53: =IF('Calculation 1.2'!W41="","",IF('Calculation 1.2'!W41>=50,"**",IF('Calculation 1.2'!W41>=25,"*",""))) | I53: ='Calculation 1.2'!X41 -> 382.15 | J53: ='Calculation 1.2'!Y41 -> 1.807 | K53: =IF('Calculation 1.2'!Z41="","",IF('Calculation 1.2'!Z41>=50,"**",IF('Calculation 1.2'!Z41>=25,"*",""))) | L53: ='Calculation 1.2'!AA41 -> 690.331 | M53: ='Calculation 1.2'!AB41 -> 3.264 | N53: =IF('Calculation 1.2'!AC41="","",IF('Calculation 1.2'!AC41>=50,"**",IF('Calculation 1.2'!AC41>=25,"*",""))) | O53: ='Calculation 1.2'!AD41 -> 101.264 | P53: ='Calculation 1.2'!AE41 -> 0.479 | Q53: =IF('Calculation 1.2'!AF41="","",IF('Calculation 1.2'!AF41>=50,"**",IF('Calculation 1.2'!AF41>=25,"*",""))) -> * | R53: ='Calculation 1.2'!AG41 -> 791.594 | S53: ='Calculation 1.2'!AH41 -> 3.743 | T53: =IF('Calculation 1.2'!AI41="","",IF('Calculation 1.2'!AI41>=50,"**",IF('Calculation 1.2'!AI41>=25,"*",""))) | V53: ='Calculation 1.2'!AK41 -> 3510.841 | W53: ='Calculation 1.2'!AL41 -> 16.599 | X53: =IF('Calculation 1.2'!AM41="","",IF('Calculation 1.2'!AM41>=50,"**",IF('Calculation 1.2'!AM41>=25,"*",""))) | Z53: ='Calculation 1.2'!AO41 -> 4302.436 | AA53: ='Calculation 1.2'!AP41 -> 20.342 | AB53: =IF('Calculation 1.2'!AQ41="","",IF('Calculation 1.2'!AQ41>=50,"**",IF('Calculation 1.2'!AQ41>=25,"*",""))) | AD53: ='Calculation 1.2'!AS41 -> 14030.101 | AE53: ='Calculation 1.2'!AT41 -> 66.335 | AF53: =IF('Calculation 1.2'!AU41="","",IF('Calculation 1.2'!AU41>=50,"**",IF('Calculation 1.2'!AU41>=25,"*",""))) | AH53: ='Calculation 1.2'!AW41 -> 17.951 | AI53: ='Calculation 1.2'!AX41 -> 0.085 | AJ53: =IF('Calculation 1.2'!AY41="","",IF('Calculation 1.2'!AY41>=50,"**",IF('Calculation 1.2'!AY41>=25,"*",""))) -> ** | AK53: ='Calculation 1.2'!AZ41 -> 485.635 | AL53: ='Calculation 1.2'!BA41 -> 2.296 | AM53: =IF('Calculation 1.2'!BB41="","",IF('Calculation 1.2'!BB41>=50,"**",IF('Calculation 1.2'!BB41>=25,"*",""))) | AN53: ='Calculation 1.2'!BC41 -> 503.586 | AO53: ='Calculation 1.2'!BD41 -> 2.381 | AP53: =IF('Calculation 1.2'!BE41="","",IF('Calculation 1.2'!BE41>=50,"**",IF('Calculation 1.2'!BE41>=25,"*",""))) | AR53: ='Calculation 1.2'!BG41 -> 14533.687 | AS53: ='Calculation 1.2'!BH41 -> 68.715 | AT53: =IF('Calculation 1.2'!BI41="","",IF('Calculation 1.2'!BI41>=50,"**",IF('Calculation 1.2'!BI41>=25,"*",""))) | AV53: ='Calculation 1.2'!BK41 -> 6616.847 | AW53: ='Calculation 1.2'!BL41 -> 31.285 | AX53: =IF('Calculation 1.2'!BM41="","",IF('Calculation 1.2'!BM41>=50,"**",IF('Calculation 1.2'!BM41>=25,"*",""))) | AZ53: ='Calculation 1.2'!BO41 -> 21150.534 | BA53: ='Calculation 1.2'!BP41 -> 100 | BB53: =IF('Calculation 1.2'!BQ41="","",IF('Calculation 1.2'!BQ41>=50,"**",IF('Calculation 1.2'!BQ41>=25,"*","")))
A54: =TEXT(DATE(YEAR(A49)+1,3,1), "mmm-yy") -> Mar-26 | B54: ='Calculation 1.2'!Q42 -> 9789.941 | C54: ='Calculation 1.2'!R42 -> 46.044 | D54: =IF('Calculation 1.2'!S42="","",IF('Calculation 1.2'!S42>=50,"**",IF('Calculation 1.2'!S42>=25,"*",""))) | F54: ='Calculation 1.2'!U42 -> 340.391 | G54: ='Calculation 1.2'!V42 -> 1.601 | H54: =IF('Calculation 1.2'!W42="","",IF('Calculation 1.2'!W42>=50,"**",IF('Calculation 1.2'!W42>=25,"*",""))) | I54: ='Calculation 1.2'!X42 -> 354.095 | J54: ='Calculation 1.2'!Y42 -> 1.665 | K54: =IF('Calculation 1.2'!Z42="","",IF('Calculation 1.2'!Z42>=50,"**",IF('Calculation 1.2'!Z42>=25,"*",""))) | L54: ='Calculation 1.2'!AA42 -> 694.486 | M54: ='Calculation 1.2'!AB42 -> 3.266 | N54: =IF('Calculation 1.2'!AC42="","",IF('Calculation 1.2'!AC42>=50,"**",IF('Calculation 1.2'!AC42>=25,"*",""))) | O54: ='Calculation 1.2'!AD42 -> 84.826 | P54: ='Calculation 1.2'!AE42 -> 0.399 | Q54: =IF('Calculation 1.2'!AF42="","",IF('Calculation 1.2'!AF42>=50,"**",IF('Calculation 1.2'!AF42>=25,"*",""))) -> * | R54: ='Calculation 1.2'!AG42 -> 779.312 | S54: ='Calculation 1.2'!AH42 -> 3.665 | T54: =IF('Calculation 1.2'!AI42="","",IF('Calculation 1.2'!AI42>=50,"**",IF('Calculation 1.2'!AI42>=25,"*",""))) | V54: ='Calculation 1.2'!AK42 -> 3454.425 | W54: ='Calculation 1.2'!AL42 -> 16.247 | X54: =IF('Calculation 1.2'!AM42="","",IF('Calculation 1.2'!AM42>=50,"**",IF('Calculation 1.2'!AM42>=25,"*",""))) | Z54: ='Calculation 1.2'!AO42 -> 4233.737 | AA54: ='Calculation 1.2'!AP42 -> 19.912 | AB54: =IF('Calculation 1.2'!AQ42="","",IF('Calculation 1.2'!AQ42>=50,"**",IF('Calculation 1.2'!AQ42>=25,"*",""))) | AD54: ='Calculation 1.2'!AS42 -> 14023.678 | AE54: ='Calculation 1.2'!AT42 -> 65.956 | AF54: =IF('Calculation 1.2'!AU42="","",IF('Calculation 1.2'!AU42>=50,"**",IF('Calculation 1.2'!AU42>=25,"*",""))) | AH54: ='Calculation 1.2'!AW42 -> 38.429 | AI54: ='Calculation 1.2'!AX42 -> 0.181 | AJ54: =IF('Calculation 1.2'!AY42="","",IF('Calculation 1.2'!AY42>=50,"**",IF('Calculation 1.2'!AY42>=25,"*",""))) -> * | AK54: ='Calculation 1.2'!AZ42 -> 544.118 | AL54: ='Calculation 1.2'!BA42 -> 2.559 | AM54: =IF('Calculation 1.2'!BB42="","",IF('Calculation 1.2'!BB42>=50,"**",IF('Calculation 1.2'!BB42>=25,"*",""))) | AN54: ='Calculation 1.2'!BC42 -> 582.548 | AO54: ='Calculation 1.2'!BD42 -> 2.74 | AP54: =IF('Calculation 1.2'!BE42="","",IF('Calculation 1.2'!BE42>=50,"**",IF('Calculation 1.2'!BE42>=25,"*",""))) | AR54: ='Calculation 1.2'!BG42 -> 14606.226 | AS54: ='Calculation 1.2'!BH42 -> 68.696 | AT54: =IF('Calculation 1.2'!BI42="","",IF('Calculation 1.2'!BI42>=50,"**",IF('Calculation 1.2'!BI42>=25,"*",""))) | AV54: ='Calculation 1.2'!BK42 -> 6655.853 | AW54: ='Calculation 1.2'!BL42 -> 31.304 | AX54: =IF('Calculation 1.2'!BM42="","",IF('Calculation 1.2'!BM42>=50,"**",IF('Calculation 1.2'!BM42>=25,"*",""))) | AZ54: ='Calculation 1.2'!BO42 -> 21262.079 | BA54: ='Calculation 1.2'!BP42 -> 100 | BB54: =IF('Calculation 1.2'!BQ42="","",IF('Calculation 1.2'!BQ42>=50,"**",IF('Calculation 1.2'!BQ42>=25,"*","")))
A55: =TEXT(DATE(YEAR(A50)+1,6,1), "mmm-yy") -> Jun-26 | B55: ='Calculation 1.2'!Q43 -> 9825.495 | C55: ='Calculation 1.2'!R43 -> 45.904 | D55: =IF('Calculation 1.2'!S43="","",IF('Calculation 1.2'!S43>=50,"**",IF('Calculation 1.2'!S43>=25,"*",""))) | F55: ='Calculation 1.2'!U43 -> 396.22 | G55: ='Calculation 1.2'!V43 -> 1.851 | H55: =IF('Calculation 1.2'!W43="","",IF('Calculation 1.2'!W43>=50,"**",IF('Calculation 1.2'!W43>=25,"*",""))) | I55: ='Calculation 1.2'!X43 -> 299.373 | J55: ='Calculation 1.2'!Y43 -> 1.399 | K55: =IF('Calculation 1.2'!Z43="","",IF('Calculation 1.2'!Z43>=50,"**",IF('Calculation 1.2'!Z43>=25,"*",""))) | L55: ='Calculation 1.2'!AA43 -> 695.593 | M55: ='Calculation 1.2'!AB43 -> 3.25 | N55: =IF('Calculation 1.2'!AC43="","",IF('Calculation 1.2'!AC43>=50,"**",IF('Calculation 1.2'!AC43>=25,"*",""))) | O55: ='Calculation 1.2'!AD43 -> 79.895 | P55: ='Calculation 1.2'!AE43 -> 0.373 | Q55: =IF('Calculation 1.2'!AF43="","",IF('Calculation 1.2'!AF43>=50,"**",IF('Calculation 1.2'!AF43>=25,"*",""))) | R55: ='Calculation 1.2'!AG43 -> 775.488 | S55: ='Calculation 1.2'!AH43 -> 3.623 | T55: =IF('Calculation 1.2'!AI43="","",IF('Calculation 1.2'!AI43>=50,"**",IF('Calculation 1.2'!AI43>=25,"*",""))) | V55: ='Calculation 1.2'!AK43 -> 3567.555 | W55: ='Calculation 1.2'!AL43 -> 16.667 | X55: =IF('Calculation 1.2'!AM43="","",IF('Calculation 1.2'!AM43>=50,"**",IF('Calculation 1.2'!AM43>=25,"*",""))) | Z55: ='Calculation 1.2'!AO43 -> 4343.043 | AA55: ='Calculation 1.2'!AP43 -> 20.29 | AB55: =IF('Calculation 1.2'!AQ43="","",IF('Calculation 1.2'!AQ43>=50,"**",IF('Calculation 1.2'!AQ43>=25,"*",""))) | AD55: ='Calculation 1.2'!AS43 -> 14168.538 | AE55: ='Calculation 1.2'!AT43 -> 66.194 | AF55: =IF('Calculation 1.2'!AU43="","",IF('Calculation 1.2'!AU43>=50,"**",IF('Calculation 1.2'!AU43>=25,"*",""))) | AH55: ='Calculation 1.2'!AW43 -> 55.461 | AI55: ='Calculation 1.2'!AX43 -> 0.259 | AJ55: =IF('Calculation 1.2'!AY43="","",IF('Calculation 1.2'!AY43>=50,"**",IF('Calculation 1.2'!AY43>=25,"*",""))) -> * | AK55: ='Calculation 1.2'!AZ43 -> 517.22 | AL55: ='Calculation 1.2'!BA43 -> 2.416 | AM55: =IF('Calculation 1.2'!BB43="","",IF('Calculation 1.2'!BB43>=50,"**",IF('Calculation 1.2'!BB43>=25,"*",""))) | AN55: ='Calculation 1.2'!BC43 -> 572.681 | AO55: ='Calculation 1.2'!BD43 -> 2.675 | AP55: =IF('Calculation 1.2'!BE43="","",IF('Calculation 1.2'!BE43>=50,"**",IF('Calculation 1.2'!BE43>=25,"*",""))) | AR55: ='Calculation 1.2'!BG43 -> 14741.219 | AS55: ='Calculation 1.2'!BH43 -> 68.869 | AT55: =IF('Calculation 1.2'!BI43="","",IF('Calculation 1.2'!BI43>=50,"**",IF('Calculation 1.2'!BI43>=25,"*",""))) | AV55: ='Calculation 1.2'!BK43 -> 6663.45 | AW55: ='Calculation 1.2'!BL43 -> 31.131 | AX55: =IF('Calculation 1.2'!BM43="","",IF('Calculation 1.2'!BM43>=50,"**",IF('Calculation 1.2'!BM43>=25,"*",""))) | AZ55: ='Calculation 1.2'!BO43 -> 21404.669 | BA55: ='Calculation 1.2'!BP43 -> 100
A57: * estimate has a relative standard error of 25% to 50% and should be used with caution
A58: ** estimate has a relative standard error greater than 50% and is considered too unreliable for general use
A60: ="© Commonwealth of Australia "&YEAR(TODAY()) -> © Commonwealth of Australia 2026

Sheet Table 1.3
A1: Australian Bureau of Statistics
A2: =Contents!A2 -> 6239.0 Barriers and Incentives to Labour Force Participation, Jun 2026
A3: =Contents!A3 -> Released at 11:30 am (Canberra time) Wed 28 October 2026
A4: =Contents!C9 -> Table 1.3 - Not employed
A6: Select Scope | B6: People aged 18 years and over
A7: Select Population of interest | B7: People aged 18 years and over
A8: Select Sex | B8: Persons
B10: In the labour force | T10: Not in the labour force | BD10: TOTAL
B11: Employed | F11: Unemployed | P11: Total | T11: Had a job to start or return to | X11: Wanted a paid job | AP11: Did not want a paid job | AZ11: Total
X12: Available within 4 weeks | AH12: Not available within 4 weeks | AL12: Total | AP12: Did not want a paid job, excluding retired and unable to work | AS12: Retired or permanently unable to work | AV12: Total
F13: Had a job to start (or return to) | I13: Looked for work | L13: Total | X13: Looked for work | AA13: Did not look for work | AD13: Total
B15: '000 | C15: % | F15: '000 | G15: % | I15: '000 | J15: % | L15: '000 | M15: % | P15: '000 | Q15: % | T15: '000 | U15: % | X15: '000 | Y15: % | AA15: '000 | AB15: % | AD15: '000 | AE15: % | AH15: '000 | AI15: % | AL15: '000 | AM15: % | AP15: '000 | AQ15: % | AS15: '000 | AT15: % | AV15: '000 | AW15: % | AZ15: '000 | BA15: % | BD15: '000 | BE15: %
A16: 2014-15
A17: 41883 | B17: ='Calculation 1.3'!Q5 -> 11084.13 | C17: ='Calculation 1.3'!R5 -> 63.622 | D17: =IF('Calculation 1.3'!S5="","",IF('Calculation 1.3'!S5>=50,"**",IF('Calculation 1.3'!S5>=25,"*",""))) | F17: ='Calculation 1.3'!U5 -> 22.987 | G17: ='Calculation 1.3'!V5 -> 0.132 | H17: =IF('Calculation 1.3'!W5="","",IF('Calculation 1.3'!W5>=50,"**",IF('Calculation 1.3'!W5>=25,"*",""))) -> ** | I17: ='Calculation 1.3'!X5 -> 636.426 | J17: ='Calculation 1.3'!Y5 -> 3.653 | K17: =IF('Calculation 1.3'!Z5="","",IF('Calculation 1.3'!Z5>=50,"**",IF('Calculation 1.3'!Z5>=25,"*",""))) | L17: ='Calculation 1.3'!AA5 -> 659.413 | M17: ='Calculation 1.3'!AB5 -> 3.785 | N17: =IF('Calculation 1.3'!AC5="","",IF('Calculation 1.3'!AC5>=50,"**",IF('Calculation 1.3'!AC5>=25,"*",""))) | P17: ='Calculation 1.3'!AE5 -> 11743.543 | Q17: ='Calculation 1.3'!AF5 -> 67.407 | R17: =IF('Calculation 1.3'!AG5="","",IF('Calculation 1.3'!AG5>=50,"**",IF('Calculation 1.3'!AG5>=25,"*",""))) | T17: ='Calculation 1.3'!AI5 -> 109.981 | U17: ='Calculation 1.3'!AJ5 -> 0.631 | V17: =IF('Calculation 1.3'!AK5="","",IF('Calculation 1.3'!AK5>=50,"**",IF('Calculation 1.3'!AK5>=25,"*",""))) -> * | X17: ='Calculation 1.3'!AM5 -> 27.144 | Y17: ='Calculation 1.3'!AN5 -> 0.156 | Z17: =IF('Calculation 1.3'!AO5="","",IF('Calculation 1.3'!AO5>=50,"**",IF('Calculation 1.3'!AO5>=25,"*",""))) -> * | AA17: ='Calculation 1.3'!AP5 -> 759.532 | AB17: ='Calculation 1.3'!AQ5 -> 4.36 | AC17: =IF('Calculation 1.3'!AR5="","",IF('Calculation 1.3'!AR5>=50,"**",IF('Calculation 1.3'!AR5>=25,"*",""))) | AD17: ='Calculation 1.3'!AS5 -> 786.676 | AE17: ='Calculation 1.3'!AT5 -> 4.515 | AF17: =IF('Calculation 1.3'!AU5="","",IF('Calculation 1.3'!AU5>=50,"**",IF('Calculation 1.3'!AU5>=25,"*",""))) | AH17: ='Calculation 1.3'!AW5 -> 497.133 | AI17: ='Calculation 1.3'!AX5 -> 2.853 | AJ17: =IF('Calculation 1.3'!AY5="","",IF('Calculation 1.3'!AY5>=50,"**",IF('Calculation 1.3'!AY5>=25,"*",""))) | AL17: ='Calculation 1.3'!BA5 -> 1283.808 | AM17: ='Calculation 1.3'!BB5 -> 7.369 | AN17: =IF('Calculation 1.3'!BC5="","",IF('Calculation 1.3'!BC5>=50,"**",IF('Calculation 1.3'!BC5>=25,"*",""))) | AP17: ='Calculation 1.3'!BE5 -> 2282.82 | AQ17: ='Calculation 1.3'!BF5 -> 13.103 | AR17: =IF('Calculation 1.3'!BG5="","",IF('Calculation 1.3'!BG5>=50,"**",IF('Calculation 1.3'!BG5>=25,"*",""))) | AS17: ='Calculation 1.3'!BH5 -> 2001.744 | AT17: ='Calculation 1.3'!BI5 -> 11.49 | AU17: =IF('Calculation 1.3'!BJ5="","",IF('Calculation 1.3'!BJ5>=50,"**",IF('Calculation 1.3'!BJ5>=25,"*",""))) | AV17: ='Calculation 1.3'!BK5 -> 4284.564 | AW17: ='Calculation 1.3'!BL5 -> 24.593 | AX17: =IF('Calculation 1.3'!BM5="","",IF('Calculation 1.3'!BM5>=50,"**",IF('Calculation 1.3'!BM5>=25,"*",""))) | AZ17: ='Calculation 1.3'!BO5 -> 5678.354 | BA17: ='Calculation 1.3'!BP5 -> 32.593 | BB17: =IF('Calculation 1.3'!BQ5="","",IF('Calculation 1.3'!BQ5>=50,"**",IF('Calculation 1.3'!BQ5>=25,"*",""))) | BD17: ='Calculation 1.3'!BS5 -> 17421.897 | BE17: ='Calculation 1.3'!BT5 -> 100 | BF17: =IF('Calculation 1.3'!BU5="","",IF('Calculation 1.3'!BU5>=50,"**",IF('Calculation 1.3'!BU5>=25,"*","")))
A18: 41974 | B18: ='Calculation 1.3'!Q6 -> 11174.868 | C18: ='Calculation 1.3'!R6 -> 63.748 | D18: =IF('Calculation 1.3'!S6="","",IF('Calculation 1.3'!S6>=50,"**",IF('Calculation 1.3'!S6>=25,"*",""))) | F18: ='Calculation 1.3'!U6 -> 20.896 | G18: ='Calculation 1.3'!V6 -> 0.119 | H18: =IF('Calculation 1.3'!W6="","",IF('Calculation 1.3'!W6>=50,"**",IF('Calculation 1.3'!W6>=25,"*",""))) -> ** | I18: ='Calculation 1.3'!X6 -> 613.476 | J18: ='Calculation 1.3'!Y6 -> 3.5 | K18: =IF('Calculation 1.3'!Z6="","",IF('Calculation 1.3'!Z6>=50,"**",IF('Calculation 1.3'!Z6>=25,"*",""))) | L18: ='Calculation 1.3'!AA6 -> 634.372 | M18: ='Calculation 1.3'!AB6 -> 3.619 | N18: =IF('Calculation 1.3'!AC6="","",IF('Calculation 1.3'!AC6>=50,"**",IF('Calculation 1.3'!AC6>=25,"*",""))) | P18: ='Calculation 1.3'!AE6 -> 11809.24 | Q18: ='Calculation 1.3'!AF6 -> 67.366 | R18: =IF('Calculation 1.3'!AG6="","",IF('Calculation 1.3'!AG6>=50,"**",IF('Calculation 1.3'!AG6>=25,"*",""))) | T18: ='Calculation 1.3'!AI6 -> 116.298 | U18: ='Calculation 1.3'!AJ6 -> 0.663 | V18: =IF('Calculation 1.3'!AK6="","",IF('Calculation 1.3'!AK6>=50,"**",IF('Calculation 1.3'!AK6>=25,"*",""))) -> * | X18: ='Calculation 1.3'!AM6 -> 52.528 | Y18: ='Calculation 1.3'!AN6 -> 0.3 | Z18: =IF('Calculation 1.3'!AO6="","",IF('Calculation 1.3'!AO6>=50,"**",IF('Calculation 1.3'!AO6>=25,"*",""))) -> * | AA18: ='Calculation 1.3'!AP6 -> 741.571 | AB18: ='Calculation 1.3'!AQ6 -> 4.23 | AC18: =IF('Calculation 1.3'!AR6="","",IF('Calculation 1.3'!AR6>=50,"**",IF('Calculation 1.3'!AR6>=25,"*",""))) | AD18: ='Calculation 1.3'!AS6 -> 794.099 | AE18: ='Calculation 1.3'!AT6 -> 4.53 | AF18: =IF('Calculation 1.3'!AU6="","",IF('Calculation 1.3'!AU6>=50,"**",IF('Calculation 1.3'!AU6>=25,"*",""))) | AH18: ='Calculation 1.3'!AW6 -> 405.264 | AI18: ='Calculation 1.3'!AX6 -> 2.312 | AJ18: =IF('Calculation 1.3'!AY6="","",IF('Calculation 1.3'!AY6>=50,"**",IF('Calculation 1.3'!AY6>=25,"*",""))) | AL18: ='Calculation 1.3'!BA6 -> 1199.364 | AM18: ='Calculation 1.3'!BB6 -> 6.842 | AN18: =IF('Calculation 1.3'!BC6="","",IF('Calculation 1.3'!BC6>=50,"**",IF('Calculation 1.3'!BC6>=25,"*",""))) | AP18: ='Calculation 1.3'!BE6 -> 2564.431 | AQ18: ='Calculation 1.3'!BF6 -> 14.629 | AR18: =IF('Calculation 1.3'!BG6="","",IF('Calculation 1.3'!BG6>=50,"**",IF('Calculation 1.3'!BG6>=25,"*",""))) | AS18: ='Calculation 1.3'!BH6 -> 1840.523 | AT18: ='Calculation 1.3'!BI6 -> 10.499 | AU18: =IF('Calculation 1.3'!BJ6="","",IF('Calculation 1.3'!BJ6>=50,"**",IF('Calculation 1.3'!BJ6>=25,"*",""))) | AV18: ='Calculation 1.3'!BK6 -> 4404.955 | AW18: ='Calculation 1.3'!BL6 -> 25.128 | AX18: =IF('Calculation 1.3'!BM6="","",IF('Calculation 1.3'!BM6>=50,"**",IF('Calculation 1.3'!BM6>=25,"*",""))) | AZ18: ='Calculation 1.3'!BO6 -> 5720.616 | BA18: ='Calculation 1.3'!BP6 -> 32.634 | BB18: =IF('Calculation 1.3'!BQ6="","",IF('Calculation 1.3'!BQ6>=50,"**",IF('Calculation 1.3'!BQ6>=25,"*",""))) | BD18: ='Calculation 1.3'!BS6 -> 17529.856 | BE18: ='Calculation 1.3'!BT6 -> 100 | BF18: =IF('Calculation 1.3'!BU6="","",IF('Calculation 1.3'!BU6>=50,"**",IF('Calculation 1.3'!BU6>=25,"*","")))
A19: 42064 | B19: ='Calculation 1.3'!Q7 -> 11171.956 | C19: ='Calculation 1.3'!R7 -> 63.506 | D19: =IF('Calculation 1.3'!S7="","",IF('Calculation 1.3'!S7>=50,"**",IF('Calculation 1.3'!S7>=25,"*",""))) | F19: ='Calculation 1.3'!U7 -> 63.17 | G19: ='Calculation 1.3'!V7 -> 0.359 | H19: =IF('Calculation 1.3'!W7="","",IF('Calculation 1.3'!W7>=50,"**",IF('Calculation 1.3'!W7>=25,"*",""))) -> * | I19: ='Calculation 1.3'!X7 -> 668.083 | J19: ='Calculation 1.3'!Y7 -> 3.798 | K19: =IF('Calculation 1.3'!Z7="","",IF('Calculation 1.3'!Z7>=50,"**",IF('Calculation 1.3'!Z7>=25,"*",""))) | L19: ='Calculation 1.3'!AA7 -> 731.253 | M19: ='Calculation 1.3'!AB7 -> 4.157 | N19: =IF('Calculation 1.3'!AC7="","",IF('Calculation 1.3'!AC7>=50,"**",IF('Calculation 1.3'!AC7>=25,"*",""))) | P19: ='Calculation 1.3'!AE7 -> 11903.208 | Q19: ='Calculation 1.3'!AF7 -> 67.663 | R19: =IF('Calculation 1.3'!AG7="","",IF('Calculation 1.3'!AG7>=50,"**",IF('Calculation 1.3'!AG7>=25,"*",""))) | T19: ='Calculation 1.3'!AI7 -> 175.63 | U19: ='Calculation 1.3'!AJ7 -> 0.998 | V19: =IF('Calculation 1.3'!AK7="","",IF('Calculation 1.3'!AK7>=50,"**",IF('Calculation 1.3'!AK7>=25,"*",""))) | X19: ='Calculation 1.3'!AM7 -> 127.145 | Y19: ='Calculation 1.3'!AN7 -> 0.723 | Z19: =IF('Calculation 1.3'!AO7="","",IF('Calculation 1.3'!AO7>=50,"**",IF('Calculation 1.3'!AO7>=25,"*",""))) -> * | AA19: ='Calculation 1.3'!AP7 -> 673.365 | AB19: ='Calculation 1.3'!AQ7 -> 3.828 | AC19: =IF('Calculation 1.3'!AR7="","",IF('Calculation 1.3'!AR7>=50,"**",IF('Calculation 1.3'!AR7>=25,"*",""))) | AD19: ='Calculation 1.3'!AS7 -> 800.511 | AE19: ='Calculation 1.3'!AT7 -> 4.55 | AF19: =IF('Calculation 1.3'!AU7="","",IF('Calculation 1.3'!AU7>=50,"**",IF('Calculation 1.3'!AU7>=25,"*",""))) | AH19: ='Calculation 1.3'!AW7 -> 338.616 | AI19: ='Calculation 1.3'!AX7 -> 1.925 | AJ19: =IF('Calculation 1.3'!AY7="","",IF('Calculation 1.3'!AY7>=50,"**",IF('Calculation 1.3'!AY7>=25,"*",""))) | AL19: ='Calculation 1.3'!BA7 -> 1139.127 | AM19: ='Calculation 1.3'!BB7 -> 6.475 | AN19: =IF('Calculation 1.3'!BC7="","",IF('Calculation 1.3'!BC7>=50,"**",IF('Calculation 1.3'!BC7>=25,"*",""))) | AP19: ='Calculation 1.3'!BE7 -> 2546.97 | AQ19: ='Calculation 1.3'!BF7 -> 14.478 | AR19: =IF('Calculation 1.3'!BG7="","",IF('Calculation 1.3'!BG7>=50,"**",IF('Calculation 1.3'!BG7>=25,"*",""))) | AS19: ='Calculation 1.3'!BH7 -> 1826.921 | AT19: ='Calculation 1.3'!BI7 -> 10.385 | AU19: =IF('Calculation 1.3'!BJ7="","",IF('Calculation 1.3'!BJ7>=50,"**",IF('Calculation 1.3'!BJ7>=25,"*",""))) | AV19: ='Calculation 1.3'!BK7 -> 4373.89 | AW19: ='Calculation 1.3'!BL7 -> 24.863 | AX19: =IF('Calculation 1.3'!BM7="","",IF('Calculation 1.3'!BM7>=50,"**",IF('Calculation 1.3'!BM7>=25,"*",""))) | AZ19: ='Calculation 1.3'!BO7 -> 5688.647 | BA19: ='Calculation 1.3'!BP7 -> 32.337 | BB19: =IF('Calculation 1.3'!BQ7="","",IF('Calculation 1.3'!BQ7>=50,"**",IF('Calculation 1.3'!BQ7>=25,"*",""))) | BD19: ='Calculation 1.3'!BS7 -> 17591.856 | BE19: ='Calculation 1.3'!BT7 -> 100 | BF19: =IF('Calculation 1.3'!BU7="","",IF('Calculation 1.3'!BU7>=50,"**",IF('Calculation 1.3'!BU7>=25,"*","")))
A20: 42156 | B20: ='Calculation 1.3'!Q8 -> 11302.511 | C20: ='Calculation 1.3'!R8 -> 64.021 | D20: =IF('Calculation 1.3'!S8="","",IF('Calculation 1.3'!S8>=50,"**",IF('Calculation 1.3'!S8>=25,"*",""))) | F20: ='Calculation 1.3'!U8 -> 17.142 | G20: ='Calculation 1.3'!V8 -> 0.097 | H20: =IF('Calculation 1.3'!W8="","",IF('Calculation 1.3'!W8>=50,"**",IF('Calculation 1.3'!W8>=25,"*",""))) -> ** | I20: ='Calculation 1.3'!X8 -> 635.554 | J20: ='Calculation 1.3'!Y8 -> 3.6 | K20: =IF('Calculation 1.3'!Z8="","",IF('Calculation 1.3'!Z8>=50,"**",IF('Calculation 1.3'!Z8>=25,"*",""))) | L20: ='Calculation 1.3'!AA8 -> 652.697 | M20: ='Calculation 1.3'!AB8 -> 3.697 | N20: =IF('Calculation 1.3'!AC8="","",IF('Calculation 1.3'!AC8>=50,"**",IF('Calculation 1.3'!AC8>=25,"*",""))) | P20: ='Calculation 1.3'!AE8 -> 11955.208 | Q20: ='Calculation 1.3'!AF8 -> 67.718 | R20: =IF('Calculation 1.3'!AG8="","",IF('Calculation 1.3'!AG8>=50,"**",IF('Calculation 1.3'!AG8>=25,"*",""))) | T20: ='Calculation 1.3'!AI8 -> 103.749 | U20: ='Calculation 1.3'!AJ8 -> 0.588 | V20: =IF('Calculation 1.3'!AK8="","",IF('Calculation 1.3'!AK8>=50,"**",IF('Calculation 1.3'!AK8>=25,"*",""))) | X20: ='Calculation 1.3'!AM8 -> 69.613 | Y20: ='Calculation 1.3'!AN8 -> 0.394 | Z20: =IF('Calculation 1.3'!AO8="","",IF('Calculation 1.3'!AO8>=50,"**",IF('Calculation 1.3'!AO8>=25,"*",""))) -> * | AA20: ='Calculation 1.3'!AP8 -> 716.026 | AB20: ='Calculation 1.3'!AQ8 -> 4.056 | AC20: =IF('Calculation 1.3'!AR8="","",IF('Calculation 1.3'!AR8>=50,"**",IF('Calculation 1.3'!AR8>=25,"*",""))) | AD20: ='Calculation 1.3'!AS8 -> 785.64 | AE20: ='Calculation 1.3'!AT8 -> 4.45 | AF20: =IF('Calculation 1.3'!AU8="","",IF('Calculation 1.3'!AU8>=50,"**",IF('Calculation 1.3'!AU8>=25,"*",""))) | AH20: ='Calculation 1.3'!AW8 -> 392.284 | AI20: ='Calculation 1.3'!AX8 -> 2.222 | AJ20: =IF('Calculation 1.3'!AY8="","",IF('Calculation 1.3'!AY8>=50,"**",IF('Calculation 1.3'!AY8>=25,"*",""))) | AL20: ='Calculation 1.3'!BA8 -> 1177.923 | AM20: ='Calculation 1.3'!BB8 -> 6.672 | AN20: =IF('Calculation 1.3'!BC8="","",IF('Calculation 1.3'!BC8>=50,"**",IF('Calculation 1.3'!BC8>=25,"*",""))) | AP20: ='Calculation 1.3'!BE8 -> 2643.274 | AQ20: ='Calculation 1.3'!BF8 -> 14.972 | AR20: =IF('Calculation 1.3'!BG8="","",IF('Calculation 1.3'!BG8>=50,"**",IF('Calculation 1.3'!BG8>=25,"*",""))) | AS20: ='Calculation 1.3'!BH8 -> 1774.363 | AT20: ='Calculation 1.3'!BI8 -> 10.05 | AU20: =IF('Calculation 1.3'!BJ8="","",IF('Calculation 1.3'!BJ8>=50,"**",IF('Calculation 1.3'!BJ8>=25,"*",""))) | AV20: ='Calculation 1.3'!BK8 -> 4417.637 | AW20: ='Calculation 1.3'!BL8 -> 25.023 | AX20: =IF('Calculation 1.3'!BM8="","",IF('Calculation 1.3'!BM8>=50,"**",IF('Calculation 1.3'!BM8>=25,"*",""))) | AZ20: ='Calculation 1.3'!BO8 -> 5699.309 | BA20: ='Calculation 1.3'!BP8 -> 32.282 | BB20: =IF('Calculation 1.3'!BQ8="","",IF('Calculation 1.3'!BQ8>=50,"**",IF('Calculation 1.3'!BQ8>=25,"*",""))) | BD20: ='Calculation 1.3'!BS8 -> 17654.518 | BE20: ='Calculation 1.3'!BT8 -> 100 | BF20: =IF('Calculation 1.3'!BU8="","",IF('Calculation 1.3'!BU8>=50,"**",IF('Calculation 1.3'!BU8>=25,"*","")))
A21: =TEXT(DATE(YEAR(A17)+2,1,1),"yyyy") & "-" & TEXT(DATE(YEAR(A17)+3,1,1),"yy") -> 2016-17 | B21: ='Calculation 1.3'!Q9 | C21: ='Calculation 1.3'!R9 | D21: =IF('Calculation 1.3'!S9="","",IF('Calculation 1.3'!S9>=50,"**",IF('Calculation 1.3'!S9>=25,"*",""))) | F21: ='Calculation 1.3'!U9 | G21: ='Calculation 1.3'!V9 | H21: =IF('Calculation 1.3'!W9="","",IF('Calculation 1.3'!W9>=50,"**",IF('Calculation 1.3'!W9>=25,"*",""))) | I21: ='Calculation 1.3'!X9 | J21: ='Calculation 1.3'!Y9 | K21: =IF('Calculation 1.3'!Z9="","",IF('Calculation 1.3'!Z9>=50,"**",IF('Calculation 1.3'!Z9>=25,"*",""))) | L21: ='Calculation 1.3'!AA9 | M21: ='Calculation 1.3'!AB9 | N21: =IF('Calculation 1.3'!AC9="","",IF('Calculation 1.3'!AC9>=50,"**",IF('Calculation 1.3'!AC9>=25,"*",""))) | P21: ='Calculation 1.3'!AE9 | Q21: ='Calculation 1.3'!AF9 | R21: =IF('Calculation 1.3'!AG9="","",IF('Calculation 1.3'!AG9>=50,"**",IF('Calculation 1.3'!AG9>=25,"*",""))) | T21: ='Calculation 1.3'!AI9 | U21: ='Calculation 1.3'!AJ9 | V21: =IF('Calculation 1.3'!AK9="","",IF('Calculation 1.3'!AK9>=50,"**",IF('Calculation 1.3'!AK9>=25,"*",""))) | X21: ='Calculation 1.3'!AM9 | Y21: ='Calculation 1.3'!AN9 | Z21: =IF('Calculation 1.3'!AO9="","",IF('Calculation 1.3'!AO9>=50,"**",IF('Calculation 1.3'!AO9>=25,"*",""))) | AA21: ='Calculation 1.3'!AP9 | AB21: ='Calculation 1.3'!AQ9 | AC21: =IF('Calculation 1.3'!AR9="","",IF('Calculation 1.3'!AR9>=50,"**",IF('Calculation 1.3'!AR9>=25,"*",""))) | AD21: ='Calculation 1.3'!AS9 | AE21: ='Calculation 1.3'!AT9 | AF21: =IF('Calculation 1.3'!AU9="","",IF('Calculation 1.3'!AU9>=50,"**",IF('Calculation 1.3'!AU9>=25,"*",""))) | AH21: ='Calculation 1.3'!AW9 | AI21: ='Calculation 1.3'!AX9 | AJ21: =IF('Calculation 1.3'!AY9="","",IF('Calculation 1.3'!AY9>=50,"**",IF('Calculation 1.3'!AY9>=25,"*",""))) | AL21: ='Calculation 1.3'!BA9 | AM21: ='Calculation 1.3'!BB9 | AN21: =IF('Calculation 1.3'!BC9="","",IF('Calculation 1.3'!BC9>=50,"**",IF('Calculation 1.3'!BC9>=25,"*",""))) | AP21: ='Calculation 1.3'!BE9 | AQ21: ='Calculation 1.3'!BF9 | AR21: =IF('Calculation 1.3'!BG9="","",IF('Calculation 1.3'!BG9>=50,"**",IF('Calculation 1.3'!BG9>=25,"*",""))) | AS21: ='Calculation 1.3'!BH9 | AT21: ='Calculation 1.3'!BI9 | AU21: =IF('Calculation 1.3'!BJ9="","",IF('Calculation 1.3'!BJ9>=50,"**",IF('Calculation 1.3'!BJ9>=25,"*",""))) | AV21: ='Calculation 1.3'!BK9 | AW21: ='Calculation 1.3'!BL9 | AX21: =IF('Calculation 1.3'!BM9="","",IF('Calculation 1.3'!BM9>=50,"**",IF('Calculation 1.3'!BM9>=25,"*",""))) | AZ21: ='Calculation 1.3'!BO9 | BA21: ='Calculation 1.3'!BP9 | BB21: =IF('Calculation 1.3'!BQ9="","",IF('Calculation 1.3'!BQ9>=50,"**",IF('Calculation 1.3'!BQ9>=25,"*",""))) | BD21: ='Calculation 1.3'!BS9 | BE21: ='Calculation 1.3'!BT9 | BF21: =IF('Calculation 1.3'!BU9="","",IF('Calculation 1.3'!BU9>=50,"**",IF('Calculation 1.3'!BU9>=25,"*","")))
A22: =TEXT(DATE(YEAR(A17)+2,9,1), "mmm-yy") -> Sep-16 | B22: ='Calculation 1.3'!Q10 -> 11474.195 | C22: ='Calculation 1.3'!R10 -> 63.542 | D22: =IF('Calculation 1.3'!S10="","",IF('Calculation 1.3'!S10>=50,"**",IF('Calculation 1.3'!S10>=25,"*",""))) | F22: ='Calculation 1.3'!U10 -> 15.098 | G22: ='Calculation 1.3'!V10 -> 0.084 | H22: =IF('Calculation 1.3'!W10="","",IF('Calculation 1.3'!W10>=50,"**",IF('Calculation 1.3'!W10>=25,"*",""))) -> ** | I22: ='Calculation 1.3'!X10 -> 603.42 | J22: ='Calculation 1.3'!Y10 -> 3.342 | K22: =IF('Calculation 1.3'!Z10="","",IF('Calculation 1.3'!Z10>=50,"**",IF('Calculation 1.3'!Z10>=25,"*",""))) | L22: ='Calculation 1.3'!AA10 -> 618.518 | M22: ='Calculation 1.3'!AB10 -> 3.425 | N22: =IF('Calculation 1.3'!AC10="","",IF('Calculation 1.3'!AC10>=50,"**",IF('Calculation 1.3'!AC10>=25,"*",""))) | P22: ='Calculation 1.3'!AE10 -> 12092.714 | Q22: ='Calculation 1.3'!AF10 -> 66.968 | R22: =IF('Calculation 1.3'!AG10="","",IF('Calculation 1.3'!AG10>=50,"**",IF('Calculation 1.3'!AG10>=25,"*",""))) | T22: ='Calculation 1.3'!AI10 -> 90.192 | U22: ='Calculation 1.3'!AJ10 -> 0.499 | V22: =IF('Calculation 1.3'!AK10="","",IF('Calculation 1.3'!AK10>=50,"**",IF('Calculation 1.3'!AK10>=25,"*",""))) -> * | X22: ='Calculation 1.3'!AM10 -> 39.485 | Y22: ='Calculation 1.3'!AN10 -> 0.219 | Z22: =IF('Calculation 1.3'!AO10="","",IF('Calculation 1.3'!AO10>=50,"**",IF('Calculation 1.3'!AO10>=25,"*",""))) -> * | AA22: ='Calculation 1.3'!AP10 -> 607.247 | AB22: ='Calculation 1.3'!AQ10 -> 3.363 | AC22: =IF('Calculation 1.3'!AR10="","",IF('Calculation 1.3'!AR10>=50,"**",IF('Calculation 1.3'!AR10>=25,"*",""))) | AD22: ='Calculation 1.3'!AS10 -> 646.732 | AE22: ='Calculation 1.3'!AT10 -> 3.582 | AF22: =IF('Calculation 1.3'!AU10="","",IF('Calculation 1.3'!AU10>=50,"**",IF('Calculation 1.3'!AU10>=25,"*",""))) | AH22: ='Calculation 1.3'!AW10 -> 422.988 | AI22: ='Calculation 1.3'!AX10 -> 2.342 | AJ22: =IF('Calculation 1.3'!AY10="","",IF('Calculation 1.3'!AY10>=50,"**",IF('Calculation 1.3'!AY10>=25,"*",""))) | AL22: ='Calculation 1.3'!BA10 -> 1069.72 | AM22: ='Calculation 1.3'!BB10 -> 5.924 | AN22: =IF('Calculation 1.3'!BC10="","",IF('Calculation 1.3'!BC10>=50,"**",IF('Calculation 1.3'!BC10>=25,"*",""))) | AP22: ='Calculation 1.3'!BE10 -> 2706.507 | AQ22: ='Calculation 1.3'!BF10 -> 14.988 | AR22: =IF('Calculation 1.3'!BG10="","",IF('Calculation 1.3'!BG10>=50,"**",IF('Calculation 1.3'!BG10>=25,"*",""))) | AS22: ='Calculation 1.3'!BH10 -> 2098.386 | AT22: ='Calculation 1.3'!BI10 -> 11.621 | AU22: =IF('Calculation 1.3'!BJ10="","",IF('Calculation 1.3'!BJ10>=50,"**",IF('Calculation 1.3'!BJ10>=25,"*",""))) | AV22: ='Calculation 1.3'!BK10 -> 4804.892 | AW22: ='Calculation 1.3'!BL10 -> 26.609 | AX22: =IF('Calculation 1.3'!BM10="","",IF('Calculation 1.3'!BM10>=50,"**",IF('Calculation 1.3'!BM10>=25,"*",""))) | AZ22: ='Calculation 1.3'!BO10 -> 5964.805 | BA22: ='Calculation 1.3'!BP10 -> 33.032 | BB22: =IF('Calculation 1.3'!BQ10="","",IF('Calculation 1.3'!BQ10>=50,"**",IF('Calculation 1.3'!BQ10>=25,"*",""))) | BD22: ='Calculation 1.3'!BS10 -> 18057.518 | BE22: ='Calculation 1.3'!BT10 -> 100 | BF22: =IF('Calculation 1.3'!BU10="","",IF('Calculation 1.3'!BU10>=50,"**",IF('Calculation 1.3'!BU10>=25,"*","")))
A23: =TEXT(DATE(YEAR(A17)+2,12,1), "mmm-yy") -> Dec-16 | B23: ='Calculation 1.3'!Q11 -> 11536.922 | C23: ='Calculation 1.3'!R11 -> 63.552 | D23: =IF('Calculation 1.3'!S11="","",IF('Calculation 1.3'!S11>=50,"**",IF('Calculation 1.3'!S11>=25,"*",""))) | F23: ='Calculation 1.3'!U11 -> 16.228 | G23: ='Calculation 1.3'!V11 -> 0.089 | H23: =IF('Calculation 1.3'!W11="","",IF('Calculation 1.3'!W11>=50,"**",IF('Calculation 1.3'!W11>=25,"*",""))) -> ** | I23: ='Calculation 1.3'!X11 -> 588.252 | J23: ='Calculation 1.3'!Y11 -> 3.24 | K23: =IF('Calculation 1.3'!Z11="","",IF('Calculation 1.3'!Z11>=50,"**",IF('Calculation 1.3'!Z11>=25,"*",""))) | L23: ='Calculation 1.3'!AA11 -> 604.48 | M23: ='Calculation 1.3'!AB11 -> 3.33 | N23: =IF('Calculation 1.3'!AC11="","",IF('Calculation 1.3'!AC11>=50,"**",IF('Calculation 1.3'!AC11>=25,"*",""))) | P23: ='Calculation 1.3'!AE11 -> 12141.402 | Q23: ='Calculation 1.3'!AF11 -> 66.882 | R23: =IF('Calculation 1.3'!AG11="","",IF('Calculation 1.3'!AG11>=50,"**",IF('Calculation 1.3'!AG11>=25,"*",""))) | T23: ='Calculation 1.3'!AI11 -> 170.677 | U23: ='Calculation 1.3'!AJ11 -> 0.94 | V23: =IF('Calculation 1.3'!AK11="","",IF('Calculation 1.3'!AK11>=50,"**",IF('Calculation 1.3'!AK11>=25,"*",""))) -> * | X23: ='Calculation 1.3'!AM11 -> 28.082 | Y23: ='Calculation 1.3'!AN11 -> 0.155 | Z23: =IF('Calculation 1.3'!AO11="","",IF('Calculation 1.3'!AO11>=50,"**",IF('Calculation 1.3'!AO11>=25,"*",""))) -> * | AA23: ='Calculation 1.3'!AP11 -> 623.481 | AB23: ='Calculation 1.3'!AQ11 -> 3.435 | AC23: =IF('Calculation 1.3'!AR11="","",IF('Calculation 1.3'!AR11>=50,"**",IF('Calculation 1.3'!AR11>=25,"*",""))) | AD23: ='Calculation 1.3'!AS11 -> 651.562 | AE23: ='Calculation 1.3'!AT11 -> 3.589 | AF23: =IF('Calculation 1.3'!AU11="","",IF('Calculation 1.3'!AU11>=50,"**",IF('Calculation 1.3'!AU11>=25,"*",""))) | AH23: ='Calculation 1.3'!AW11 -> 336.792 | AI23: ='Calculation 1.3'!AX11 -> 1.855 | AJ23: =IF('Calculation 1.3'!AY11="","",IF('Calculation 1.3'!AY11>=50,"**",IF('Calculation 1.3'!AY11>=25,"*",""))) | AL23: ='Calculation 1.3'!BA11 -> 988.355 | AM23: ='Calculation 1.3'!BB11 -> 5.444 | AN23: =IF('Calculation 1.3'!BC11="","",IF('Calculation 1.3'!BC11>=50,"**",IF('Calculation 1.3'!BC11>=25,"*",""))) | AP23: ='Calculation 1.3'!BE11 -> 2394.178 | AQ23: ='Calculation 1.3'!BF11 -> 13.189 | AR23: =IF('Calculation 1.3'!BG11="","",IF('Calculation 1.3'!BG11>=50,"**",IF('Calculation 1.3'!BG11>=25,"*",""))) | AS23: ='Calculation 1.3'!BH11 -> 2458.845 | AT23: ='Calculation 1.3'!BI11 -> 13.545 | AU23: =IF('Calculation 1.3'!BJ11="","",IF('Calculation 1.3'!BJ11>=50,"**",IF('Calculation 1.3'!BJ11>=25,"*",""))) | AV23: ='Calculation 1.3'!BK11 -> 4853.023 | AW23: ='Calculation 1.3'!BL11 -> 26.733 | AX23: =IF('Calculation 1.3'!BM11="","",IF('Calculation 1.3'!BM11>=50,"**",IF('Calculation 1.3'!BM11>=25,"*",""))) | AZ23: ='Calculation 1.3'!BO11 -> 6012.055 | BA23: ='Calculation 1.3'!BP11 -> 33.118 | BB23: =IF('Calculation 1.3'!BQ11="","",IF('Calculation 1.3'!BQ11>=50,"**",IF('Calculation 1.3'!BQ11>=25,"*",""))) | BD23: ='Calculation 1.3'!BS11 -> 18153.456 | BE23: ='Calculation 1.3'!BT11 -> 100 | BF23: =IF('Calculation 1.3'!BU11="","",IF('Calculation 1.3'!BU11>=50,"**",IF('Calculation 1.3'!BU11>=25,"*","")))
A24: =TEXT(DATE(YEAR(A17)+3,3,1), "mmm-yy") -> Mar-17 | B24: ='Calculation 1.3'!Q12 -> 11445.641 | C24: ='Calculation 1.3'!R12 -> 62.922 | D24: =IF('Calculation 1.3'!S12="","",IF('Calculation 1.3'!S12>=50,"**",IF('Calculation 1.3'!S12>=25,"*",""))) | F24: ='Calculation 1.3'!U12 -> 17.74 | G24: ='Calculation 1.3'!V12 -> 0.098 | H24: =IF('Calculation 1.3'!W12="","",IF('Calculation 1.3'!W12>=50,"**",IF('Calculation 1.3'!W12>=25,"*",""))) -> ** | I24: ='Calculation 1.3'!X12 -> 684.313 | J24: ='Calculation 1.3'!Y12 -> 3.762 | K24: =IF('Calculation 1.3'!Z12="","",IF('Calculation 1.3'!Z12>=50,"**",IF('Calculation 1.3'!Z12>=25,"*",""))) | L24: ='Calculation 1.3'!AA12 -> 702.053 | M24: ='Calculation 1.3'!AB12 -> 3.859 | N24: =IF('Calculation 1.3'!AC12="","",IF('Calculation 1.3'!AC12>=50,"**",IF('Calculation 1.3'!AC12>=25,"*",""))) | P24: ='Calculation 1.3'!AE12 -> 12147.694 | Q24: ='Calculation 1.3'!AF12 -> 66.781 | R24: =IF('Calculation 1.3'!AG12="","",IF('Calculation 1.3'!AG12>=50,"**",IF('Calculation 1.3'!AG12>=25,"*",""))) | T24: ='Calculation 1.3'!AI12 -> 214.049 | U24: ='Calculation 1.3'!AJ12 -> 1.177 | V24: =IF('Calculation 1.3'!AK12="","",IF('Calculation 1.3'!AK12>=50,"**",IF('Calculation 1.3'!AK12>=25,"*",""))) | X24: ='Calculation 1.3'!AM12 -> 26.64 | Y24: ='Calculation 1.3'!AN12 -> 0.146 | Z24: =IF('Calculation 1.3'!AO12="","",IF('Calculation 1.3'!AO12>=50,"**",IF('Calculation 1.3'!AO12>=25,"*",""))) -> ** | AA24: ='Calculation 1.3'!AP12 -> 686.32 | AB24: ='Calculation 1.3'!AQ12 -> 3.773 | AC24: =IF('Calculation 1.3'!AR12="","",IF('Calculation 1.3'!AR12>=50,"**",IF('Calculation 1.3'!AR12>=25,"*",""))) | AD24: ='Calculation 1.3'!AS12 -> 712.96 | AE24: ='Calculation 1.3'!AT12 -> 3.919 | AF24: =IF('Calculation 1.3'!AU12="","",IF('Calculation 1.3'!AU12>=50,"**",IF('Calculation 1.3'!AU12>=25,"*",""))) | AH24: ='Calculation 1.3'!AW12 -> 415.649 | AI24: ='Calculation 1.3'!AX12 -> 2.285 | AJ24: =IF('Calculation 1.3'!AY12="","",IF('Calculation 1.3'!AY12>=50,"**",IF('Calculation 1.3'!AY12>=25,"*",""))) | AL24: ='Calculation 1.3'!BA12 -> 1128.609 | AM24: ='Calculation 1.3'!BB12 -> 6.204 | AN24: =IF('Calculation 1.3'!BC12="","",IF('Calculation 1.3'!BC12>=50,"**",IF('Calculation 1.3'!BC12>=25,"*",""))) | AP24: ='Calculation 1.3'!BE12 -> 2484.941 | AQ24: ='Calculation 1.3'!BF12 -> 13.661 | AR24: =IF('Calculation 1.3'!BG12="","",IF('Calculation 1.3'!BG12>=50,"**",IF('Calculation 1.3'!BG12>=25,"*",""))) | AS24: ='Calculation 1.3'!BH12 -> 2214.99 | AT24: ='Calculation 1.3'!BI12 -> 12.177 | AU24: =IF('Calculation 1.3'!BJ12="","",IF('Calculation 1.3'!BJ12>=50,"**",IF('Calculation 1.3'!BJ12>=25,"*",""))) | AV24: ='Calculation 1.3'!BK12 -> 4699.93 | AW24: ='Calculation 1.3'!BL12 -> 25.838 | AX24: =IF('Calculation 1.3'!BM12="","",IF('Calculation 1.3'!BM12>=50,"**",IF('Calculation 1.3'!BM12>=25,"*",""))) | AZ24: ='Calculation 1.3'!BO12 -> 6042.588 | BA24: ='Calculation 1.3'!BP12 -> 33.219 | BB24: =IF('Calculation 1.3'!BQ12="","",IF('Calculation 1.3'!BQ12>=50,"**",IF('Calculation 1.3'!BQ12>=25,"*",""))) | BD24: ='Calculation 1.3'!BS12 -> 18190.282 | BE24: ='Calculation 1.3'!BT12 -> 100 | BF24: =IF('Calculation 1.3'!BU12="","",IF('Calculation 1.3'!BU12>=50,"**",IF('Calculation 1.3'!BU12>=25,"*","")))
A25: =TEXT(DATE(YEAR(A17)+3,6,1), "mmm-yy") -> Jun-17 | B25: ='Calculation 1.3'!Q13 -> 11649.459 | C25: ='Calculation 1.3'!R13 -> 63.823 | D25: =IF('Calculation 1.3'!S13="","",IF('Calculation 1.3'!S13>=50,"**",IF('Calculation 1.3'!S13>=25,"*",""))) | F25: ='Calculation 1.3'!U13 -> 33.757 | G25: ='Calculation 1.3'!V13 -> 0.185 | H25: =IF('Calculation 1.3'!W13="","",IF('Calculation 1.3'!W13>=50,"**",IF('Calculation 1.3'!W13>=25,"*",""))) -> * | I25: ='Calculation 1.3'!X13 -> 585.016 | J25: ='Calculation 1.3'!Y13 -> 3.205 | K25: =IF('Calculation 1.3'!Z13="","",IF('Calculation 1.3'!Z13>=50,"**",IF('Calculation 1.3'!Z13>=25,"*",""))) | L25: ='Calculation 1.3'!AA13 -> 618.774 | M25: ='Calculation 1.3'!AB13 -> 3.39 | N25: =IF('Calculation 1.3'!AC13="","",IF('Calculation 1.3'!AC13>=50,"**",IF('Calculation 1.3'!AC13>=25,"*",""))) | P25: ='Calculation 1.3'!AE13 -> 12268.233 | Q25: ='Calculation 1.3'!AF13 -> 67.213 | R25: =IF('Calculation 1.3'!AG13="","",IF('Calculation 1.3'!AG13>=50,"**",IF('Calculation 1.3'!AG13>=25,"*",""))) | T25: ='Calculation 1.3'!AI13 -> 102.614 | U25: ='Calculation 1.3'!AJ13 -> 0.562 | V25: =IF('Calculation 1.3'!AK13="","",IF('Calculation 1.3'!AK13>=50,"**",IF('Calculation 1.3'!AK13>=25,"*",""))) -> * | X25: ='Calculation 1.3'!AM13 -> 20.619 | Y25: ='Calculation 1.3'!AN13 -> 0.113 | Z25: =IF('Calculation 1.3'!AO13="","",IF('Calculation 1.3'!AO13>=50,"**",IF('Calculation 1.3'!AO13>=25,"*",""))) -> * | AA25: ='Calculation 1.3'!AP13 -> 561.593 | AB25: ='Calculation 1.3'!AQ13 -> 3.077 | AC25: =IF('Calculation 1.3'!AR13="","",IF('Calculation 1.3'!AR13>=50,"**",IF('Calculation 1.3'!AR13>=25,"*",""))) | AD25: ='Calculation 1.3'!AS13 -> 582.212 | AE25: ='Calculation 1.3'!AT13 -> 3.19 | AF25: =IF('Calculation 1.3'!AU13="","",IF('Calculation 1.3'!AU13>=50,"**",IF('Calculation 1.3'!AU13>=25,"*",""))) | AH25: ='Calculation 1.3'!AW13 -> 347.269 | AI25: ='Calculation 1.3'!AX13 -> 1.903 | AJ25: =IF('Calculation 1.3'!AY13="","",IF('Calculation 1.3'!AY13>=50,"**",IF('Calculation 1.3'!AY13>=25,"*",""))) | AL25: ='Calculation 1.3'!BA13 -> 929.482 | AM25: ='Calculation 1.3'!BB13 -> 5.092 | AN25: =IF('Calculation 1.3'!BC13="","",IF('Calculation 1.3'!BC13>=50,"**",IF('Calculation 1.3'!BC13>=25,"*",""))) | AP25: ='Calculation 1.3'!BE13 -> 2632.011 | AQ25: ='Calculation 1.3'!BF13 -> 14.42 | AR25: =IF('Calculation 1.3'!BG13="","",IF('Calculation 1.3'!BG13>=50,"**",IF('Calculation 1.3'!BG13>=25,"*",""))) | AS25: ='Calculation 1.3'!BH13 -> 2320.439 | AT25: ='Calculation 1.3'!BI13 -> 12.713 | AU25: =IF('Calculation 1.3'!BJ13="","",IF('Calculation 1.3'!BJ13>=50,"**",IF('Calculation 1.3'!BJ13>=25,"*",""))) | AV25: ='Calculation 1.3'!BK13 -> 4952.45 | AW25: ='Calculation 1.3'!BL13 -> 27.133 | AX25: =IF('Calculation 1.3'!BM13="","",IF('Calculation 1.3'!BM13>=50,"**",IF('Calculation 1.3'!BM13>=25,"*",""))) | AZ25: ='Calculation 1.3'!BO13 -> 5984.546 | BA25: ='Calculation 1.3'!BP13 -> 32.787 | BB25: =IF('Calculation 1.3'!BQ13="","",IF('Calculation 1.3'!BQ13>=50,"**",IF('Calculation 1.3'!BQ13>=25,"*",""))) | BD25: ='Calculation 1.3'!BS13 -> 18252.779 | BE25: ='Calculation 1.3'!BT13 -> 100 | BF25: =IF('Calculation 1.3'!BU13="","",IF('Calculation 1.3'!BU13>=50,"**",IF('Calculation 1.3'!BU13>=25,"*","")))
A26: =TEXT(DATE(YEAR(A22)+2,1,1),"yyyy") & "-" & TEXT(DATE(YEAR(A22)+3,1,1),"yy") -> 2018-19 | B26: ='Calculation 1.3'!Q14 | C26: ='Calculation 1.3'!R14 | D26: =IF('Calculation 1.3'!S14="","",IF('Calculation 1.3'!S14>=50,"**",IF('Calculation 1.3'!S14>=25,"*",""))) | F26: ='Calculation 1.3'!U14 | G26: ='Calculation 1.3'!V14 | H26: =IF('Calculation 1.3'!W14="","",IF('Calculation 1.3'!W14>=50,"**",IF('Calculation 1.3'!W14>=25,"*",""))) | I26: ='Calculation 1.3'!X14 | J26: ='Calculation 1.3'!Y14 | K26: =IF('Calculation 1.3'!Z14="","",IF('Calculation 1.3'!Z14>=50,"**",IF('Calculation 1.3'!Z14>=25,"*",""))) | L26: ='Calculation 1.3'!AA14 | M26: ='Calculation 1.3'!AB14 | N26: =IF('Calculation 1.3'!AC14="","",IF('Calculation 1.3'!AC14>=50,"**",IF('Calculation 1.3'!AC14>=25,"*",""))) | P26: ='Calculation 1.3'!AE14 | Q26: ='Calculation 1.3'!AF14 | R26: =IF('Calculation 1.3'!AG14="","",IF('Calculation 1.3'!AG14>=50,"**",IF('Calculation 1.3'!AG14>=25,"*",""))) | T26: ='Calculation 1.3'!AI14 | U26: ='Calculation 1.3'!AJ14 | V26: =IF('Calculation 1.3'!AK14="","",IF('Calculation 1.3'!AK14>=50,"**",IF('Calculation 1.3'!AK14>=25,"*",""))) | X26: ='Calculation 1.3'!AM14 | Y26: ='Calculation 1.3'!AN14 | Z26: =IF('Calculation 1.3'!AO14="","",IF('Calculation 1.3'!AO14>=50,"**",IF('Calculation 1.3'!AO14>=25,"*",""))) | AA26: ='Calculation 1.3'!AP14 | AB26: ='Calculation 1.3'!AQ14 | AC26: =IF('Calculation 1.3'!AR14="","",IF('Calculation 1.3'!AR14>=50,"**",IF('Calculation 1.3'!AR14>=25,"*",""))) | AD26: ='Calculation 1.3'!AS14 | AE26: ='Calculation 1.3'!AT14 | AF26: =IF('Calculation 1.3'!AU14="","",IF('Calculation 1.3'!AU14>=50,"**",IF('Calculation 1.3'!AU14>=25,"*",""))) | AH26: ='Calculation 1.3'!AW14 | AI26: ='Calculation 1.3'!AX14 | AJ26: =IF('Calculation 1.3'!AY14="","",IF('Calculation 1.3'!AY14>=50,"**",IF('Calculation 1.3'!AY14>=25,"*",""))) | AL26: ='Calculation 1.3'!BA14 | AM26: ='Calculation 1.3'!BB14 | AN26: =IF('Calculation 1.3'!BC14="","",IF('Calculation 1.3'!BC14>=50,"**",IF('Calculation 1.3'!BC14>=25,"*",""))) | AP26: ='Calculation 1.3'!BE14 | AQ26: ='Calculation 1.3'!BF14 | AR26: =IF('Calculation 1.3'!BG14="","",IF('Calculation 1.3'!BG14>=50,"**",IF('Calculation 1.3'!BG14>=25,"*",""))) | AS26: ='Calculation 1.3'!BH14 | AT26: ='Calculation 1.3'!BI14 | AU26: =IF('Calculation 1.3'!BJ14="","",IF('Calculation 1.3'!BJ14>=50,"**",IF('Calculation 1.3'!BJ14>=25,"*",""))) | AV26: ='Calculation 1.3'!BK14 | AW26: ='Calculation 1.3'!BL14 | AX26: =IF('Calculation 1.3'!BM14="","",IF('Calculation 1.3'!BM14>=50,"**",IF('Calculation 1.3'!BM14>=25,"*",""))) | AZ26: ='Calculation 1.3'!BO14 | BA26: ='Calculation 1.3'!BP14 | BB26: =IF('Calculation 1.3'!BQ14="","",IF('Calculation 1.3'!BQ14>=50,"**",IF('Calculation 1.3'!BQ14>=25,"*",""))) | BD26: ='Calculation 1.3'!BS14 | BE26: ='Calculation 1.3'!BT14 | BF26: =IF('Calculation 1.3'!BU14="","",IF('Calculation 1.3'!BU14>=50,"**",IF('Calculation 1.3'!BU14>=25,"*","")))
A27: =TEXT(DATE(YEAR(A22)+2,9,1), "mmm-yy") -> Sep-18 | B27: ='Calculation 1.3'!Q15 -> 11975.131 | C27: ='Calculation 1.3'!R15 -> 64.181 | D27: =IF('Calculation 1.3'!S15="","",IF('Calculation 1.3'!S15>=50,"**",IF('Calculation 1.3'!S15>=25,"*",""))) | F27: ='Calculation 1.3'!U15 -> 13.082 | G27: ='Calculation 1.3'!V15 -> 0.07 | H27: =IF('Calculation 1.3'!W15="","",IF('Calculation 1.3'!W15>=50,"**",IF('Calculation 1.3'!W15>=25,"*",""))) -> ** | I27: ='Calculation 1.3'!X15 -> 571.945 | J27: ='Calculation 1.3'!Y15 -> 3.065 | K27: =IF('Calculation 1.3'!Z15="","",IF('Calculation 1.3'!Z15>=50,"**",IF('Calculation 1.3'!Z15>=25,"*",""))) | L27: ='Calculation 1.3'!AA15 -> 585.027 | M27: ='Calculation 1.3'!AB15 -> 3.135 | N27: =IF('Calculation 1.3'!AC15="","",IF('Calculation 1.3'!AC15>=50,"**",IF('Calculation 1.3'!AC15>=25,"*",""))) | P27: ='Calculation 1.3'!AE15 -> 12560.158 | Q27: ='Calculation 1.3'!AF15 -> 67.316 | R27: =IF('Calculation 1.3'!AG15="","",IF('Calculation 1.3'!AG15>=50,"**",IF('Calculation 1.3'!AG15>=25,"*",""))) | T27: ='Calculation 1.3'!AI15 -> 151.918 | U27: ='Calculation 1.3'!AJ15 -> 0.814 | V27: =IF('Calculation 1.3'!AK15="","",IF('Calculation 1.3'!AK15>=50,"**",IF('Calculation 1.3'!AK15>=25,"*",""))) | X27: ='Calculation 1.3'!AM15 -> 54.006 | Y27: ='Calculation 1.3'!AN15 -> 0.289 | Z27: =IF('Calculation 1.3'!AO15="","",IF('Calculation 1.3'!AO15>=50,"**",IF('Calculation 1.3'!AO15>=25,"*",""))) -> ** | AA27: ='Calculation 1.3'!AP15 -> 539.512 | AB27: ='Calculation 1.3'!AQ15 -> 2.892 | AC27: =IF('Calculation 1.3'!AR15="","",IF('Calculation 1.3'!AR15>=50,"**",IF('Calculation 1.3'!AR15>=25,"*",""))) | AD27: ='Calculation 1.3'!AS15 -> 593.519 | AE27: ='Calculation 1.3'!AT15 -> 3.181 | AF27: =IF('Calculation 1.3'!AU15="","",IF('Calculation 1.3'!AU15>=50,"**",IF('Calculation 1.3'!AU15>=25,"*",""))) | AH27: ='Calculation 1.3'!AW15 -> 429.819 | AI27: ='Calculation 1.3'!AX15 -> 2.304 | AJ27: =IF('Calculation 1.3'!AY15="","",IF('Calculation 1.3'!AY15>=50,"**",IF('Calculation 1.3'!AY15>=25,"*",""))) | AL27: ='Calculation 1.3'!BA15 -> 1023.338 | AM27: ='Calculation 1.3'!BB15 -> 5.485 | AN27: =IF('Calculation 1.3'!BC15="","",IF('Calculation 1.3'!BC15>=50,"**",IF('Calculation 1.3'!BC15>=25,"*",""))) | AP27: ='Calculation 1.3'!BE15 -> 2498.878 | AQ27: ='Calculation 1.3'!BF15 -> 13.393 | AR27: =IF('Calculation 1.3'!BG15="","",IF('Calculation 1.3'!BG15>=50,"**",IF('Calculation 1.3'!BG15>=25,"*",""))) | AS27: ='Calculation 1.3'!BH15 -> 2424.187 | AT27: ='Calculation 1.3'!BI15 -> 12.992 | AU27: =IF('Calculation 1.3'!BJ15="","",IF('Calculation 1.3'!BJ15>=50,"**",IF('Calculation 1.3'!BJ15>=25,"*",""))) | AV27: ='Calculation 1.3'!BK15 -> 4923.065 | AW27: ='Calculation 1.3'!BL15 -> 26.385 | AX27: =IF('Calculation 1.3'!BM15="","",IF('Calculation 1.3'!BM15>=50,"**",IF('Calculation 1.3'!BM15>=25,"*",""))) | AZ27: ='Calculation 1.3'!BO15 -> 6098.322 | BA27: ='Calculation 1.3'!BP15 -> 32.684 | BB27: =IF('Calculation 1.3'!BQ15="","",IF('Calculation 1.3'!BQ15>=50,"**",IF('Calculation 1.3'!BQ15>=25,"*",""))) | BD27: ='Calculation 1.3'!BS15 -> 18658.479 | BE27: ='Calculation 1.3'!BT15 -> 100 | BF27: =IF('Calculation 1.3'!BU15="","",IF('Calculation 1.3'!BU15>=50,"**",IF('Calculation 1.3'!BU15>=25,"*","")))
A28: =TEXT(DATE(YEAR(A22)+2,12,1), "mmm-yy") -> Dec-18 | B28: ='Calculation 1.3'!Q16 -> 12106.898 | C28: ='Calculation 1.3'!R16 -> 64.7 | D28: =IF('Calculation 1.3'!S16="","",IF('Calculation 1.3'!S16>=50,"**",IF('Calculation 1.3'!S16>=25,"*",""))) | F28: ='Calculation 1.3'!U16 -> 10.86 | G28: ='Calculation 1.3'!V16 -> 0.058 | H28: =IF('Calculation 1.3'!W16="","",IF('Calculation 1.3'!W16>=50,"**",IF('Calculation 1.3'!W16>=25,"*",""))) -> ** | I28: ='Calculation 1.3'!X16 -> 526.63 | J28: ='Calculation 1.3'!Y16 -> 2.814 | K28: =IF('Calculation 1.3'!Z16="","",IF('Calculation 1.3'!Z16>=50,"**",IF('Calculation 1.3'!Z16>=25,"*",""))) | L28: ='Calculation 1.3'!AA16 -> 537.49 | M28: ='Calculation 1.3'!AB16 -> 2.872 | N28: =IF('Calculation 1.3'!AC16="","",IF('Calculation 1.3'!AC16>=50,"**",IF('Calculation 1.3'!AC16>=25,"*",""))) | P28: ='Calculation 1.3'!AE16 -> 12644.388 | Q28: ='Calculation 1.3'!AF16 -> 67.572 | R28: =IF('Calculation 1.3'!AG16="","",IF('Calculation 1.3'!AG16>=50,"**",IF('Calculation 1.3'!AG16>=25,"*",""))) | T28: ='Calculation 1.3'!AI16 -> 137.644 | U28: ='Calculation 1.3'!AJ16 -> 0.736 | V28: =IF('Calculation 1.3'!AK16="","",IF('Calculation 1.3'!AK16>=50,"**",IF('Calculation 1.3'!AK16>=25,"*",""))) -> * | X28: ='Calculation 1.3'!AM16 -> 76.161 | Y28: ='Calculation 1.3'!AN16 -> 0.407 | Z28: =IF('Calculation 1.3'!AO16="","",IF('Calculation 1.3'!AO16>=50,"**",IF('Calculation 1.3'!AO16>=25,"*",""))) -> * | AA28: ='Calculation 1.3'!AP16 -> 532.008 | AB28: ='Calculation 1.3'!AQ16 -> 2.843 | AC28: =IF('Calculation 1.3'!AR16="","",IF('Calculation 1.3'!AR16>=50,"**",IF('Calculation 1.3'!AR16>=25,"*",""))) | AD28: ='Calculation 1.3'!AS16 -> 608.169 | AE28: ='Calculation 1.3'!AT16 -> 3.25 | AF28: =IF('Calculation 1.3'!AU16="","",IF('Calculation 1.3'!AU16>=50,"**",IF('Calculation 1.3'!AU16>=25,"*",""))) | AH28: ='Calculation 1.3'!AW16 -> 325.354 | AI28: ='Calculation 1.3'!AX16 -> 1.739 | AJ28: =IF('Calculation 1.3'!AY16="","",IF('Calculation 1.3'!AY16>=50,"**",IF('Calculation 1.3'!AY16>=25,"*",""))) | AL28: ='Calculation 1.3'!BA16 -> 933.522 | AM28: ='Calculation 1.3'!BB16 -> 4.989 | AN28: =IF('Calculation 1.3'!BC16="","",IF('Calculation 1.3'!BC16>=50,"**",IF('Calculation 1.3'!BC16>=25,"*",""))) | AP28: ='Calculation 1.3'!BE16 -> 2614.318 | AQ28: ='Calculation 1.3'!BF16 -> 13.971 | AR28: =IF('Calculation 1.3'!BG16="","",IF('Calculation 1.3'!BG16>=50,"**",IF('Calculation 1.3'!BG16>=25,"*",""))) | AS28: ='Calculation 1.3'!BH16 -> 2382.567 | AT28: ='Calculation 1.3'!BI16 -> 12.733 | AU28: =IF('Calculation 1.3'!BJ16="","",IF('Calculation 1.3'!BJ16>=50,"**",IF('Calculation 1.3'!BJ16>=25,"*",""))) | AV28: ='Calculation 1.3'!BK16 -> 4996.885 | AW28: ='Calculation 1.3'!BL16 -> 26.704 | AX28: =IF('Calculation 1.3'!BM16="","",IF('Calculation 1.3'!BM16>=50,"**",IF('Calculation 1.3'!BM16>=25,"*",""))) | AZ28: ='Calculation 1.3'!BO16 -> 6068.051 | BA28: ='Calculation 1.3'!BP16 -> 32.428 | BB28: =IF('Calculation 1.3'!BQ16="","",IF('Calculation 1.3'!BQ16>=50,"**",IF('Calculation 1.3'!BQ16>=25,"*",""))) | BD28: ='Calculation 1.3'!BS16 -> 18712.439 | BE28: ='Calculation 1.3'!BT16 -> 100 | BF28: =IF('Calculation 1.3'!BU16="","",IF('Calculation 1.3'!BU16>=50,"**",IF('Calculation 1.3'!BU16>=25,"*","")))
A29: =TEXT(DATE(YEAR(A22)+3,3,1), "mmm-yy") -> Mar-19 | B29: ='Calculation 1.3'!Q17 -> 12101.298 | C29: ='Calculation 1.3'!R17 -> 64.423 | D29: =IF('Calculation 1.3'!S17="","",IF('Calculation 1.3'!S17>=50,"**",IF('Calculation 1.3'!S17>=25,"*",""))) | F29: ='Calculation 1.3'!U17 -> 38.247 | G29: ='Calculation 1.3'!V17 -> 0.204 | H29: =IF('Calculation 1.3'!W17="","",IF('Calculation 1.3'!W17>=50,"**",IF('Calculation 1.3'!W17>=25,"*",""))) -> * | I29: ='Calculation 1.3'!X17 -> 587.248 | J29: ='Calculation 1.3'!Y17 -> 3.126 | K29: =IF('Calculation 1.3'!Z17="","",IF('Calculation 1.3'!Z17>=50,"**",IF('Calculation 1.3'!Z17>=25,"*",""))) | L29: ='Calculation 1.3'!AA17 -> 625.495 | M29: ='Calculation 1.3'!AB17 -> 3.33 | N29: =IF('Calculation 1.3'!AC17="","",IF('Calculation 1.3'!AC17>=50,"**",IF('Calculation 1.3'!AC17>=25,"*",""))) | P29: ='Calculation 1.3'!AE17 -> 12726.794 | Q29: ='Calculation 1.3'!AF17 -> 67.753 | R29: =IF('Calculation 1.3'!AG17="","",IF('Calculation 1.3'!AG17>=50,"**",IF('Calculation 1.3'!AG17>=25,"*",""))) | T29: ='Calculation 1.3'!AI17 -> 113.85 | U29: ='Calculation 1.3'!AJ17 -> 0.606 | V29: =IF('Calculation 1.3'!AK17="","",IF('Calculation 1.3'!AK17>=50,"**",IF('Calculation 1.3'!AK17>=25,"*",""))) -> * | X29: ='Calculation 1.3'!AM17 -> 26.519 | Y29: ='Calculation 1.3'!AN17 -> 0.141 | Z29: =IF('Calculation 1.3'!AO17="","",IF('Calculation 1.3'!AO17>=50,"**",IF('Calculation 1.3'!AO17>=25,"*",""))) -> ** | AA29: ='Calculation 1.3'!AP17 -> 671.783 | AB29: ='Calculation 1.3'!AQ17 -> 3.576 | AC29: =IF('Calculation 1.3'!AR17="","",IF('Calculation 1.3'!AR17>=50,"**",IF('Calculation 1.3'!AR17>=25,"*",""))) | AD29: ='Calculation 1.3'!AS17 -> 698.302 | AE29: ='Calculation 1.3'!AT17 -> 3.718 | AF29: =IF('Calculation 1.3'!AU17="","",IF('Calculation 1.3'!AU17>=50,"**",IF('Calculation 1.3'!AU17>=25,"*",""))) | AH29: ='Calculation 1.3'!AW17 -> 371.052 | AI29: ='Calculation 1.3'!AX17 -> 1.975 | AJ29: =IF('Calculation 1.3'!AY17="","",IF('Calculation 1.3'!AY17>=50,"**",IF('Calculation 1.3'!AY17>=25,"*",""))) | AL29: ='Calculation 1.3'!BA17 -> 1069.354 | AM29: ='Calculation 1.3'!BB17 -> 5.693 | AN29: =IF('Calculation 1.3'!BC17="","",IF('Calculation 1.3'!BC17>=50,"**",IF('Calculation 1.3'!BC17>=25,"*",""))) | AP29: ='Calculation 1.3'!BE17 -> 2596.077 | AQ29: ='Calculation 1.3'!BF17 -> 13.821 | AR29: =IF('Calculation 1.3'!BG17="","",IF('Calculation 1.3'!BG17>=50,"**",IF('Calculation 1.3'!BG17>=25,"*",""))) | AS29: ='Calculation 1.3'!BH17 -> 2277.925 | AT29: ='Calculation 1.3'!BI17 -> 12.127 | AU29: =IF('Calculation 1.3'!BJ17="","",IF('Calculation 1.3'!BJ17>=50,"**",IF('Calculation 1.3'!BJ17>=25,"*",""))) | AV29: ='Calculation 1.3'!BK17 -> 4874.001 | AW29: ='Calculation 1.3'!BL17 -> 25.948 | AX29: =IF('Calculation 1.3'!BM17="","",IF('Calculation 1.3'!BM17>=50,"**",IF('Calculation 1.3'!BM17>=25,"*",""))) | AZ29: ='Calculation 1.3'!BO17 -> 6057.205 | BA29: ='Calculation 1.3'!BP17 -> 32.247 | BB29: =IF('Calculation 1.3'!BQ17="","",IF('Calculation 1.3'!BQ17>=50,"**",IF('Calculation 1.3'!BQ17>=25,"*",""))) | BD29: ='Calculation 1.3'!BS17 -> 18783.998 | BE29: ='Calculation 1.3'!BT17 -> 100 | BF29: =IF('Calculation 1.3'!BU17="","",IF('Calculation 1.3'!BU17>=50,"**",IF('Calculation 1.3'!BU17>=25,"*","")))
A30: =TEXT(DATE(YEAR(A22)+3,6,1), "mmm-yy") -> Jun-19 | B30: ='Calculation 1.3'!Q18 -> 12252.699 | C30: ='Calculation 1.3'!R18 -> 64.958 | D30: =IF('Calculation 1.3'!S18="","",IF('Calculation 1.3'!S18>=50,"**",IF('Calculation 1.3'!S18>=25,"*",""))) | F30: ='Calculation 1.3'!U18 -> 17.151 | G30: ='Calculation 1.3'!V18 -> 0.091 | H30: =IF('Calculation 1.3'!W18="","",IF('Calculation 1.3'!W18>=50,"**",IF('Calculation 1.3'!W18>=25,"*",""))) -> * | I30: ='Calculation 1.3'!X18 -> 583.484 | J30: ='Calculation 1.3'!Y18 -> 3.093 | K30: =IF('Calculation 1.3'!Z18="","",IF('Calculation 1.3'!Z18>=50,"**",IF('Calculation 1.3'!Z18>=25,"*",""))) | L30: ='Calculation 1.3'!AA18 -> 600.635 | M30: ='Calculation 1.3'!AB18 -> 3.184 | N30: =IF('Calculation 1.3'!AC18="","",IF('Calculation 1.3'!AC18>=50,"**",IF('Calculation 1.3'!AC18>=25,"*",""))) | P30: ='Calculation 1.3'!AE18 -> 12853.334 | Q30: ='Calculation 1.3'!AF18 -> 68.143 | R30: =IF('Calculation 1.3'!AG18="","",IF('Calculation 1.3'!AG18>=50,"**",IF('Calculation 1.3'!AG18>=25,"*",""))) | T30: ='Calculation 1.3'!AI18 -> 91.911 | U30: ='Calculation 1.3'!AJ18 -> 0.487 | V30: =IF('Calculation 1.3'!AK18="","",IF('Calculation 1.3'!AK18>=50,"**",IF('Calculation 1.3'!AK18>=25,"*",""))) -> * | X30: ='Calculation 1.3'!AM18 -> 88.969 | Y30: ='Calculation 1.3'!AN18 -> 0.472 | Z30: =IF('Calculation 1.3'!AO18="","",IF('Calculation 1.3'!AO18>=50,"**",IF('Calculation 1.3'!AO18>=25,"*",""))) -> * | AA30: ='Calculation 1.3'!AP18 -> 454.18 | AB30: ='Calculation 1.3'!AQ18 -> 2.408 | AC30: =IF('Calculation 1.3'!AR18="","",IF('Calculation 1.3'!AR18>=50,"**",IF('Calculation 1.3'!AR18>=25,"*",""))) | AD30: ='Calculation 1.3'!AS18 -> 543.149 | AE30: ='Calculation 1.3'!AT18 -> 2.88 | AF30: =IF('Calculation 1.3'!AU18="","",IF('Calculation 1.3'!AU18>=50,"**",IF('Calculation 1.3'!AU18>=25,"*",""))) | AH30: ='Calculation 1.3'!AW18 -> 249.686 | AI30: ='Calculation 1.3'!AX18 -> 1.324 | AJ30: =IF('Calculation 1.3'!AY18="","",IF('Calculation 1.3'!AY18>=50,"**",IF('Calculation 1.3'!AY18>=25,"*",""))) | AL30: ='Calculation 1.3'!BA18 -> 792.835 | AM30: ='Calculation 1.3'!BB18 -> 4.203 | AN30: =IF('Calculation 1.3'!BC18="","",IF('Calculation 1.3'!BC18>=50,"**",IF('Calculation 1.3'!BC18>=25,"*",""))) | AP30: ='Calculation 1.3'!BE18 -> 2545.978 | AQ30: ='Calculation 1.3'!BF18 -> 13.498 | AR30: =IF('Calculation 1.3'!BG18="","",IF('Calculation 1.3'!BG18>=50,"**",IF('Calculation 1.3'!BG18>=25,"*",""))) | AS30: ='Calculation 1.3'!BH18 -> 2578.315 | AT30: ='Calculation 1.3'!BI18 -> 13.669 | AU30: =IF('Calculation 1.3'!BJ18="","",IF('Calculation 1.3'!BJ18>=50,"**",IF('Calculation 1.3'!BJ18>=25,"*",""))) | AV30: ='Calculation 1.3'!BK18 -> 5124.293 | AW30: ='Calculation 1.3'!BL18 -> 27.167 | AX30: =IF('Calculation 1.3'!BM18="","",IF('Calculation 1.3'!BM18>=50,"**",IF('Calculation 1.3'!BM18>=25,"*",""))) | AZ30: ='Calculation 1.3'!BO18 -> 6009.039 | BA30: ='Calculation 1.3'!BP18 -> 31.857 | BB30: =IF('Calculation 1.3'!BQ18="","",IF('Calculation 1.3'!BQ18>=50,"**",IF('Calculation 1.3'!BQ18>=25,"*",""))) | BD30: ='Calculation 1.3'!BS18 -> 18862.373 | BE30: ='Calculation 1.3'!BT18 -> 100 | BF30: =IF('Calculation 1.3'!BU18="","",IF('Calculation 1.3'!BU18>=50,"**",IF('Calculation 1.3'!BU18>=25,"*","")))
A31: =TEXT(DATE(YEAR(A27)+2,1,1),"yyyy") & "-" & TEXT(DATE(YEAR(A27)+3,1,1),"yy") -> 2020-21 | B31: ='Calculation 1.3'!Q19 | C31: ='Calculation 1.3'!R19 | D31: =IF('Calculation 1.3'!S19="","",IF('Calculation 1.3'!S19>=50,"**",IF('Calculation 1.3'!S19>=25,"*",""))) | F31: ='Calculation 1.3'!U19 | G31: ='Calculation 1.3'!V19 | H31: =IF('Calculation 1.3'!W19="","",IF('Calculation 1.3'!W19>=50,"**",IF('Calculation 1.3'!W19>=25,"*",""))) | I31: ='Calculation 1.3'!X19 | J31: ='Calculation 1.3'!Y19 | K31: =IF('Calculation 1.3'!Z19="","",IF('Calculation 1.3'!Z19>=50,"**",IF('Calculation 1.3'!Z19>=25,"*",""))) | L31: ='Calculation 1.3'!AA19 | M31: ='Calculation 1.3'!AB19 | N31: =IF('Calculation 1.3'!AC19="","",IF('Calculation 1.3'!AC19>=50,"**",IF('Calculation 1.3'!AC19>=25,"*",""))) | P31: ='Calculation 1.3'!AE19 | Q31: ='Calculation 1.3'!AF19 | R31: =IF('Calculation 1.3'!AG19="","",IF('Calculation 1.3'!AG19>=50,"**",IF('Calculation 1.3'!AG19>=25,"*",""))) | T31: ='Calculation 1.3'!AI19 | U31: ='Calculation 1.3'!AJ19 | V31: =IF('Calculation 1.3'!AK19="","",IF('Calculation 1.3'!AK19>=50,"**",IF('Calculation 1.3'!AK19>=25,"*",""))) | X31: ='Calculation 1.3'!AM19 | Y31: ='Calculation 1.3'!AN19 | Z31: =IF('Calculation 1.3'!AO19="","",IF('Calculation 1.3'!AO19>=50,"**",IF('Calculation 1.3'!AO19>=25,"*",""))) | AA31: ='Calculation 1.3'!AP19 | AB31: ='Calculation 1.3'!AQ19 | AC31: =IF('Calculation 1.3'!AR19="","",IF('Calculation 1.3'!AR19>=50,"**",IF('Calculation 1.3'!AR19>=25,"*",""))) | AD31: ='Calculation 1.3'!AS19 | AE31: ='Calculation 1.3'!AT19 | AF31: =IF('Calculation 1.3'!AU19="","",IF('Calculation 1.3'!AU19>=50,"**",IF('Calculation 1.3'!AU19>=25,"*",""))) | AH31: ='Calculation 1.3'!AW19 | AI31: ='Calculation 1.3'!AX19 | AJ31: =IF('Calculation 1.3'!AY19="","",IF('Calculation 1.3'!AY19>=50,"**",IF('Calculation 1.3'!AY19>=25,"*",""))) | AL31: ='Calculation 1.3'!BA19 | AM31: ='Calculation 1.3'!BB19 | AN31: =IF('Calculation 1.3'!BC19="","",IF('Calculation 1.3'!BC19>=50,"**",IF('Calculation 1.3'!BC19>=25,"*",""))) | AP31: ='Calculation 1.3'!BE19 | AQ31: ='Calculation 1.3'!BF19 | AR31: =IF('Calculation 1.3'!BG19="","",IF('Calculation 1.3'!BG19>=50,"**",IF('Calculation 1.3'!BG19>=25,"*",""))) | AS31: ='Calculation 1.3'!BH19 | AT31: ='Calculation 1.3'!BI19 | AU31: =IF('Calculation 1.3'!BJ19="","",IF('Calculation 1.3'!BJ19>=50,"**",IF('Calculation 1.3'!BJ19>=25,"*",""))) | AV31: ='Calculation 1.3'!BK19 | AW31: ='Calculation 1.3'!BL19 | AX31: =IF('Calculation 1.3'!BM19="","",IF('Calculation 1.3'!BM19>=50,"**",IF('Calculation 1.3'!BM19>=25,"*",""))) | AZ31: ='Calculation 1.3'!BO19 | BA31: ='Calculation 1.3'!BP19 | BB31: =IF('Calculation 1.3'!BQ19="","",IF('Calculation 1.3'!BQ19>=50,"**",IF('Calculation 1.3'!BQ19>=25,"*",""))) | BD31: ='Calculation 1.3'!BS19 | BE31: ='Calculation 1.3'!BT19 | BF31: =IF('Calculation 1.3'!BU19="","",IF('Calculation 1.3'!BU19>=50,"**",IF('Calculation 1.3'!BU19>=25,"*","")))
A32: =TEXT(DATE(YEAR(A27)+2,9,1), "mmm-yy") -> Sep-20 | B32: ='Calculation 1.3'!Q20 -> 11899.695 | C32: ='Calculation 1.3'!R20 -> 62.083 | D32: =IF('Calculation 1.3'!S20="","",IF('Calculation 1.3'!S20>=50,"**",IF('Calculation 1.3'!S20>=25,"*",""))) | F32: ='Calculation 1.3'!U20 -> 43.131 | G32: ='Calculation 1.3'!V20 -> 0.225 | H32: =IF('Calculation 1.3'!W20="","",IF('Calculation 1.3'!W20>=50,"**",IF('Calculation 1.3'!W20>=25,"*",""))) -> ** | I32: ='Calculation 1.3'!X20 -> 796.465 | J32: ='Calculation 1.3'!Y20 -> 4.155 | K32: =IF('Calculation 1.3'!Z20="","",IF('Calculation 1.3'!Z20>=50,"**",IF('Calculation 1.3'!Z20>=25,"*",""))) | L32: ='Calculation 1.3'!AA20 -> 839.595 | M32: ='Calculation 1.3'!AB20 -> 4.38 | N32: =IF('Calculation 1.3'!AC20="","",IF('Calculation 1.3'!AC20>=50,"**",IF('Calculation 1.3'!AC20>=25,"*",""))) | P32: ='Calculation 1.3'!AE20 -> 12739.291 | Q32: ='Calculation 1.3'!AF20 -> 66.463 | R32: =IF('Calculation 1.3'!AG20="","",IF('Calculation 1.3'!AG20>=50,"**",IF('Calculation 1.3'!AG20>=25,"*",""))) | T32: ='Calculation 1.3'!AI20 -> 235.456 | U32: ='Calculation 1.3'!AJ20 -> 1.228 | V32: =IF('Calculation 1.3'!AK20="","",IF('Calculation 1.3'!AK20>=50,"**",IF('Calculation 1.3'!AK20>=25,"*",""))) | X32: ='Calculation 1.3'!AM20 -> 45.471 | Y32: ='Calculation 1.3'!AN20 -> 0.237 | Z32: =IF('Calculation 1.3'!AO20="","",IF('Calculation 1.3'!AO20>=50,"**",IF('Calculation 1.3'!AO20>=25,"*",""))) -> * | AA32: ='Calculation 1.3'!AP20 -> 583.116 | AB32: ='Calculation 1.3'!AQ20 -> 3.042 | AC32: =IF('Calculation 1.3'!AR20="","",IF('Calculation 1.3'!AR20>=50,"**",IF('Calculation 1.3'!AR20>=25,"*",""))) | AD32: ='Calculation 1.3'!AS20 -> 628.587 | AE32: ='Calculation 1.3'!AT20 -> 3.279 | AF32: =IF('Calculation 1.3'!AU20="","",IF('Calculation 1.3'!AU20>=50,"**",IF('Calculation 1.3'!AU20>=25,"*",""))) | AH32: ='Calculation 1.3'!AW20 -> 357.886 | AI32: ='Calculation 1.3'!AX20 -> 1.867 | AJ32: =IF('Calculation 1.3'!AY20="","",IF('Calculation 1.3'!AY20>=50,"**",IF('Calculation 1.3'!AY20>=25,"*",""))) | AL32: ='Calculation 1.3'!BA20 -> 986.473 | AM32: ='Calculation 1.3'!BB20 -> 5.147 | AN32: =IF('Calculation 1.3'!BC20="","",IF('Calculation 1.3'!BC20>=50,"**",IF('Calculation 1.3'!BC20>=25,"*",""))) | AP32: ='Calculation 1.3'!BE20 -> 2541.177 | AQ32: ='Calculation 1.3'!BF20 -> 13.258 | AR32: =IF('Calculation 1.3'!BG20="","",IF('Calculation 1.3'!BG20>=50,"**",IF('Calculation 1.3'!BG20>=25,"*",""))) | AS32: ='Calculation 1.3'!BH20 -> 2665.075 | AT32: ='Calculation 1.3'!BI20 -> 13.904 | AU32: =IF('Calculation 1.3'!BJ20="","",IF('Calculation 1.3'!BJ20>=50,"**",IF('Calculation 1.3'!BJ20>=25,"*",""))) | AV32: ='Calculation 1.3'!BK20 -> 5206.252 | AW32: ='Calculation 1.3'!BL20 -> 27.162 | AX32: =IF('Calculation 1.3'!BM20="","",IF('Calculation 1.3'!BM20>=50,"**",IF('Calculation 1.3'!BM20>=25,"*",""))) | AZ32: ='Calculation 1.3'!BO20 -> 6428.18 | BA32: ='Calculation 1.3'!BP20 -> 33.537 | BB32: =IF('Calculation 1.3'!BQ20="","",IF('Calculation 1.3'!BQ20>=50,"**",IF('Calculation 1.3'!BQ20>=25,"*",""))) | BD32: ='Calculation 1.3'!BS20 -> 19167.471 | BE32: ='Calculation 1.3'!BT20 -> 100 | BF32: =IF('Calculation 1.3'!BU20="","",IF('Calculation 1.3'!BU20>=50,"**",IF('Calculation 1.3'!BU20>=25,"*","")))
A33: =TEXT(DATE(YEAR(A27)+2,12,1), "mmm-yy") -> Dec-20 | B33: ='Calculation 1.3'!Q21 -> 12183.151 | C33: ='Calculation 1.3'!R21 -> 63.581 | D33: =IF('Calculation 1.3'!S21="","",IF('Calculation 1.3'!S21>=50,"**",IF('Calculation 1.3'!S21>=25,"*",""))) | F33: ='Calculation 1.3'!U21 -> 40.5 | G33: ='Calculation 1.3'!V21 -> 0.211 | H33: =IF('Calculation 1.3'!W21="","",IF('Calculation 1.3'!W21>=50,"**",IF('Calculation 1.3'!W21>=25,"*",""))) -> ** | I33: ='Calculation 1.3'!X21 -> 729.721 | J33: ='Calculation 1.3'!Y21 -> 3.808 | K33: =IF('Calculation 1.3'!Z21="","",IF('Calculation 1.3'!Z21>=50,"**",IF('Calculation 1.3'!Z21>=25,"*",""))) | L33: ='Calculation 1.3'!AA21 -> 770.221 | M33: ='Calculation 1.3'!AB21 -> 4.02 | N33: =IF('Calculation 1.3'!AC21="","",IF('Calculation 1.3'!AC21>=50,"**",IF('Calculation 1.3'!AC21>=25,"*",""))) | P33: ='Calculation 1.3'!AE21 -> 12953.372 | Q33: ='Calculation 1.3'!AF21 -> 67.6 | R33: =IF('Calculation 1.3'!AG21="","",IF('Calculation 1.3'!AG21>=50,"**",IF('Calculation 1.3'!AG21>=25,"*",""))) | T33: ='Calculation 1.3'!AI21 -> 212.292 | U33: ='Calculation 1.3'!AJ21 -> 1.108 | V33: =IF('Calculation 1.3'!AK21="","",IF('Calculation 1.3'!AK21>=50,"**",IF('Calculation 1.3'!AK21>=25,"*",""))) | X33: ='Calculation 1.3'!AM21 -> 36.936 | Y33: ='Calculation 1.3'!AN21 -> 0.193 | Z33: =IF('Calculation 1.3'!AO21="","",IF('Calculation 1.3'!AO21>=50,"**",IF('Calculation 1.3'!AO21>=25,"*",""))) -> ** | AA33: ='Calculation 1.3'!AP21 -> 716.861 | AB33: ='Calculation 1.3'!AQ21 -> 3.741 | AC33: =IF('Calculation 1.3'!AR21="","",IF('Calculation 1.3'!AR21>=50,"**",IF('Calculation 1.3'!AR21>=25,"*",""))) | AD33: ='Calculation 1.3'!AS21 -> 753.798 | AE33: ='Calculation 1.3'!AT21 -> 3.934 | AF33: =IF('Calculation 1.3'!AU21="","",IF('Calculation 1.3'!AU21>=50,"**",IF('Calculation 1.3'!AU21>=25,"*",""))) | AH33: ='Calculation 1.3'!AW21 -> 314.383 | AI33: ='Calculation 1.3'!AX21 -> 1.641 | AJ33: =IF('Calculation 1.3'!AY21="","",IF('Calculation 1.3'!AY21>=50,"**",IF('Calculation 1.3'!AY21>=25,"*",""))) -> * | AL33: ='Calculation 1.3'!BA21 -> 1068.181 | AM33: ='Calculation 1.3'!BB21 -> 5.575 | AN33: =IF('Calculation 1.3'!BC21="","",IF('Calculation 1.3'!BC21>=50,"**",IF('Calculation 1.3'!BC21>=25,"*",""))) | AP33: ='Calculation 1.3'!BE21 -> 2397.503 | AQ33: ='Calculation 1.3'!BF21 -> 12.512 | AR33: =IF('Calculation 1.3'!BG21="","",IF('Calculation 1.3'!BG21>=50,"**",IF('Calculation 1.3'!BG21>=25,"*",""))) | AS33: ='Calculation 1.3'!BH21 -> 2530.322 | AT33: ='Calculation 1.3'!BI21 -> 13.205 | AU33: =IF('Calculation 1.3'!BJ21="","",IF('Calculation 1.3'!BJ21>=50,"**",IF('Calculation 1.3'!BJ21>=25,"*",""))) | AV33: ='Calculation 1.3'!BK21 -> 4927.825 | AW33: ='Calculation 1.3'!BL21 -> 25.717 | AX33: =IF('Calculation 1.3'!BM21="","",IF('Calculation 1.3'!BM21>=50,"**",IF('Calculation 1.3'!BM21>=25,"*",""))) | AZ33: ='Calculation 1.3'!BO21 -> 6208.297 | BA33: ='Calculation 1.3'!BP21 -> 32.4 | BB33: =IF('Calculation 1.3'!BQ21="","",IF('Calculation 1.3'!BQ21>=50,"**",IF('Calculation 1.3'!BQ21>=25,"*",""))) | BD33: ='Calculation 1.3'!BS21 -> 19161.669 | BE33: ='Calculation 1.3'!BT21 -> 100 | BF33: =IF('Calculation 1.3'!BU21="","",IF('Calculation 1.3'!BU21>=50,"**",IF('Calculation 1.3'!BU21>=25,"*","")))
