Workbook
Name QuarterList: OFFSET('Calculation 1.1'!$D$3,0,0,COUNTA('Calculation 1.1'!$D$3:$D$50))
Name TopOfTable_Table_1: 'Data 1.1'!$A$2
Name TopOfTable_Table_1: 'Table 1.1'!$A$2
Name TopOfTable_Table_1: 'Table 1.3'!$A$2
Name TopOfTable_Table_1: 'Table 1.2'!$A$2
Name TopOfTable_Table_2: #REF!
Name TopOfTable_Table_2: #REF!

Sheet Contents
A1: Australian Bureau of Statistics
A2: 6239.0 Barriers and Incentives to Labour Force Participation, Jun 2026
A3: Released at 11:30 am (Canberra time) Wed 28 October 2026
B5: Contents
B6: Tables
B7: T1.1 | C7: Table 1.1 - Summary
B8: T1.2 | C8: Table 1.2 - Employment
B9: T1.3 | C9: Table 1.3 - Not employed
B10: D1.1 | C10: Data 1.1 - Labour Force Status
B13: More information available from the ABS website
B15: Barriers and Incentives to Labour Force Participation, Jun 2026
B16: Summary
B17: Methodology
B20: E N Q U I R I E S
B21: For further information about these and related statistics visit www.abs.gov.au/about/contact-us
B22: or contact the Labour Statistics Branch at labour.statistics@abs.gov.au.
B25: ="© Commonwealth of Australia "&YEAR(TODAY()) -> © Commonwealth of Australia 2026

Sheet Table 1.1
A1: Australian Bureau of Statistics
A2: =Contents!A2 -> 6239.0 Barriers and Incentives to Labour Force Participation, Jun 2026
A3: =Contents!A3 -> Released at 11:30 am (Canberra time) Wed 28 October 2026
A4: =Contents!C7 -> Table 1.1 - Summary
A6: Select Quarter | B6: 46174
A7: Select Scope | B7: People aged 18 years and over
A8: Select Population of interest | B8: People aged 18 years and over
A9: Select Sex | B9: Persons
B11: ='Calculation 1.1'!W4 -> 46174 | F11: =IF('Calculation 1.1'!AA4=0,"Previous Quarter",IF(AND(MONTH(B11)=9,YEAR(B11)<2023),"Previous Quarter","Previous Quarter - "&TEXT('Calculation 1.1'!AA4,"mmm-yy"))) -> Previous Quarter - Mar-26 | M11: =IF('Calculation 1.1'!AH4=0,"Previous "&TEXT(B11,"mmmm"),"Previous "&TEXT('Calculation 1.1'!AH4,"mmmm")&" - "&TEXT('Calculation 1.1'!AH4,"mmm-yy")) -> Previous June - Jun-25
B12: Estimate | F12: Estimate | I12: Difference | M12: Estimate | P12: Difference
B13: '000 | C13: % | F13: '000 | G13: % | I13: '000 | J13: % | M13: '000 | N13: % | P13: '000 | Q13: %
A14: In the labour force | B14: ='Calculation 1.1'!W6 -> 14741.219 | C14: ='Calculation 1.1'!X6 -> 68.869 | D14: =IF('Calculation 1.1'!Y6>=50,"**",IF('Calculation 1.1'!Y6>=25,"*","")) | F14: ='Calculation 1.1'!AA6 -> 14606.226 | G14: ='Calculation 1.1'!AB6 -> 68.696 | H14: =IF(F$11=0,"",IF(AND(MONTH($B$11)=9,YEAR($B$11)<2023),"",IF('Calculation 1.1'!AC6>=50,"**",IF('Calculation 1.1'!AC6>=25,"*","")))) | I14: =IF(OR('Calculation 1.1'!AA4=0,SUMSQ($F$14:$F$37)=0),0,IF(F$11=0,0,B14-F14)) -> 134.993 | J14: =IF(OR('Calculation 1.1'!AA4=0,SUMSQ($G$14:$G$37)=0),0,IF(F$11=0,0,C14-G14)) -> 0.173 | K14: =H14 | M14: ='Calculation 1.1'!AH6 -> 14504.073 | N14: ='Calculation 1.1'!AI6 -> 69.149 | O14: =IF(M$11=0,"",IF('Calculation 1.1'!AJ6>=50,"**",IF('Calculation 1.1'!AJ6>=25,"*",""))) | P14: =IF(OR('Calculation 1.1'!AH4=0,SUMSQ($M$14:$M$37)=0),0,IF(M$11=0,0,B14-M14)) -> 237.146 | Q14: =IF(OR('Calculation 1.1'!AH4=0,SUMSQ($N$14:$N$37)=0),0,IF(M$11=0,0,C14-N14)) -> -0.28 | R14: =O14
A15: Employed | B15: ='Calculation 1.1'!W7 -> 14168.538 | C15: ='Calculation 1.1'!X7 -> 66.194 | D15: =IF('Calculation 1.1'!Y7>=50,"**",IF('Calculation 1.1'!Y7>=25,"*","")) | F15: ='Calculation 1.1'!AA7 -> 14023.678 | G15: ='Calculation 1.1'!AB7 -> 65.956 | H15: =IF(F$11=0,"",IF(AND(MONTH($B$11)=9,YEAR($B$11)<2023),"",IF('Calculation 1.1'!AC7>=50,"**",IF('Calculation 1.1'!AC7>=25,"*","")))) | I15: =IF(OR('Calculation 1.1'!AA4=0,SUMSQ($F$14:$F$37)=0),0,IF(F$11=0,0,B15-F15)) -> 144.86 | J15: =IF(OR('Calculation 1.1'!AA4=0,SUMSQ($G$14:$G$37)=0),0,IF(F$11=0,0,C15-G15)) -> 0.238 | K15: =H15 | M15: ='Calculation 1.1'!AH7 -> 13971.266 | N15: ='Calculation 1.1'!AI7 -> 66.608 | O15: =IF(M$11=0,"",IF('Calculation 1.1'!AJ7>=50,"**",IF('Calculation 1.1'!AJ7>=25,"*",""))) | P15: =IF(OR('Calculation 1.1'!AH4=0,SUMSQ($M$14:$M$37)=0),0,IF(M$11=0,0,B15-M15)) -> 197.272 | Q15: =IF(OR('Calculation 1.1'!AH4=0,SUMSQ($N$14:$N$37)=0),0,IF(M$11=0,0,C15-N15)) -> -0.414 | R15: =O15
A16: Usually worked full-time (35 hours or more per week) | B16: ='Calculation 1.1'!W8 -> 9825.495 | C16: ='Calculation 1.1'!X8 -> 45.904 | D16: =IF('Calculation 1.1'!Y8>=50,"**",IF('Calculation 1.1'!Y8>=25,"*","")) | F16: ='Calculation 1.1'!AA8 -> 9789.941 | G16: ='Calculation 1.1'!AB8 -> 46.044 | H16: =IF(F$11=0,"",IF(AND(MONTH($B$11)=9,YEAR($B$11)<2023),"",IF('Calculation 1.1'!AC8>=50,"**",IF('Calculation 1.1'!AC8>=25,"*","")))) | I16: =IF(OR('Calculation 1.1'!AA4=0,SUMSQ($F$14:$F$37)=0),0,IF(F$11=0,0,B16-F16)) -> 35.554 | J16: =IF(OR('Calculation 1.1'!AA4=0,SUMSQ($G$14:$G$37)=0),0,IF(F$11=0,0,C16-G16)) -> -0.14 | K16: =H16 | M16: ='Calculation 1.1'!AH8 -> 9673.829 | N16: ='Calculation 1.1'!AI8 -> 46.12 | O16: =IF(M$11=0,"",IF('Calculation 1.1'!AJ8>=50,"**",IF('Calculation 1.1'!AJ8>=25,"*",""))) | P16: =IF(OR('Calculation 1.1'!AH4=0,SUMSQ($M$14:$M$37)=0),0,IF(M$11=0,0,B16-M16)) -> 151.666 | Q16: =IF(OR('Calculation 1.1'!AH4=0,SUMSQ($N$14:$N$37)=0),0,IF(M$11=0,0,C16-N16)) -> -0.216 | R16: =O16
A17: Usually worked part-time (0 - 34 hours per week) | B17: ='Calculation 1.1'!W9 -> 4343.043 | C17: ='Calculation 1.1'!X9 -> 20.29 | D17: =IF('Calculation 1.1'!Y9>=50,"**",IF('Calculation 1.1'!Y9>=25,"*","")) | F17: ='Calculation 1.1'!AA9 -> 4233.737 | G17: ='Calculation 1.1'!AB9 -> 19.912 | H17: =IF(F$11=0,"",IF(AND(MONTH($B$11)=9,YEAR($B$11)<2023),"",IF('Calculation 1.1'!AC9>=50,"**",IF('Calculation 1.1'!AC9>=25,"*","")))) | I17: =IF(OR('Calculation 1.1'!AA4=0,SUMSQ($F$14:$F$37)=0),0,IF(F$11=0,0,B17-F17)) -> 109.306 | J17: =IF(OR('Calculation 1.1'!AA4=0,SUMSQ($G$14:$G$37)=0),0,IF(F$11=0,0,C17-G17)) -> 0.378 | K17: =H17 | M17: ='Calculation 1.1'!AH9 -> 4297.438 | N17: ='Calculation 1.1'!AI9 -> 20.488 | O17: =IF(M$11=0,"",IF('Calculation 1.1'!AJ9>=50,"**",IF('Calculation 1.1'!AJ9>=25,"*",""))) | P17: =IF(OR('Calculation 1.1'!AH4=0,SUMSQ($M$14:$M$37)=0),0,IF(M$11=0,0,B17-M17)) -> 45.605 | Q17: =IF(OR('Calculation 1.1'!AH4=0,SUMSQ($N$14:$N$37)=0),0,IF(M$11=0,0,C17-N17)) -> -0.198 | R17: =O17
A18: Preferred to work more hours | B18: ='Calculation 1.1'!W10 -> 775.488 | C18: ='Calculation 1.1'!X10 -> 3.623 | D18: =IF('Calculation 1.1'!Y10>=50,"**",IF('Calculation 1.1'!Y10>=25,"*","")) | F18: ='Calculation 1.1'!AA10 -> 779.312 | G18: ='Calculation 1.1'!AB10 -> 3.665 | H18: =IF(F$11=0,"",IF(AND(MONTH($B$11)=9,YEAR($B$11)<2023),"",IF('Calculation 1.1'!AC10>=50,"**",IF('Calculation 1.1'!AC10>=25,"*","")))) | I18: =IF(OR('Calculation 1.1'!AA4=0,SUMSQ($F$14:$F$37)=0),0,IF(F$11=0,0,B18-F18)) -> -3.824 | J18: =IF(OR('Calculation 1.1'!AA4=0,SUMSQ($G$14:$G$37)=0),0,IF(F$11=0,0,C18-G18)) -> -0.042 | K18: =H18 | M18: ='Calculation 1.1'!AH10 -> 852.516 | N18: ='Calculation 1.1'!AI10 -> 4.064 | O18: =IF(M$11=0,"",IF('Calculation 1.1'!AJ10>=50,"**",IF('Calculation 1.1'!AJ10>=25,"*",""))) | P18: =IF(OR('Calculation 1.1'!AH4=0,SUMSQ($M$14:$M$37)=0),0,IF(M$11=0,0,B18-M18)) -> -77.028 | Q18: =IF(OR('Calculation 1.1'!AH4=0,SUMSQ($N$14:$N$37)=0),0,IF(M$11=0,0,C18-N18)) -> -0.441 | R18: =O18
A19: Available for more hours within 4 weeks | B19: ='Calculation 1.1'!W11 -> 695.593 | C19: ='Calculation 1.1'!X11 -> 3.25 | D19: =IF('Calculation 1.1'!Y11>=50,"**",IF('Calculation 1.1'!Y11>=25,"*","")) | F19: ='Calculation 1.1'!AA11 -> 694.486 | G19: ='Calculation 1.1'!AB11 -> 3.266 | H19: =IF(F$11=0,"",IF(AND(MONTH($B$11)=9,YEAR($B$11)<2023),"",IF('Calculation 1.1'!AC11>=50,"**",IF('Calculation 1.1'!AC11>=25,"*","")))) | I19: =IF(OR('Calculation 1.1'!AA4=0,SUMSQ($F$14:$F$37)=0),0,IF(F$11=0,0,B19-F19)) -> 1.107 | J19: =IF(OR('Calculation 1.1'!AA4=0,SUMSQ($G$14:$G$37)=0),0,IF(F$11=0,0,C19-G19)) -> -0.016 | K19: =H19 | M19: ='Calculation 1.1'!AH11 -> 793.182 | N19: ='Calculation 1.1'!AI11 -> 3.782 | O19: =IF(M$11=0,"",IF('Calculation 1.1'!AJ11>=50,"**",IF('Calculation 1.1'!AJ11>=25,"*",""))) | P19: =IF(OR('Calculation 1.1'!AH4=0,SUMSQ($M$14:$M$37)=0),0,IF(M$11=0,0,B19-M19)) -> -97.589 | Q19: =IF(OR('Calculation 1.1'!AH4=0,SUMSQ($N$14:$N$37)=0),0,IF(M$11=0,0,C19-N19)) -> -0.532 | R19: =O19
A20: Looked for more hours | B20: ='Calculation 1.1'!W12 -> 396.22 | C20: ='Calculation 1.1'!X12 -> 1.851 | D20: =IF('Calculation 1.1'!Y12>=50,"**",IF('Calculation 1.1'!Y12>=25,"*","")) | F20: ='Calculation 1.1'!AA12 -> 340.391 | G20: ='Calculation 1.1'!AB12 -> 1.601 | H20: =IF(F$11=0,"",IF(AND(MONTH($B$11)=9,YEAR($B$11)<2023),"",IF('Calculation 1.1'!AC12>=50,"**",IF('Calculation 1.1'!AC12>=25,"*","")))) | I20: =IF(OR('Calculation 1.1'!AA4=0,SUMSQ($F$14:$F$37)=0),0,IF(F$11=0,0,B20-F20)) -> 55.829 | J20: =IF(OR('Calculation 1.1'!AA4=0,SUMSQ($G$14:$G$37)=0),0,IF(F$11=0,0,C20-G20)) -> 0.25 | K20: =H20 | M20: ='Calculation 1.1'!AH12 -> 420.825 | N20: ='Calculation 1.1'!AI12 -> 2.006 | O20: =IF(M$11=0,"",IF('Calculation 1.1'!AJ12>=50,"**",IF('Calculation 1.1'!AJ12>=25,"*",""))) | P20: =IF(OR('Calculation 1.1'!AH4=0,SUMSQ($M$14:$M$37)=0),0,IF(M$11=0,0,B20-M20)) -> -24.605 | Q20: =IF(OR('Calculation 1.1'!AH4=0,SUMSQ($N$14:$N$37)=0),0,IF(M$11=0,0,C20-N20)) -> -0.155 | R20: =O20
A21: Did not look for more hours | B21: ='Calculation 1.1'!W13 -> 299.373 | C21: ='Calculation 1.1'!X13 -> 1.399 | D21: =IF('Calculation 1.1'!Y13>=50,"**",IF('Calculation 1.1'!Y13>=25,"*","")) | F21: ='Calculation 1.1'!AA13 -> 354.095 | G21: ='Calculation 1.1'!AB13 -> 1.665 | H21: =IF(F$11=0,"",IF(AND(MONTH($B$11)=9,YEAR($B$11)<2023),"",IF('Calculation 1.1'!AC13>=50,"**",IF('Calculation 1.1'!AC13>=25,"*","")))) | I21: =IF(OR('Calculation 1.1'!AA4=0,SUMSQ($F$14:$F$37)=0),0,IF(F$11=0,0,B21-F21)) -> -54.722 | J21: =IF(OR('Calculation 1.1'!AA4=0,SUMSQ($G$14:$G$37)=0),0,IF(F$11=0,0,C21-G21)) -> -0.266 | K21: =H21 | M21: ='Calculation 1.1'!AH13 -> 372.357 | N21: ='Calculation 1.1'!AI13 -> 1.775 | O21: =IF(M$11=0,"",IF('Calculation 1.1'!AJ13>=50,"**",IF('Calculation 1.1'!AJ13>=25,"*",""))) | P21: =IF(OR('Calculation 1.1'!AH4=0,SUMSQ($M$14:$M$37)=0),0,IF(M$11=0,0,B21-M21)) -> -72.984 | Q21: =IF(OR('Calculation 1.1'!AH4=0,SUMSQ($N$14:$N$37)=0),0,IF(M$11=0,0,C21-N21)) -> -0.376 | R21: =O21
A22: Not available for more hours within 4 weeks | B22: ='Calculation 1.1'!W14 -> 79.895 | C22: ='Calculation 1.1'!X14 -> 0.373 | D22: =IF('Calculation 1.1'!Y14>=50,"**",IF('Calculation 1.1'!Y14>=25,"*","")) | F22: ='Calculation 1.1'!AA14 -> 84.826 | G22: ='Calculation 1.1'!AB14 -> 0.399 | H22: =IF(F$11=0,"",IF(AND(MONTH($B$11)=9,YEAR($B$11)<2023),"",IF('Calculation 1.1'!AC14>=50,"**",IF('Calculation 1.1'!AC14>=25,"*","")))) -> * | I22: =IF(OR('Calculation 1.1'!AA4=0,SUMSQ($F$14:$F$37)=0),0,IF(F$11=0,0,B22-F22)) -> -4.931 | J22: =IF(OR('Calculation 1.1'!AA4=0,SUMSQ($G$14:$G$37)=0),0,IF(F$11=0,0,C22-G22)) -> -0.026 | K22: =H22 -> * | M22: ='Calculation 1.1'!AH14 -> 59.334 | N22: ='Calculation 1.1'!AI14 -> 0.283 | O22: =IF(M$11=0,"",IF('Calculation 1.1'!AJ14>=50,"**",IF('Calculation 1.1'!AJ14>=25,"*",""))) -> * | P22: =IF(OR('Calculation 1.1'!AH4=0,SUMSQ($M$14:$M$37)=0),0,IF(M$11=0,0,B22-M22)) -> 20.561 | Q22: =IF(OR('Calculation 1.1'!AH4=0,SUMSQ($N$14:$N$37)=0),0,IF(M$11=0,0,C22-N22)) -> 0.09 | R22: =O22 -> *
A23: Did not prefer to work more hours | B23: ='Calculation 1.1'!W15 -> 3567.555 | C23: ='Calculation 1.1'!X15 -> 16.667 | D23: =IF('Calculation 1.1'!Y15>=50,"**",IF('Calculation 1.1'!Y15>=25,"*","")) | F23: ='Calculation 1.1'!AA15 -> 3454.425 | G23: ='Calculation 1.1'!AB15 -> 16.247 | H23: =IF(F$11=0,"",IF(AND(MONTH($B$11)=9,YEAR($B$11)<2023),"",IF('Calculation 1.1'!AC15>=50,"**",IF('Calculation 1.1'!AC15>=25,"*","")))) | I23: =IF(OR('Calculation 1.1'!AA4=0,SUMSQ($F$14:$F$37)=0),0,IF(F$11=0,0,B23-F23)) -> 113.13 | J23: =IF(OR('Calculation 1.1'!AA4=0,SUMSQ($G$14:$G$37)=0),0,IF(F$11=0,0,C23-G23)) -> 0.42 | K23: =H23 | M23: ='Calculation 1.1'!AH15 -> 3444.922 | N23: ='Calculation 1.1'!AI15 -> 16.424 | O23: =IF(M$11=0,"",IF('Calculation 1.1'!AJ15>=50,"**",IF('Calculation 1.1'!AJ15>=25,"*",""))) | P23: =IF(OR('Calculation 1.1'!AH4=0,SUMSQ($M$14:$M$37)=0),0,IF(M$11=0,0,B23-M23)) -> 122.633 | Q23: =IF(OR('Calculation 1.1'!AH4=0,SUMSQ($N$14:$N$37)=0),0,IF(M$11=0,0,C23-N23)) -> 0.243 | R23: =O23
A24: Unemployed | B24: ='Calculation 1.1'!W16 -> 572.681 | C24: ='Calculation 1.1'!X16 -> 2.675 | D24: =IF('Calculation 1.1'!Y16>=50,"**",IF('Calculation 1.1'!Y16>=25,"*","")) | F24: ='Calculation 1.1'!AA16 -> 582.548 | G24: ='Calculation 1.1'!AB16 -> 2.74 | H24: =IF(F$11=0,"",IF(AND(MONTH($B$11)=9,YEAR($B$11)<2023),"",IF('Calculation 1.1'!AC16>=50,"**",IF('Calculation 1.1'!AC16>=25,"*","")))) | I24: =IF(OR('Calculation 1.1'!AA4=0,SUMSQ($F$14:$F$37)=0),0,IF(F$11=0,0,B24-F24)) -> -9.867 | J24: =IF(OR('Calculation 1.1'!AA4=0,SUMSQ($G$14:$G$37)=0),0,IF(F$11=0,0,C24-G24)) -> -0.065 | K24: =H24 | M24: ='Calculation 1.1'!AH16 -> 532.806 | N24: ='Calculation 1.1'!AI16 -> 2.54 | O24: =IF(M$11=0,"",IF('Calculation 1.1'!AJ16>=50,"**",IF('Calculation 1.1'!AJ16>=25,"*",""))) | P24: =IF(OR('Calculation 1.1'!AH4=0,SUMSQ($M$14:$M$37)=0),0,IF(M$11=0,0,B24-M24)) -> 39.875 | Q24: =IF(OR('Calculation 1.1'!AH4=0,SUMSQ($N$14:$N$37)=0),0,IF(M$11=0,0,C24-N24)) -> 0.135 | R24: =O24
A25: Had a job to start (or return to) | B25: ='Calculation 1.1'!W17 -> 55.461 | C25: ='Calculation 1.1'!X17 -> 0.259 | D25: =IF('Calculation 1.1'!Y17>=50,"**",IF('Calculation 1.1'!Y17>=25,"*","")) -> * | F25: ='Calculation 1.1'!AA17 -> 38.429 | G25: ='Calculation 1.1'!AB17 -> 0.181 | H25: =IF(F$11=0,"",IF(AND(MONTH($B$11)=9,YEAR($B$11)<2023),"",IF('Calculation 1.1'!AC17>=50,"**",IF('Calculation 1.1'!AC17>=25,"*","")))) -> * | I25: =IF(OR('Calculation 1.1'!AA4=0,SUMSQ($F$14:$F$37)=0),0,IF(F$11=0,0,B25-F25)) -> 17.032 | J25: =IF(OR('Calculation 1.1'!AA4=0,SUMSQ($G$14:$G$37)=0),0,IF(F$11=0,0,C25-G25)) -> 0.078 | K25: =H25 -> * | M25: ='Calculation 1.1'!AH17 -> 41.653 | N25: ='Calculation 1.1'!AI17 -> 0.199 | O25: =IF(M$11=0,"",IF('Calculation 1.1'!AJ17>=50,"**",IF('Calculation 1.1'!AJ17>=25,"*",""))) -> * | P25: =IF(OR('Calculation 1.1'!AH4=0,SUMSQ($M$14:$M$37)=0),0,IF(M$11=0,0,B25-M25)) -> 13.808 | Q25: =IF(OR('Calculation 1.1'!AH4=0,SUMSQ($N$14:$N$37)=0),0,IF(M$11=0,0,C25-N25)) -> 0.06 | R25: =O25 -> *
A26: Looked for work | B26: ='Calculation 1.1'!W18 -> 517.22 | C26: ='Calculation 1.1'!X18 -> 2.416 | D26: =IF('Calculation 1.1'!Y18>=50,"**",IF('Calculation 1.1'!Y18>=25,"*","")) | F26: ='Calculation 1.1'!AA18 -> 544.118 | G26: ='Calculation 1.1'!AB18 -> 2.559 | H26: =IF(F$11=0,"",IF(AND(MONTH($B$11)=9,YEAR($B$11)<2023),"",IF('Calculation 1.1'!AC18>=50,"**",IF('Calculation 1.1'!AC18>=25,"*","")))) | I26: =IF(OR('Calculation 1.1'!AA4=0,SUMSQ($F$14:$F$37)=0),0,IF(F$11=0,0,B26-F26)) -> -26.898 | J26: =IF(OR('Calculation 1.1'!AA4=0,SUMSQ($G$14:$G$37)=0),0,IF(F$11=0,0,C26-G26)) -> -0.143 | K26: =H26 | M26: ='Calculation 1.1'!AH18 -> 491.154 | N26: ='Calculation 1.1'!AI18 -> 2.342 | O26: =IF(M$11=0,"",IF('Calculation 1.1'!AJ18>=50,"**",IF('Calculation 1.1'!AJ18>=25,"*",""))) | P26: =IF(OR('Calculation 1.1'!AH4=0,SUMSQ($M$14:$M$37)=0),0,IF(M$11=0,0,B26-M26)) -> 26.066 | Q26: =IF(OR('Calculation 1.1'!AH4=0,SUMSQ($N$14:$N$37)=0),0,IF(M$11=0,0,C26-N26)) -> 0.074 | R26: =O26
A27: Not in the labour force | B27: ='Calculation 1.1'!W19 -> 6663.45 | C27: ='Calculation 1.1'!X19 -> 31.131 | D27: =IF('Calculation 1.1'!Y19>=50,"**",IF('Calculation 1.1'!Y19>=25,"*","")) | F27: ='Calculation 1.1'!AA19 -> 6655.853 | G27: ='Calculation 1.1'!AB19 -> 31.304 | H27: =IF(F$11=0,"",IF(AND(MONTH($B$11)=9,YEAR($B$11)<2023),"",IF('Calculation 1.1'!AC19>=50,"**",IF('Calculation 1.1'!AC19>=25,"*","")))) | I27: =IF(OR('Calculation 1.1'!AA4=0,SUMSQ($F$14:$F$37)=0),0,IF(F$11=0,0,B27-F27)) -> 7.597 | J27: =IF(OR('Calculation 1.1'!AA4=0,SUMSQ($G$14:$G$37)=0),0,IF(F$11=0,0,C27-G27)) -> -0.173 | K27: =H27 | M27: ='Calculation 1.1'!AH19 -> 6471.16 | N27: ='Calculation 1.1'!AI19 -> 30.851 | O27: =IF(M$11=0,"",IF('Calculation 1.1'!AJ19>=50,"**",IF('Calculation 1.1'!AJ19>=25,"*",""))) | P27: =IF(OR('Calculation 1.1'!AH4=0,SUMSQ($M$14:$M$37)=0),0,IF(M$11=0,0,B27-M27)) -> 192.29 | Q27: =IF(OR('Calculation 1.1'!AH4=0,SUMSQ($N$14:$N$37)=0),0,IF(M$11=0,0,C27-N27)) -> 0.28 | R27: =O27
A28: Had a job to start or return to | B28: ='Calculation 1.1'!W20 -> 119.052 | C28: ='Calculation 1.1'!X20 -> 0.556 | D28: =IF('Calculation 1.1'!Y20>=50,"**",IF('Calculation 1.1'!Y20>=25,"*","")) -> * | F28: ='Calculation 1.1'!AA20 -> 142.623 | G28: ='Calculation 1.1'!AB20 -> 0.671 | H28: =IF(F$11=0,"",IF(AND(MONTH($B$11)=9,YEAR($B$11)<2023),"",IF('Calculation 1.1'!AC20>=50,"**",IF('Calculation 1.1'!AC20>=25,"*","")))) | I28: =IF(OR('Calculation 1.1'!AA4=0,SUMSQ($F$14:$F$37)=0),0,IF(F$11=0,0,B28-F28)) -> -23.571 | J28: =IF(OR('Calculation 1.1'!AA4=0,SUMSQ($G$14:$G$37)=0),0,IF(F$11=0,0,C28-G28)) -> -0.115 | K28: =H28 | M28: ='Calculation 1.1'!AH20 -> 130.732 | N28: ='Calculation 1.1'!AI20 -> 0.623 | O28: =IF(M$11=0,"",IF('Calculation 1.1'!AJ20>=50,"**",IF('Calculation 1.1'!AJ20>=25,"*",""))) | P28: =IF(OR('Calculation 1.1'!AH4=0,SUMSQ($M$14:$M$37)=0),0,IF(M$11=0,0,B28-M28)) -> -11.68 | Q28: =IF(OR('Calculation 1.1'!AH4=0,SUMSQ($N$14:$N$37)=0),0,IF(M$11=0,0,C28-N28)) -> -0.067 | R28: =O28
A29: Wanted a paid job | B29: ='Calculation 1.1'!W21 -> 857.373 | C29: ='Calculation 1.1'!X21 -> 4.006 | D29: =IF('Calculation 1.1'!Y21>=50,"**",IF('Calculation 1.1'!Y21>=25,"*","")) | F29: ='Calculation 1.1'!AA21 -> 612.695 | G29: ='Calculation 1.1'!AB21 -> 2.882 | H29: =IF(F$11=0,"",IF(AND(MONTH($B$11)=9,YEAR($B$11)<2023),"",IF('Calculation 1.1'!AC21>=50,"**",IF('Calculation 1.1'!AC21>=25,"*","")))) | I29: =IF(OR('Calculation 1.1'!AA4=0,SUMSQ($F$14:$F$37)=0),0,IF(F$11=0,0,B29-F29)) -> 244.678 | J29: =IF(OR('Calculation 1.1'!AA4=0,SUMSQ($G$14:$G$37)=0),0,IF(F$11=0,0,C29-G29)) -> 1.124 | K29: =H29 | M29: ='Calculation 1.1'!AH21 -> 679.699 | N29: ='Calculation 1.1'!AI21 -> 3.24 | O29: =IF(M$11=0,"",IF('Calculation 1.1'!AJ21>=50,"**",IF('Calculation 1.1'!AJ21>=25,"*",""))) | P29: =IF(OR('Calculation 1.1'!AH4=0,SUMSQ($M$14:$M$37)=0),0,IF(M$11=0,0,B29-M29)) -> 177.674 | Q29: =IF(OR('Calculation 1.1'!AH4=0,SUMSQ($N$14:$N$37)=0),0,IF(M$11=0,0,C29-N29)) -> 0.766 | R29: =O29
A30: Available within 4 weeks | B30: ='Calculation 1.1'!W22 -> 684.941 | C30: ='Calculation 1.1'!X22 -> 3.2 | D30: =IF('Calculation 1.1'!Y22>=50,"**",IF('Calculation 1.1'!Y22>=25,"*","")) | F30: ='Calculation 1.1'!AA22 -> 473.161 | G30: ='Calculation 1.1'!AB22 -> 2.225 | H30: =IF(F$11=0,"",IF(AND(MONTH($B$11)=9,YEAR($B$11)<2023),"",IF('Calculation 1.1'!AC22>=50,"**",IF('Calculation 1.1'!AC22>=25,"*","")))) | I30: =IF(OR('Calculation 1.1'!AA4=0,SUMSQ($F$14:$F$37)=0),0,IF(F$11=0,0,B30-F30)) -> 211.78 | J30: =IF(OR('Calculation 1.1'!AA4=0,SUMSQ($G$14:$G$37)=0),0,IF(F$11=0,0,C30-G30)) -> 0.975 | K30: =H30 | M30: ='Calculation 1.1'!AH22 -> 608.214 | N30: ='Calculation 1.1'!AI22 -> 2.9 | O30: =IF(M$11=0,"",IF('Calculation 1.1'!AJ22>=50,"**",IF('Calculation 1.1'!AJ22>=25,"*",""))) | P30: =IF(OR('Calculation 1.1'!AH4=0,SUMSQ($M$14:$M$37)=0),0,IF(M$11=0,0,B30-M30)) -> 76.727 | Q30: =IF(OR('Calculation 1.1'!AH4=0,SUMSQ($N$14:$N$37)=0),0,IF(M$11=0,0,C30-N30)) -> 0.3 | R30: =O30
A31: Looked for work | B31: ='Calculation 1.1'!W23 -> 95.905 | C31: ='Calculation 1.1'!X23 -> 0.448 | D31: =IF('Calculation 1.1'!Y23>=50,"**",IF('Calculation 1.1'!Y23>=25,"*","")) -> * | F31: ='Calculation 1.1'!AA23 -> 65.368 | G31: ='Calculation 1.1'!AB23 -> 0.307 | H31: =IF(F$11=0,"",IF(AND(MONTH($B$11)=9,YEAR($B$11)<2023),"",IF('Calculation 1.1'!AC23>=50,"**",IF('Calculation 1.1'!AC23>=25,"*","")))) -> * | I31: =IF(OR('Calculation 1.1'!AA4=0,SUMSQ($F$14:$F$37)=0),0,IF(F$11=0,0,B31-F31)) -> 30.537 | J31: =IF(OR('Calculation 1.1'!AA4=0,SUMSQ($G$14:$G$37)=0),0,IF(F$11=0,0,C31-G31)) -> 0.141 | K31: =H31 -> * | M31: ='Calculation 1.1'!AH23 -> 62.774 | N31: ='Calculation 1.1'!AI23 -> 0.299 | O31: =IF(M$11=0,"",IF('Calculation 1.1'!AJ23>=50,"**",IF('Calculation 1.1'!AJ23>=25,"*",""))) -> * | P31: =IF(OR('Calculation 1.1'!AH4=0,SUMSQ($M$14:$M$37)=0),0,IF(M$11=0,0,B31-M31)) -> 33.131 | Q31: =IF(OR('Calculation 1.1'!AH4=0,SUMSQ($N$14:$N$37)=0),0,IF(M$11=0,0,C31-N31)) -> 0.149 | R31: =O31 -> *
A32: Did not look for work | B32: ='Calculation 1.1'!W24 -> 589.036 | C32: ='Calculation 1.1'!X24 -> 2.752 | D32: =IF('Calculation 1.1'!Y24>=50,"**",IF('Calculation 1.1'!Y24>=25,"*","")) | F32: ='Calculation 1.1'!AA24 -> 407.793 | G32: ='Calculation 1.1'!AB24 -> 1.918 | H32: =IF(F$11=0,"",IF(AND(MONTH($B$11)=9,YEAR($B$11)<2023),"",IF('Calculation 1.1'!AC24>=50,"**",IF('Calculation 1.1'!AC24>=25,"*","")))) | I32: =IF(OR('Calculation 1.1'!AA4=0,SUMSQ($F$14:$F$37)=0),0,IF(F$11=0,0,B32-F32)) -> 181.243 | J32: =IF(OR('Calculation 1.1'!AA4=0,SUMSQ($G$14:$G$37)=0),0,IF(F$11=0,0,C32-G32)) -> 0.834 | K32: =H32 | M32: ='Calculation 1.1'!AH24 -> 545.44 | N32: ='Calculation 1.1'!AI24 -> 2.6 | O32: =IF(M$11=0,"",IF('Calculation 1.1'!AJ24>=50,"**",IF('Calculation 1.1'!AJ24>=25,"*",""))) | P32: =IF(OR('Calculation 1.1'!AH4=0,SUMSQ($M$14:$M$37)=0),0,IF(M$11=0,0,B32-M32)) -> 43.596 | Q32: =IF(OR('Calculation 1.1'!AH4=0,SUMSQ($N$14:$N$37)=0),0,IF(M$11=0,0,C32-N32)) -> 0.152 | R32: =O32
A33: Not available within 4 weeks | B33: ='Calculation 1.1'!W25 -> 172.432 | C33: ='Calculation 1.1'!X25 -> 0.806 | D33: =IF('Calculation 1.1'!Y25>=50,"**",IF('Calculation 1.1'!Y25>=25,"*","")) | F33: ='Calculation 1.1'!AA25 -> 139.535 | G33: ='Calculation 1.1'!AB25 -> 0.656 | H33: =IF(F$11=0,"",IF(AND(MONTH($B$11)=9,YEAR($B$11)<2023),"",IF('Calculation 1.1'!AC25>=50,"**",IF('Calculation 1.1'!AC25>=25,"*","")))) | I33: =IF(OR('Calculation 1.1'!AA4=0,SUMSQ($F$14:$F$37)=0),0,IF(F$11=0,0,B33-F33)) -> 32.897 | J33: =IF(OR('Calculation 1.1'!AA4=0,SUMSQ($G$14:$G$37)=0),0,IF(F$11=0,0,C33-G33)) -> 0.15 | K33: =H33 | M33: ='Calculation 1.1'!AH25 -> 71.485 | N33: ='Calculation 1.1'!AI25 -> 0.341 | O33: =IF(M$11=0,"",IF('Calculation 1.1'!AJ25>=50,"**",IF('Calculation 1.1'!AJ25>=25,"*",""))) -> * | P33: =IF(OR('Calculation 1.1'!AH4=0,SUMSQ($M$14:$M$37)=0),0,IF(M$11=0,0,B33-M33)) -> 100.947 | Q33: =IF(OR('Calculation 1.1'!AH4=0,SUMSQ($N$14:$N$37)=0),0,IF(M$11=0,0,C33-N33)) -> 0.465 | R33: =O33 -> *
A34: Did not want a paid job | B34: ='Calculation 1.1'!W26 -> 5687.024 | C34: ='Calculation 1.1'!X26 -> 26.569 | D34: =IF('Calculation 1.1'!Y26>=50,"**",IF('Calculation 1.1'!Y26>=25,"*","")) | F34: ='Calculation 1.1'!AA26 -> 5900.535 | G34: ='Calculation 1.1'!AB26 -> 27.751 | H34: =IF(F$11=0,"",IF(AND(MONTH($B$11)=9,YEAR($B$11)<2023),"",IF('Calculation 1.1'!AC26>=50,"**",IF('Calculation 1.1'!AC26>=25,"*","")))) | I34: =IF(OR('Calculation 1.1'!AA4=0,SUMSQ($F$14:$F$37)=0),0,IF(F$11=0,0,B34-F34)) -> -213.511 | J34: =IF(OR('Calculation 1.1'!AA4=0,SUMSQ($G$14:$G$37)=0),0,IF(F$11=0,0,C34-G34)) -> -1.182 | K34: =H34 | M34: ='Calculation 1.1'!AH26 -> 5660.729 | N34: ='Calculation 1.1'!AI26 -> 26.988 | O34: =IF(M$11=0,"",IF('Calculation 1.1'!AJ26>=50,"**",IF('Calculation 1.1'!AJ26>=25,"*",""))) | P34: =IF(OR('Calculation 1.1'!AH4=0,SUMSQ($M$14:$M$37)=0),0,IF(M$11=0,0,B34-M34)) -> 26.295 | Q34: =IF(OR('Calculation 1.1'!AH4=0,SUMSQ($N$14:$N$37)=0),0,IF(M$11=0,0,C34-N34)) -> -0.419 | R34: =O34
A35: Did not want a paid job, excluding retired and unable to work | B35: ='Calculation 1.1'!W27 -> 2153.33 | C35: ='Calculation 1.1'!X27 -> 10.06 | D35: =IF('Calculation 1.1'!Y27>=50,"**",IF('Calculation 1.1'!Y27>=25,"*","")) | F35: ='Calculation 1.1'!AA27 -> 2589.933 | G35: ='Calculation 1.1'!AB27 -> 12.181 | H35: =IF(F$11=0,"",IF(AND(MONTH($B$11)=9,YEAR($B$11)<2023),"",IF('Calculation 1.1'!AC27>=50,"**",IF('Calculation 1.1'!AC27>=25,"*","")))) | I35: =IF(OR('Calculation 1.1'!AA4=0,SUMSQ($F$14:$F$37)=0),0,IF(F$11=0,0,B35-F35)) -> -436.603 | J35: =IF(OR('Calculation 1.1'!AA4=0,SUMSQ($G$14:$G$37)=0),0,IF(F$11=0,0,C35-G35)) -> -2.121 | K35: =H35 | M35: ='Calculation 1.1'!AH27 -> 2398.858 | N35: ='Calculation 1.1'!AI27 -> 11.437 | O35: =IF(M$11=0,"",IF('Calculation 1.1'!AJ27>=50,"**",IF('Calculation 1.1'!AJ27>=25,"*",""))) | P35: =IF(OR('Calculation 1.1'!AH4=0,SUMSQ($M$14:$M$37)=0),0,IF(M$11=0,0,B35-M35)) -> -245.528 | Q35: =IF(OR('Calculation 1.1'!AH4=0,SUMSQ($N$14:$N$37)=0),0,IF(M$11=0,0,C35-N35)) -> -1.377 | R35: =O35
A36: Retired or permanently unable to work | B36: ='Calculation 1.1'!W28 -> 3533.694 | C36: ='Calculation 1.1'!X28 -> 16.509 | D36: =IF('Calculation 1.1'!Y28>=50,"**",IF('Calculation 1.1'!Y28>=25,"*","")) | F36: ='Calculation 1.1'!AA28 -> 3310.602 | G36: ='Calculation 1.1'!AB28 -> 15.57 | H36: =IF(F$11=0,"",IF(AND(MONTH($B$11)=9,YEAR($B$11)<2023),"",IF('Calculation 1.1'!AC28>=50,"**",IF('Calculation 1.1'!AC28>=25,"*","")))) | I36: =IF(OR('Calculation 1.1'!AA4=0,SUMSQ($F$14:$F$37)=0),0,IF(F$11=0,0,B36-F36)) -> 223.092 | J36: =IF(OR('Calculation 1.1'!AA4=0,SUMSQ($G$14:$G$37)=0),0,IF(F$11=0,0,C36-G36)) -> 0.939 | K36: =H36 | M36: ='Calculation 1.1'!AH28 -> 3261.871 | N36: ='Calculation 1.1'!AI28 -> 15.551 | O36: =IF(M$11=0,"",IF('Calculation 1.1'!AJ28>=50,"**",IF('Calculation 1.1'!AJ28>=25,"*",""))) | P36: =IF(OR('Calculation 1.1'!AH4=0,SUMSQ($M$14:$M$37)=0),0,IF(M$11=0,0,B36-M36)) -> 271.823 | Q36: =IF(OR('Calculation 1.1'!AH4=0,SUMSQ($N$14:$N$37)=0),0,IF(M$11=0,0,C36-N36)) -> 0.958 | R36: =O36
A37: TOTAL | B37: ='Calculation 1.1'!W29 -> 21404.669 | C37: ='Calculation 1.1'!X29 -> 100 | D37: =IF('Calculation 1.1'!Y29>=50,"**",IF('Calculation 1.1'!Y29>=25,"*","")) | F37: ='Calculation 1.1'!AA29 -> 21262.079 | G37: ='Calculation 1.1'!AB29 -> 100 | H37: =IF(F$11=0,"",IF(AND(MONTH($B$11)=9,YEAR($B$11)<2023),"",IF('Calculation 1.1'!AC29>=50,"**",IF('Calculation 1.1'!AC29>=25,"*","")))) | I37: =IF(OR('Calculation 1.1'!AA4=0,SUMSQ($F$14:$F$37)=0),0,IF(F$11=0,0,B37-F37)) -> 142.59 | J37: =IF(OR('Calculation 1.1'!AA4=0,SUMSQ($G$14:$G$37)=0),0,IF(F$11=0,0,C37-G37)) -> 0 | K37: =H37 | M37: ='Calculation 1.1'!AH29 -> 20975.232 | N37: ='Calculation 1.1'!AI29 -> 100 | O37: =IF(M$11=0,"",IF('Calculation 1.1'!AJ29>=50,"**",IF('Calculation 1.1'!AJ29>=25,"*",""))) | P37: =IF(OR('Calculation 1.1'!AH4=0,SUMSQ($M$14:$M$37)=0),0,IF(M$11=0,0,B37-M37)) -> 429.437 | Q37: =IF(OR('Calculation 1.1'!AH4=0,SUMSQ($N$14:$N$37)=0),0,IF(M$11=0,0,C37-N37)) -> 0 | R37: =O37
A39: * estimate has a relative standard error of 25% to 50% and should be used with caution
A40: ** estimate has a relative standard error greater than 50% and is considered too unreliable for general use
A42: ="© Commonwealth of Australia "&YEAR(TODAY()) -> © Commonwealth of Australia 2026

Sheet Table 1.2
A1: Australian Bureau of Statistics
A2: =Contents!A2 -> 6239.0 Barriers and Incentives to Labour Force Participation, Jun 2026
A3: =Contents!A3 -> Released at 11:30 am (Canberra time) Wed 28 October 2026
A4: =Contents!C8 -> Table 1.2 - Employment
A6: Select Scope | B6: People aged 18 years and over
A7: Select Population of interest | B7: People aged 18 years and over
A8: Select Sex | B8: Persons
B10: Employed | AH10: Unemployed | AR10: In the labour force | AV10: Not in the labour force | AZ10: TOTAL
B11: Usually worked full-time | F11: Usually worked part-time | AD11: Total | AH11: Had a job to start (or return to) | AK11: Looked for work | AN11: Total
F12: Preferred to work more hours | V12: Did not prefer to work more hours | Z12: Total
F13: Available for more hours within 4 weeks | O13: Not available for more hours within 4 weeks | R13: Total
F14: Looked for more hours | I14: Did not look for more hours | L14: Total
B15: '000 | C15: % | F15: '000 | G15: % | I15: '000 | J15: % | L15: '000 | M15: % | O15: '000 | P15: % | R15: '000 | S15: % | V15: '000 | W15: % | Z15: '000 | AA15: % | AD15: '000 | AE15: % | AH15: '000 | AI15: % | AK15: '000 | AL15: % | AN15: '000 | AO15: % | AR15: '000 | AS15: % | AV15: '000 | AW15: % | AZ15: '000 | BA15: %
A16: 2014-15
A17: 41883 | B17: ='Calculation 1.2'!Q5 -> 7720.701 | C17: ='Calculation 1.2'!R5 -> 44.316 | D17: =IF('Calculation 1.2'!S5="","",IF('Calculation 1.2'!S5>=50,"**",IF('Calculation 1.2'!S5>=25,"*",""))) | F17: ='Calculation 1.2'!U5 -> 457.099 | G17: ='Calculation 1.2'!V5 -> 2.624 | H17: =IF('Calculation 1.2'!W5="","",IF('Calculation 1.2'!W5>=50,"**",IF('Calculation 1.2'!W5>=25,"*",""))) | I17: ='Calculation 1.2'!X5 -> 409.884 | J17: ='Calculation 1.2'!Y5 -> 2.353 | K17: =IF('Calculation 1.2'!Z5="","",IF('Calculation 1.2'!Z5>=50,"**",IF('Calculation 1.2'!Z5>=25,"*",""))) | L17: ='Calculation 1.2'!AA5 -> 866.983 | M17: ='Calculation 1.2'!AB5 -> 4.976 | N17: =IF('Calculation 1.2'!AC5="","",IF('Calculation 1.2'!AC5>=50,"**",IF('Calculation 1.2'!AC5>=25,"*",""))) | O17: ='Calculation 1.2'!AD5 -> 68.479 | P17: ='Calculation 1.2'!AE5 -> 0.393 | Q17: =IF('Calculation 1.2'!AF5="","",IF('Calculation 1.2'!AF5>=50,"**",IF('Calculation 1.2'!AF5>=25,"*",""))) -> * | R17: ='Calculation 1.2'!AG5 -> 935.462 | S17: ='Calculation 1.2'!AH5 -> 5.369 | T17: =IF('Calculation 1.2'!AI5="","",IF('Calculation 1.2'!AI5>=50,"**",IF('Calculation 1.2'!AI5>=25,"*",""))) | V17: ='Calculation 1.2'!AK5 -> 2427.967 | W17: ='Calculation 1.2'!AL5 -> 13.936 | X17: =IF('Calculation 1.2'!AM5="","",IF('Calculation 1.2'!AM5>=50,"**",IF('Calculation 1.2'!AM5>=25,"*",""))) | Z17: ='Calculation 1.2'!AO5 -> 3363.429 | AA17: ='Calculation 1.2'!AP5 -> 19.306 | AB17: =IF('Calculation 1.2'!AQ5="","",IF('Calculation 1.2'!AQ5>=50,"**",IF('Calculation 1.2'!AQ5>=25,"*",""))) | AD17: ='Calculation 1.2'!AS5 -> 11084.13 | AE17: ='Calculation 1.2'!AT5 -> 63.622 | AF17: =IF('Calculation 1.2'!AU5="","",IF('Calculation 1.2'!AU5>=50,"**",IF('Calculation 1.2'!AU5>=25,"*",""))) | AH17: ='Calculation 1.2'!AW5 -> 22.987 | AI17: ='Calculation 1.2'!AX5 -> 0.132 | AJ17: =IF('Calculation 1.2'!AY5="","",IF('Calculation 1.2'!AY5>=50,"**",IF('Calculation 1.2'!AY5>=25,"*",""))) -> ** | AK17: ='Calculation 1.2'!AZ5 -> 636.426 | AL17: ='Calculation 1.2'!BA5 -> 3.653 | AM17: =IF('Calculation 1.2'!BB5="","",IF('Calculation 1.2'!BB5>=50,"**",IF('Calculation 1.2'!BB5>=25,"*",""))) | AN17: ='Calculation 1.2'!BC5 -> 659.413 | AO17: ='Calculation 1.2'!BD5 -> 3.785 | AP17: =IF('Calculation 1.2'!BE5="","",IF('Calculation 1.2'!BE5>=50,"**",IF('Calculation 1.2'!BE5>=25,"*",""))) | AR17: ='Calculation 1.2'!BG5 -> 11743.543 | AS17: ='Calculation 1.2'!BH5 -> 67.407 | AT17: =IF('Calculation 1.2'!BI5="","",IF('Calculation 1.2'!BI5>=50,"**",IF('Calculation 1.2'!BI5>=25,"*",""))) | AV17: ='Calculation 1.2'!BK5 -> 5678.354 | AW17: ='Calculation 1.2'!BL5 -> 32.593 | AX17: =IF('Calculation 1.2'!BM5="","",IF('Calculation 1.2'!BM5>=50,"**",IF('Calculation 1.2'!BM5>=25,"*",""))) | AZ17: ='Calculation 1.2'!BO5 -> 17421.897 | BA17: ='Calculation 1.2'!BP5 -> 100 | BB17: =IF('Calculation 1.2'!BQ5="","",IF('Calculation 1.2'!BQ5>=50,"**",IF('Calculation 1.2'!BQ5>=25,"*","")))
A18: 41974 | B18: ='Calculation 1.2'!Q6 -> 7813.985 | C18: ='Calculation 1.2'!R6 -> 44.575 | D18: =IF('Calculation 1.2'!S6="","",IF('Calculation 1.2'!S6>=50,"**",IF('Calculation 1.2'!S6>=25,"*",""))) | F18: ='Calculation 1.2'!U6 -> 509.81 | G18: ='Calculation 1.2'!V6 -> 2.908 | H18: =IF('Calculation 1.2'!W6="","",IF('Calculation 1.2'!W6>=50,"**",IF('Calculation 1.2'!W6>=25,"*",""))) | I18: ='Calculation 1.2'!X6 -> 452.925 | J18: ='Calculation 1.2'!Y6 -> 2.584 | K18: =IF('Calculation 1.2'!Z6="","",IF('Calculation 1.2'!Z6>=50,"**",IF('Calculation 1.2'!Z6>=25,"*",""))) | L18: ='Calculation 1.2'!AA6 -> 962.735 | M18: ='Calculation 1.2'!AB6 -> 5.492 | N18: =IF('Calculation 1.2'!AC6="","",IF('Calculation 1.2'!AC6>=50,"**",IF('Calculation 1.2'!AC6>=25,"*",""))) | O18: ='Calculation 1.2'!AD6 -> 39.588 | P18: ='Calculation 1.2'!AE6 -> 0.226 | Q18: =IF('Calculation 1.2'!AF6="","",IF('Calculation 1.2'!AF6>=50,"**",IF('Calculation 1.2'!AF6>=25,"*",""))) -> * | R18: ='Calculation 1.2'!AG6 -> 1002.323 | S18: ='Calculation 1.2'!AH6 -> 5.718 | T18: =IF('Calculation 1.2'!AI6="","",IF('Calculation 1.2'!AI6>=50,"**",IF('Calculation 1.2'!AI6>=25,"*",""))) | V18: ='Calculation 1.2'!AK6 -> 2358.56 | W18: ='Calculation 1.2'!AL6 -> 13.455 | X18: =IF('Calculation 1.2'!AM6="","",IF('Calculation 1.2'!AM6>=50,"**",IF('Calculation 1.2'!AM6>=25,"*",""))) | Z18: ='Calculation 1.2'!AO6 -> 3360.883 | AA18: ='Calculation 1.2'!AP6 -> 19.172 | AB18: =IF('Calculation 1.2'!AQ6="","",IF('Calculation 1.2'!AQ6>=50,"**",IF('Calculation 1.2'!AQ6>=25,"*",""))) | AD18: ='Calculation 1.2'!AS6 -> 11174.868 | AE18: ='Calculation 1.2'!AT6 -> 63.748 | AF18: =IF('Calculation 1.2'!AU6="","",IF('Calculation 1.2'!AU6>=50,"**",IF('Calculation 1.2'!AU6>=25,"*",""))) | AH18: ='Calculation 1.2'!AW6 -> 20.896 | AI18: ='Calculation 1.2'!AX6 -> 0.119 | AJ18: =IF('Calculation 1.2'!AY6="","",IF('Calculation 1.2'!AY6>=50,"**",IF('Calculation 1.2'!AY6>=25,"*",""))) -> ** | AK18: ='Calculation 1.2'!AZ6 -> 613.476 | AL18: ='Calculation 1.2'!BA6 -> 3.5 | AM18: =IF('Calculation 1.2'!BB6="","",IF('Calculation 1.2'!BB6>=50,"**",IF('Calculation 1.2'!BB6>=25,"*",""))) | AN18: ='Calculation 1.2'!BC6 -> 634.372 | AO18: ='Calculation 1.2'!BD6 -> 3.619 | AP18: =IF('Calculation 1.2'!BE6="","",IF('Calculation 1.2'!BE6>=50,"**",IF('Calculation 1.2'!BE6>=25,"*",""))) | AR18: ='Calculation 1.2'!BG6 -> 11809.24 | AS18: ='Calculation 1.2'!BH6 -> 67.366 | AT18: =IF('Calculation 1.2'!BI6="","",IF('Calculation 1.2'!BI6>=50,"**",IF('Calculation 1.2'!BI6>=25,"*",""))) | AV18: ='Calculation 1.2'!BK6 -> 5720.616 | AW18: ='Calculation 1.2'!BL6 -> 32.634 | AX18: =IF('Calculation 1.2'!BM6="","",IF('Calculation 1.2'!BM6>=50,"**",IF('Calculation 1.2'!BM6>=25,"*",""))) | AZ18: ='Calculation 1.2'!BO6 -> 17529.856 | BA18: ='Calculation 1.2'!BP6 -> 100 | BB18: =IF('Calculation 1.2'!BQ6="","",IF('Calculation 1.2'!BQ6>=50,"**",IF('Calculation 1.2'!BQ6>=25,"*","")))
A19: 42064 | B19: ='Calculation 1.2'!Q7 -> 7776.817 | C19: ='Calculation 1.2'!R7 -> 44.207 | D19: =IF('Calculation 1.2'!S7="","",IF('Calculation 1.2'!S7>=50,"**",IF('Calculation 1.2'!S7>=25,"*",""))) | F19: ='Calculation 1.2'!U7 -> 462.905 | G19: ='Calculation 1.2'!V7 -> 2.631 | H19: =IF('Calculation 1.2'!W7="","",IF('Calculation 1.2'!W7>=50,"**",IF('Calculation 1.2'!W7>=25,"*",""))) | I19: ='Calculation 1.2'!X7 -> 314.612 | J19: ='Calculation 1.2'!Y7 -> 1.788 | K19: =IF('Calculation 1.2'!Z7="","",IF('Calculation 1.2'!Z7>=50,"**",IF('Calculation 1.2'!Z7>=25,"*",""))) | L19: ='Calculation 1.2'!AA7 -> 777.517 | M19: ='Calculation 1.2'!AB7 -> 4.42 | N19: =IF('Calculation 1.2'!AC7="","",IF('Calculation 1.2'!AC7>=50,"**",IF('Calculation 1.2'!AC7>=25,"*",""))) | O19: ='Calculation 1.2'!AD7 -> 86.041 | P19: ='Calculation 1.2'!AE7 -> 0.489 | Q19: =IF('Calculation 1.2'!AF7="","",IF('Calculation 1.2'!AF7>=50,"**",IF('Calculation 1.2'!AF7>=25,"*",""))) -> * | R19: ='Calculation 1.2'!AG7 -> 863.558 | S19: ='Calculation 1.2'!AH7 -> 4.909 | T19: =IF('Calculation 1.2'!AI7="","",IF('Calculation 1.2'!AI7>=50,"**",IF('Calculation 1.2'!AI7>=25,"*",""))) | V19: ='Calculation 1.2'!AK7 -> 2531.58 | W19: ='Calculation 1.2'!AL7 -> 14.391 | X19: =IF('Calculation 1.2'!AM7="","",IF('Calculation 1.2'!AM7>=50,"**",IF('Calculation 1.2'!AM7>=25,"*",""))) | Z19: ='Calculation 1.2'!AO7 -> 3395.139 | AA19: ='Calculation 1.2'!AP7 -> 19.299 | AB19: =IF('Calculation 1.2'!AQ7="","",IF('Calculation 1.2'!AQ7>=50,"**",IF('Calculation 1.2'!AQ7>=25,"*",""))) | AD19: ='Calculation 1.2'!AS7 -> 11171.956 | AE19: ='Calculation 1.2'!AT7 -> 63.506 | AF19: =IF('Calculation 1.2'!AU7="","",IF('Calculation 1.2'!AU7>=50,"**",IF('Calculation 1.2'!AU7>=25,"*",""))) | AH19: ='Calculation 1.2'!AW7 -> 63.17 | AI19: ='Calculation 1.2'!AX7 -> 0.359 | AJ19: =IF('Calculation 1.2'!AY7="","",IF('Calculation 1.2'!AY7>=50,"**",IF('Calculation 1.2'!AY7>=25,"*",""))) -> * | AK19: ='Calculation 1.2'!AZ7 -> 668.083 | AL19: ='Calculation 1.2'!BA7 -> 3.798 | AM19: =IF('Calculation 1.2'!BB7="","",IF('Calculation 1.2'!BB7>=50,"**",IF('Calculation 1.2'!BB7>=25,"*",""))) | AN19: ='Calculation 1.2'!BC7 -> 731.253 | AO19: ='Calculation 1.2'!BD7 -> 4.157 | AP19: =IF('Calculation 1.2'!BE7="","",IF('Calculation 1.2'!BE7>=50,"**",IF('Calculation 1.2'!BE7>=25,"*",""))) | AR19: ='Calculation 1.2'!BG7 -> 11903.208 | AS19: ='Calculation 1.2'!BH7 -> 67.663 | AT19: =IF('Calculation 1.2'!BI7="","",IF('Calculation 1.2'!BI7>=50,"**",IF('Calculation 1.2'!BI7>=25,"*",""))) | AV19: ='Calculation 1.2'!BK7 -> 5688.647 | AW19: ='Calculation 1.2'!BL7 -> 32.337 | AX19: =IF('Calculation 1.2'!BM7="","",IF('Calculation 1.2'!BM7>=50,"**",IF('Calculation 1.2'!BM7>=25,"*",""))) | AZ19: ='Calculation 1.2'!BO7 -> 17591.856 | BA19: ='Calculation 1.2'!BP7 -> 100 | BB19: =IF('Calculation 1.2'!BQ7="","",IF('Calculation 1.2'!BQ7>=50,"**",IF('Calculation 1.2'!BQ7>=25,"*","")))
A20: 42156 | B20: ='Calculation 1.2'!Q8 -> 7823.997 | C20: ='Calculation 1.2'!R8 -> 44.317 | D20: =IF('Calculation 1.2'!S8="","",IF('Calculation 1.2'!S8>=50,"**",IF('Calculation 1.2'!S8>=25,"*",""))) | F20: ='Calculation 1.2'!U8 -> 450.886 | G20: ='Calculation 1.2'!V8 -> 2.554 | H20: =IF('Calculation 1.2'!W8="","",IF('Calculation 1.2'!W8>=50,"**",IF('Calculation 1.2'!W8>=25,"*",""))) | I20: ='Calculation 1.2'!X8 -> 392.275 | J20: ='Calculation 1.2'!Y8 -> 2.222 | K20: =IF('Calculation 1.2'!Z8="","",IF('Calculation 1.2'!Z8>=50,"**",IF('Calculation 1.2'!Z8>=25,"*",""))) | L20: ='Calculation 1.2'!AA8 -> 843.16 | M20: ='Calculation 1.2'!AB8 -> 4.776 | N20: =IF('Calculation 1.2'!AC8="","",IF('Calculation 1.2'!AC8>=50,"**",IF('Calculation 1.2'!AC8>=25,"*",""))) | O20: ='Calculation 1.2'!AD8 -> 68.709 | P20: ='Calculation 1.2'!AE8 -> 0.389 | Q20: =IF('Calculation 1.2'!AF8="","",IF('Calculation 1.2'!AF8>=50,"**",IF('Calculation 1.2'!AF8>=25,"*",""))) -> * | R20: ='Calculation 1.2'!AG8 -> 911.87 | S20: ='Calculation 1.2'!AH8 -> 5.165 | T20: =IF('Calculation 1.2'!AI8="","",IF('Calculation 1.2'!AI8>=50,"**",IF('Calculation 1.2'!AI8>=25,"*",""))) | V20: ='Calculation 1.2'!AK8 -> 2566.645 | W20: ='Calculation 1.2'!AL8 -> 14.538 | X20: =IF('Calculation 1.2'!AM8="","",IF('Calculation 1.2'!AM8>=50,"**",IF('Calculation 1.2'!AM8>=25,"*",""))) | Z20: ='Calculation 1.2'!AO8 -> 3478.515 | AA20: ='Calculation 1.2'!AP8 -> 19.703 | AB20: =IF('Calculation 1.2'!AQ8="","",IF('Calculation 1.2'!AQ8>=50,"**",IF('Calculation 1.2'!AQ8>=25,"*",""))) | AD20: ='Calculation 1.2'!AS8 -> 11302.511 | AE20: ='Calculation 1.2'!AT8 -> 64.021 | AF20: =IF('Calculation 1.2'!AU8="","",IF('Calculation 1.2'!AU8>=50,"**",IF('Calculation 1.2'!AU8>=25,"*",""))) | AH20: ='Calculation 1.2'!AW8 -> 17.142 | AI20: ='Calculation 1.2'!AX8 -> 0.097 | AJ20: =IF('Calculation 1.2'!AY8="","",IF('Calculation 1.2'!AY8>=50,"**",IF('Calculation 1.2'!AY8>=25,"*",""))) -> ** | AK20: ='Calculation 1.2'!AZ8 -> 635.554 | AL20: ='Calculation 1.2'!BA8 -> 3.6 | AM20: =IF('Calculation 1.2'!BB8="","",IF('Calculation 1.2'!BB8>=50,"**",IF('Calculation 1.2'!BB8>=25,"*",""))) | AN20: ='Calculation 1.2'!BC8 -> 652.697 | AO20: ='Calculation 1.2'!BD8 -> 3.697 | AP20: =IF('Calculation 1.2'!BE8="","",IF('Calculation 1.2'!BE8>=50,"**",IF('Calculation 1.2'!BE8>=25,"*",""))) | AR20: ='Calculation 1.2'!BG8 -> 11955.208 | AS20: ='Calculation 1.2'!BH8 -> 67.718 | AT20: =IF('Calculation 1.2'!BI8="","",IF('Calculation 1.2'!BI8>=50,"**",IF('Calculation 1.2'!BI8>=25,"*",""))) | AV20: ='Calculation 1.2'!BK8 -> 5699.309 | AW20: ='Calculation 1.2'!BL8 -> 32.282 | AX20: =IF('Calculation 1.2'!BM8="","",IF('Calculation 1.2'!BM8>=50,"**",IF('Calculation 1.2'!BM8>=25,"*",""))) | AZ20: ='Calculation 1.2'!BO8 -> 17654.518 | BA20: ='Calculation 1.2'!BP8 -> 100 | BB20: =IF('Calculation 1.2'!BQ8="","",IF('Calculation 1.2'!BQ8>=50,"**",IF('Calculation 1.2'!BQ8>=25,"*","")))
A21: =TEXT(DATE(YEAR(A17)+2,1,1),"yyyy") & "-" & TEXT(DATE(YEAR(A17)+3,1,1),"yy") -> 2016-17 | B21: ='Calculation 1.2'!Q9 | C21: ='Calculation 1.2'!R9 | D21: =IF('Calculation 1.2'!S9="","",IF('Calculation 1.2'!S9>=50,"**",IF('Calculation 1.2'!S9>=25,"*",""))) | F21: ='Calculation 1.2'!U9 | G21: ='Calculation 1.2'!V9 | H21: =IF('Calculation 1.2'!W9="","",IF('Calculation 1.2'!W9>=50,"**",IF('Calculation 1.2'!W9>=25,"*",""))) | I21: ='Calculation 1.2'!X9 | J21: ='Calculation 1.2'!Y9 | K21: =IF('Calculation 1.2'!Z9="","",IF('Calculation 1.2'!Z9>=50,"**",IF('Calculation 1.2'!Z9>=25,"*",""))) | L21: ='Calculation 1.2'!AA9 | M21: ='Calculation 1.2'!AB9 | N21: =IF('Calculation 1.2'!AC9="","",IF('Calculation 1.2'!AC9>=50,"**",IF('Calculation 1.2'!AC9>=25,"*",""))) | O21: ='Calculation 1.2'!AD9 | P21: ='Calculation 1.2'!AE9 | Q21: =IF('Calculation 1.2'!AF9="","",IF('Calculation 1.2'!AF9>=50,"**",IF('Calculation 1.2'!AF9>=25,"*",""))) | R21: ='Calculation 1.2'!AG9 | S21: ='Calculation 1.2'!AH9 | T21: =IF('Calculation 1.2'!AI9="","",IF('Calculation 1.2'!AI9>=50,"**",IF('Calculation 1.2'!AI9>=25,"*",""))) | V21: ='Calculation 1.2'!AK9 | W21: ='Calculation 1.2'!AL9 | X21: =IF('Calculation 1.2'!AM9="","",IF('Calculation 1.2'!AM9>=50,"**",IF('Calculation 1.2'!AM9>=25,"*",""))) | Z21: ='Calculation 1.2'!AO9 | AA21: ='Calculation 1.2'!AP9 | AB21: =IF('Calculation 1.2'!AQ9="","",IF('Calculation 1.2'!AQ9>=50,"**",IF('Calculation 1.2'!AQ9>=25,"*",""))) | AD21: ='Calculation 1.2'!AS9 | AE21: ='Calculation 1.2'!AT9 | AF21: =IF('Calculation 1.2'!AU9="","",IF('Calculation 1.2'!AU9>=50,"**",IF('Calculation 1.2'!AU9>=25,"*",""))) | AH21: ='Calculation 1.2'!AW9 | AI21: ='Calculation 1.2'!AX9 | AJ21: =IF('Calculation 1.2'!AY9="","",IF('Calculation 1.2'!AY9>=50,"**",IF('Calculation 1.2'!AY9>=25,"*",""))) | AK21: ='Calculation 1.2'!AZ9 | AL21: ='Calculation 1.2'!BA9 | AM21: =IF('Calculation 1.2'!BB9="","",IF('Calculation 1.2'!BB9>=50,"**",IF('Calculation 1.2'!BB9>=25,"*",""))) | AN21: ='Calculation 1.2'!BC9 | AO21: ='Calculation 1.2'!BD9 | AP21: =IF('Calculation 1.2'!BE9="","",IF('Calculation 1.2'!BE9>=50,"**",IF('Calculation 1.2'!BE9>=25,"*",""))) | AR21: ='Calculation 1.2'!BG9 | AS21: ='Calculation 1.2'!BH9 | AT21: =IF('Calculation 1.2'!BI9="","",IF('Calculation 1.2'!BI9>=50,"**",IF('Calculation 1.2'!BI9>=25,"*",""))) | AV21: ='Calculation 1.2'!BK9 | AW21: ='Calculation 1.2'!BL9 | AX21: =IF('Calculation 1.2'!BM9="","",IF('Calculation 1.2'!BM9>=50,"**",IF('Calculation 1.2'!BM9>=25,"*",""))) | AZ21: ='Calculation 1.2'!BO9 | BA21: ='Calculation 1.2'!BP9 | BB21: =IF('Calculation 1.2'!BQ9="","",IF('Calculation 1.2'!BQ9>=50,"**",IF('Calculation 1.2'!BQ9>=25,"*","")))
A22: =TEXT(DATE(YEAR(A17)+2,9,1), "mmm-yy") -> Sep-16 | B22: ='Calculation 1.2'!Q10 -> 7829.425 | C22: ='Calculation 1.2'!R10 -> 43.358 | D22: =IF('Calculation 1.2'!S10="","",IF('Calculation 1.2'!S10>=50,"**",IF('Calculation 1.2'!S10>=25,"*",""))) | F22: ='Calculation 1.2'!U10 -> 528.005 | G22: ='Calculation 1.2'!V10 -> 2.924 | H22: =IF('Calculation 1.2'!W10="","",IF('Calculation 1.2'!W10>=50,"**",IF('Calculation 1.2'!W10>=25,"*",""))) | I22: ='Calculation 1.2'!X10 -> 344.035 | J22: ='Calculation 1.2'!Y10 -> 1.905 | K22: =IF('Calculation 1.2'!Z10="","",IF('Calculation 1.2'!Z10>=50,"**",IF('Calculation 1.2'!Z10>=25,"*",""))) | L22: ='Calculation 1.2'!AA10 -> 872.039 | M22: ='Calculation 1.2'!AB10 -> 4.829 | N22: =IF('Calculation 1.2'!AC10="","",IF('Calculation 1.2'!AC10>=50,"**",IF('Calculation 1.2'!AC10>=25,"*",""))) | O22: ='Calculation 1.2'!AD10 -> 76.07 | P22: ='Calculation 1.2'!AE10 -> 0.421 | Q22: =IF('Calculation 1.2'!AF10="","",IF('Calculation 1.2'!AF10>=50,"**",IF('Calculation 1.2'!AF10>=25,"*",""))) -> * | R22: ='Calculation 1.2'!AG10 -> 948.109 | S22: ='Calculation 1.2'!AH10 -> 5.25 | T22: =IF('Calculation 1.2'!AI10="","",IF('Calculation 1.2'!AI10>=50,"**",IF('Calculation 1.2'!AI10>=25,"*",""))) | V22: ='Calculation 1.2'!AK10 -> 2696.661 | W22: ='Calculation 1.2'!AL10 -> 14.934 | X22: =IF('Calculation 1.2'!AM10="","",IF('Calculation 1.2'!AM10>=50,"**",IF('Calculation 1.2'!AM10>=25,"*",""))) | Z22: ='Calculation 1.2'!AO10 -> 3644.77 | AA22: ='Calculation 1.2'!AP10 -> 20.184 | AB22: =IF('Calculation 1.2'!AQ10="","",IF('Calculation 1.2'!AQ10>=50,"**",IF('Calculation 1.2'!AQ10>=25,"*",""))) | AD22: ='Calculation 1.2'!AS10 -> 11474.195 | AE22: ='Calculation 1.2'!AT10 -> 63.542 | AF22: =IF('Calculation 1.2'!AU10="","",IF('Calculation 1.2'!AU10>=50,"**",IF('Calculation 1.2'!AU10>=25,"*",""))) | AH22: ='Calculation 1.2'!AW10 -> 15.098 | AI22: ='Calculation 1.2'!AX10 -> 0.084 | AJ22: =IF('Calculation 1.2'!AY10="","",IF('Calculation 1.2'!AY10>=50,"**",IF('Calculation 1.2'!AY10>=25,"*",""))) -> ** | AK22: ='Calculation 1.2'!AZ10 -> 603.42 | AL22: ='Calculation 1.2'!BA10 -> 3.342 | AM22: =IF('Calculation 1.2'!BB10="","",IF('Calculation 1.2'!BB10>=50,"**",IF('Calculation 1.2'!BB10>=25,"*",""))) | AN22: ='Calculation 1.2'!BC10 -> 618.518 | AO22: ='Calculation 1.2'!BD10 -> 3.425 | AP22: =IF('Calculation 1.2'!BE10="","",IF('Calculation 1.2'!BE10>=50,"**",IF('Calculation 1.2'!BE10>=25,"*",""))) | AR22: ='Calculation 1.2'!BG10 -> 12092.714 | AS22: ='Calculation 1.2'!BH10 -> 66.968 | AT22: =IF('Calculation 1.2'!BI10="","",IF('Calculation 1.2'!BI10>=50,"**",IF('Calculation 1.2'!BI10>=25,"*",""))) | AV22: ='Calculation 1.2'!BK10 -> 5964.805 | AW22: ='Calculation 1.2'!BL10 -> 33.032 | AX22: =IF('Calculation 1.2'!BM10="","",IF('Calculation 1.2'!BM10>=50,"**",IF('Calculation 1.2'!BM10>=25,"*",""))) | AZ22: ='Calculation 1.2'!BO10 -> 18057.518 | BA22: ='Calculation 1.2'!BP10 -> 100 | BB22: =IF('Calculation 1.2'!BQ10="","",IF('Calculation 1.2'!BQ10>=50,"**",IF('Calculation 1.2'!BQ10>=25,"*","")))
A23: =TEXT(DATE(YEAR(A17)+2,12,1), "mmm-yy") -> Dec-16 | B23: ='Calculation 1.2'!Q11 -> 7839.172 | C23: ='Calculation 1.2'!R11 -> 43.183 | D23: =IF('Calculation 1.2'!S11="","",IF('Calculation 1.2'!S11>=50,"**",IF('Calculation 1.2'!S11>=25,"*",""))) | F23: ='Calculation 1.2'!U11 -> 537.61 | G23: ='Calculation 1.2'!V11 -> 2.961 | H23: =IF('Calculation 1.2'!W11="","",IF('Calculation 1.2'!W11>=50,"**",IF('Calculation 1.2'!W11>=25,"*",""))) | I23: ='Calculation 1.2'!X11 -> 414.913 | J23: ='Calculation 1.2'!Y11 -> 2.286 | K23: =IF('Calculation 1.2'!Z11="","",IF('Calculation 1.2'!Z11>=50,"**",IF('Calculation 1.2'!Z11>=25,"*",""))) | L23: ='Calculation 1.2'!AA11 -> 952.523 | M23: ='Calculation 1.2'!AB11 -> 5.247 | N23: =IF('Calculation 1.2'!AC11="","",IF('Calculation 1.2'!AC11>=50,"**",IF('Calculation 1.2'!AC11>=25,"*",""))) | O23: ='Calculation 1.2'!AD11 -> 83.554 | P23: ='Calculation 1.2'!AE11 -> 0.46 | Q23: =IF('Calculation 1.2'!AF11="","",IF('Calculation 1.2'!AF11>=50,"**",IF('Calculation 1.2'!AF11>=25,"*",""))) | R23: ='Calculation 1.2'!AG11 -> 1036.077 | S23: ='Calculation 1.2'!AH11 -> 5.707 | T23: =IF('Calculation 1.2'!AI11="","",IF('Calculation 1.2'!AI11>=50,"**",IF('Calculation 1.2'!AI11>=25,"*",""))) | V23: ='Calculation 1.2'!AK11 -> 2661.672 | W23: ='Calculation 1.2'!AL11 -> 14.662 | X23: =IF('Calculation 1.2'!AM11="","",IF('Calculation 1.2'!AM11>=50,"**",IF('Calculation 1.2'!AM11>=25,"*",""))) | Z23: ='Calculation 1.2'!AO11 -> 3697.749 | AA23: ='Calculation 1.2'!AP11 -> 20.369 | AB23: =IF('Calculation 1.2'!AQ11="","",IF('Calculation 1.2'!AQ11>=50,"**",IF('Calculation 1.2'!AQ11>=25,"*",""))) | AD23: ='Calculation 1.2'!AS11 -> 11536.922 | AE23: ='Calculation 1.2'!AT11 -> 63.552 | AF23: =IF('Calculation 1.2'!AU11="","",IF('Calculation 1.2'!AU11>=50,"**",IF('Calculation 1.2'!AU11>=25,"*",""))) | AH23: ='Calculation 1.2'!AW11 -> 16.228 | AI23: ='Calculation 1.2'!AX11 -> 0.089 | AJ23: =IF('Calculation 1.2'!AY11="","",IF('Calculation 1.2'!AY11>=50,"**",IF('Calculation 1.2'!AY11>=25,"*",""))) -> ** | AK23: ='Calculation 1.2'!AZ11 -> 588.252 | AL23: ='Calculation 1.2'!BA11 -> 3.24 | AM23: =IF('Calculation 1.2'!BB11="","",IF('Calculation 1.2'!BB11>=50,"**",IF('Calculation 1.2'!BB11>=25,"*",""))) | AN23: ='Calculation 1.2'!BC11 -> 604.48 | AO23: ='Calculation 1.2'!BD11 -> 3.33 | AP23: =IF('Calculation 1.2'!BE11="","",IF('Calculation 1.2'!BE11>=50,"**",IF('Calculation 1.2'!BE11>=25,"*",""))) | AR23: ='Calculation 1.2'!BG11 -> 12141.402 | AS23: ='Calculation 1.2'!BH11 -> 66.882 | AT23: =IF('Calculation 1.2'!BI11="","",IF('Calculation 1.2'!BI11>=50,"**",IF('Calculation 1.2'!BI11>=25,"*",""))) | AV23: ='Calculation 1.2'!BK11 -> 6012.055 | AW23: ='Calculation 1.2'!BL11 -> 33.118 | AX23: =IF('Calculation 1.2'!BM11="","",IF('Calculation 1.2'!BM11>=50,"**",IF('Calculation 1.2'!BM11>=25,"*",""))) | AZ23: ='Calculation 1.2'!BO11 -> 18153.456 | BA23: ='Calculation 1.2'!BP11 -> 100 | BB23: =IF('Calculation 1.2'!BQ11="","",IF('Calculation 1.2'!BQ11>=50,"**",IF('Calculation 1.2'!BQ11>=25,"*","")))
A24: =TEXT(DATE(YEAR(A17)+3,3,1), "mmm-yy") -> Mar-17 | B24: ='Calculation 1.2'!Q12 -> 7750.1 | C24: ='Calculation 1.2'!R12 -> 42.606 | D24: =IF('Calculation 1.2'!S12="","",IF('Calculation 1.2'!S12>=50,"**",IF('Calculation 1.2'!S12>=25,"*",""))) | F24: ='Calculation 1.2'!U12 -> 622.021 | G24: ='Calculation 1.2'!V12 -> 3.42 | H24: =IF('Calculation 1.2'!W12="","",IF('Calculation 1.2'!W12>=50,"**",IF('Calculation 1.2'!W12>=25,"*",""))) | I24: ='Calculation 1.2'!X12 -> 430.773 | J24: ='Calculation 1.2'!Y12 -> 2.368 | K24: =IF('Calculation 1.2'!Z12="","",IF('Calculation 1.2'!Z12>=50,"**",IF('Calculation 1.2'!Z12>=25,"*",""))) | L24: ='Calculation 1.2'!AA12 -> 1052.794 | M24: ='Calculation 1.2'!AB12 -> 5.788 | N24: =IF('Calculation 1.2'!AC12="","",IF('Calculation 1.2'!AC12>=50,"**",IF('Calculation 1.2'!AC12>=25,"*",""))) | O24: ='Calculation 1.2'!AD12 -> 62.446 | P24: ='Calculation 1.2'!AE12 -> 0.343 | Q24: =IF('Calculation 1.2'!AF12="","",IF('Calculation 1.2'!AF12>=50,"**",IF('Calculation 1.2'!AF12>=25,"*",""))) -> * | R24: ='Calculation 1.2'!AG12 -> 1115.24 | S24: ='Calculation 1.2'!AH12 -> 6.131 | T24: =IF('Calculation 1.2'!AI12="","",IF('Calculation 1.2'!AI12>=50,"**",IF('Calculation 1.2'!AI12>=25,"*",""))) | V24: ='Calculation 1.2'!AK12 -> 2580.301 | W24: ='Calculation 1.2'!AL12 -> 14.185 | X24: =IF('Calculation 1.2'!AM12="","",IF('Calculation 1.2'!AM12>=50,"**",IF('Calculation 1.2'!AM12>=25,"*",""))) | Z24: ='Calculation 1.2'!AO12 -> 3695.541 | AA24: ='Calculation 1.2'!AP12 -> 20.316 | AB24: =IF('Calculation 1.2'!AQ12="","",IF('Calculation 1.2'!AQ12>=50,"**",IF('Calculation 1.2'!AQ12>=25,"*",""))) | AD24: ='Calculation 1.2'!AS12 -> 11445.641 | AE24: ='Calculation 1.2'!AT12 -> 62.922 | AF24: =IF('Calculation 1.2'!AU12="","",IF('Calculation 1.2'!AU12>=50,"**",IF('Calculation 1.2'!AU12>=25,"*",""))) | AH24: ='Calculation 1.2'!AW12 -> 17.74 | AI24: ='Calculation 1.2'!AX12 -> 0.098 | AJ24: =IF('Calculation 1.2'!AY12="","",IF('Calculation 1.2'!AY12>=50,"**",IF('Calculation 1.2'!AY12>=25,"*",""))) -> ** | AK24: ='Calculation 1.2'!AZ12 -> 684.313 | AL24: ='Calculation 1.2'!BA12 -> 3.762 | AM24: =IF('Calculation 1.2'!BB12="","",IF('Calculation 1.2'!BB12>=50,"**",IF('Calculation 1.2'!BB12>=25,"*",""))) | AN24: ='Calculation 1.2'!BC12 -> 702.053 | AO24: ='Calculation 1.2'!BD12 -> 3.859 | AP24: =IF('Calculation 1.2'!BE12="","",IF('Calculation 1.2'!BE12>=50,"**",IF('Calculation 1.2'!BE12>=25,"*",""))) | AR24: ='Calculation 1.2'!BG12 -> 12147.694 | AS24: ='Calculation 1.2'!BH12 -> 66.781 | AT24: =IF('Calculation 1.2'!BI12="","",IF('Calculation 1.2'!BI12>=50,"**",IF('Calculation 1.2'!BI12>=25,"*",""))) | AV24: ='Calculation 1.2'!BK12 -> 6042.588 | AW24: ='Calculation 1.2'!BL12 -> 33.219 | AX24: =IF('Calculation 1.2'!BM12="","",IF('Calculation 1.2'!BM12>=50,"**",IF('Calculation 1.2'!BM12>=25,"*",""))) | AZ24: ='Calculation 1.2'!BO12 -> 18190.282 | BA24: ='Calculation 1.2'!BP12 -> 100 | BB24: =IF('Calculation 1.2'!BQ12="","",IF('Calculation 1.2'!BQ12>=50,"**",IF('Calculation 1.2'!BQ12>=25,"*","")))
A25: =TEXT(DATE(YEAR(A17)+3,6,1), "mmm-yy") -> Jun-17 | B25: ='Calculation 1.2'!Q13 -> 7923.017 | C25: ='Calculation 1.2'!R13 -> 43.407 | D25: =IF('Calculation 1.2'!S13="","",IF('Calculation 1.2'!S13>=50,"**",IF('Calculation 1.2'!S13>=25,"*",""))) | F25: ='Calculation 1.2'!U13 -> 570.676 | G25: ='Calculation 1.2'!V13 -> 3.127 | H25: =IF('Calculation 1.2'!W13="","",IF('Calculation 1.2'!W13>=50,"**",IF('Calculation 1.2'!W13>=25,"*",""))) | I25: ='Calculation 1.2'!X13 -> 425.806 | J25: ='Calculation 1.2'!Y13 -> 2.333 | K25: =IF('Calculation 1.2'!Z13="","",IF('Calculation 1.2'!Z13>=50,"**",IF('Calculation 1.2'!Z13>=25,"*",""))) | L25: ='Calculation 1.2'!AA13 -> 996.482 | M25: ='Calculation 1.2'!AB13 -> 5.459 | N25: =IF('Calculation 1.2'!AC13="","",IF('Calculation 1.2'!AC13>=50,"**",IF('Calculation 1.2'!AC13>=25,"*",""))) | O25: ='Calculation 1.2'!AD13 -> 97.196 | P25: ='Calculation 1.2'!AE13 -> 0.532 | Q25: =IF('Calculation 1.2'!AF13="","",IF('Calculation 1.2'!AF13>=50,"**",IF('Calculation 1.2'!AF13>=25,"*",""))) | R25: ='Calculation 1.2'!AG13 -> 1093.677 | S25: ='Calculation 1.2'!AH13 -> 5.992 | T25: =IF('Calculation 1.2'!AI13="","",IF('Calculation 1.2'!AI13>=50,"**",IF('Calculation 1.2'!AI13>=25,"*",""))) | V25: ='Calculation 1.2'!AK13 -> 2632.765 | W25: ='Calculation 1.2'!AL13 -> 14.424 | X25: =IF('Calculation 1.2'!AM13="","",IF('Calculation 1.2'!AM13>=50,"**",IF('Calculation 1.2'!AM13>=25,"*",""))) | Z25: ='Calculation 1.2'!AO13 -> 3726.442 | AA25: ='Calculation 1.2'!AP13 -> 20.416 | AB25: =IF('Calculation 1.2'!AQ13="","",IF('Calculation 1.2'!AQ13>=50,"**",IF('Calculation 1.2'!AQ13>=25,"*",""))) | AD25: ='Calculation 1.2'!AS13 -> 11649.459 | AE25: ='Calculation 1.2'!AT13 -> 63.823 | AF25: =IF('Calculation 1.2'!AU13="","",IF('Calculation 1.2'!AU13>=50,"**",IF('Calculation 1.2'!AU13>=25,"*",""))) | AH25: ='Calculation 1.2'!AW13 -> 33.757 | AI25: ='Calculation 1.2'!AX13 -> 0.185 | AJ25: =IF('Calculation 1.2'!AY13="","",IF('Calculation 1.2'!AY13>=50,"**",IF('Calculation 1.2'!AY13>=25,"*",""))) -> * | AK25: ='Calculation 1.2'!AZ13 -> 585.016 | AL25: ='Calculation 1.2'!BA13 -> 3.205 | AM25: =IF('Calculation 1.2'!BB13="","",IF('Calculation 1.2'!BB13>=50,"**",IF('Calculation 1.2'!BB13>=25,"*",""))) | AN25: ='Calculation 1.2'!BC13 -> 618.774 | AO25: ='Calculation 1.2'!BD13 -> 3.39 | AP25: =IF('Calculation 1.2'!BE13="","",IF('Calculation 1.2'!BE13>=50,"**",IF('Calculation 1.2'!BE13>=25,"*",""))) | AR25: ='Calculation 1.2'!BG13 -> 12268.233 | AS25: ='Calculation 1.2'!BH13 -> 67.213 | AT25: =IF('Calculation 1.2'!BI13="","",IF('Calculation 1.2'!BI13>=50,"**",IF('Calculation 1.2'!BI13>=25,"*",""))) | AV25: ='Calculation 1.2'!BK13 -> 5984.546 | AW25: ='Calculation 1.2'!BL13 -> 32.787 | AX25: =IF('Calculation 1.2'!BM13="","",IF('Calculation 1.2'!BM13>=50,"**",IF('Calculation 1.2'!BM13>=25,"*",""))) | AZ25: ='Calculation 1.2'!BO13 -> 18252.779 | BA25: ='Calculation 1.2'!BP13 -> 100 | BB25: =IF('Calculation 1.2'!BQ13="","",IF('Calculation 1.2'!BQ13>=50,"**",IF('Calculation 1.2'!BQ13>=25,"*","")))
A26: =TEXT(DATE(YEAR(A22)+2,1,1),"yyyy") & "-" & TEXT(DATE(YEAR(A22)+3,1,1),"yy") -> 2018-19 | B26: ='Calculation 1.2'!Q14 | C26: ='Calculation 1.2'!R14 | D26: =IF('Calculation 1.2'!S14="","",IF('Calculation 1.2'!S14>=50,"**",IF('Calculation 1.2'!S14>=25,"*",""))) | F26: ='Calculation 1.2'!U14 | G26: ='Calculation 1.2'!V14 | H26: =IF('Calculation 1.2'!W14="","",IF('Calculation 1.2'!W14>=50,"**",IF('Calculation 1.2'!W14>=25,"*",""))) | I26: ='Calculation 1.2'!X14 | J26: ='Calculation 1.2'!Y14 | K26: =IF('Calculation 1.2'!Z14="","",IF('Calculation 1.2'!Z14>=50,"**",IF('Calculation 1.2'!Z14>=25,"*",""))) | L26: ='Calculation 1.2'!AA14 | M26: ='Calculation 1.2'!AB14 | N26: =IF('Calculation 1.2'!AC14="","",IF('Calculation 1.2'!AC14>=50,"**",IF('Calculation 1.2'!AC14>=25,"*",""))) | O26: ='Calculation 1.2'!AD14 | P26: ='Calculation 1.2'!AE14 | Q26: =IF('Calculation 1.2'!AF14="","",IF('Calculation 1.2'!AF14>=50,"**",IF('Calculation 1.2'!AF14>=25,"*",""))) | R26: ='Calculation 1.2'!AG14 | S26: ='Calculation 1.2'!AH14 | T26: =IF('Calculation 1.2'!AI14="","",IF('Calculation 1.2'!AI14>=50,"**",IF('Calculation 1.2'!AI14>=25,"*",""))) | V26: ='Calculation 1.2'!AK14 | W26: ='Calculation 1.2'!AL14 | X26: =IF('Calculation 1.2'!AM14="","",IF('Calculation 1.2'!AM14>=50,"**",IF('Calculation 1.2'!AM14>=25,"*",""))) | Z26: ='Calculation 1.2'!AO14 | AA26: ='Calculation 1.2'!AP14 | AB26: =IF('Calculation 1.2'!AQ14="","",IF('Calculation 1.2'!AQ14>=50,"**",IF('Calculation 1.2'!AQ14>=25,"*",""))) | AD26: ='Calculation 1.2'!AS14 | AE26: ='Calculation 1.2'!AT14 | AF26: =IF('Calculation 1.2'!AU14="","",IF('Calculation 1.2'!AU14>=50,"**",IF('Calculation 1.2'!AU14>=25,"*",""))) | AH26: ='Calculation 1.2'!AW14 | AI26: ='Calculation 1.2'!AX14 | AJ26: =IF('Calculation 1.2'!AY14="","",IF('Calculation 1.2'!AY14>=50,"**",IF('Calculation 1.2'!AY14>=25,"*",""))) | AK26: ='Calculation 1.2'!AZ14 | AL26: ='Calculation 1.2'!BA14 | AM26: =IF('Calculation 1.2'!BB14="","",IF('Calculation 1.2'!BB14>=50,"**",IF('Calculation 1.2'!BB14>=25,"*",""))) | AN26: ='Calculation 1.2'!BC14 | AO26: ='Calculation 1.2'!BD14 | AP26: =IF('Calculation 1.2'!BE14="","",IF('Calculation 1.2'!BE14>=50,"**",IF('Calculation 1.2'!BE14>=25,"*",""))) | AR26: ='Calculation 1.2'!BG14 | AS26: ='Calculation 1.2'!BH14 | AT26: =IF('Calculation 1.2'!BI14="","",IF('Calculation 1.2'!BI14>=50,"**",IF('Calculation 1.2'!BI14>=25,"*",""))) | AV26: ='Calculation 1.2'!BK14 | AW26: ='Calculation 1.2'!BL14 | AX26: =IF('Calculation 1.2'!BM14="","",IF('Calculation 1.2'!BM14>=50,"**",IF('Calculation 1.2'!BM14>=25,"*",""))) | AZ26: ='Calculation 1.2'!BO14 | BA26: ='Calculation 1.2'!BP14 | BB26: =IF('Calculation 1.2'!BQ14="","",IF('Calculation 1.2'!BQ14>=50,"**",IF('Calculation 1.2'!BQ14>=25,"*","")))
A27: =TEXT(DATE(YEAR(A22)+2,9,1), "mmm-yy") -> Sep-18 | B27: ='Calculation 1.2'!Q15 -> 8109.109 | C27: ='Calculation 1.2'!R15 -> 43.461 | D27: =IF('Calculation 1.2'!S15="","",IF('Calculation 1.2'!S15>=50,"**",IF('Calculation 1.2'!S15>=25,"*",""))) | F27: ='Calculation 1.2'!U15 -> 579.974 | G27: ='Calculation 1.2'!V15 -> 3.108 | H27: =IF('Calculation 1.2'!W15="","",IF('Calculation 1.2'!W15>=50,"**",IF('Calculation 1.2'!W15>=25,"*",""))) | I27: ='Calculation 1.2'!X15 -> 441.775 | J27: ='Calculation 1.2'!Y15 -> 2.368 | K27: =IF('Calculation 1.2'!Z15="","",IF('Calculation 1.2'!Z15>=50,"**",IF('Calculation 1.2'!Z15>=25,"*",""))) | L27: ='Calculation 1.2'!AA15 -> 1021.749 | M27: ='Calculation 1.2'!AB15 -> 5.476 | N27: =IF('Calculation 1.2'!AC15="","",IF('Calculation 1.2'!AC15>=50,"**",IF('Calculation 1.2'!AC15>=25,"*",""))) | O27: ='Calculation 1.2'!AD15 -> 43.423 | P27: ='Calculation 1.2'!AE15 -> 0.233 | Q27: =IF('Calculation 1.2'!AF15="","",IF('Calculation 1.2'!AF15>=50,"**",IF('Calculation 1.2'!AF15>=25,"*",""))) -> ** | R27: ='Calculation 1.2'!AG15 -> 1065.172 | S27: ='Calculation 1.2'!AH15 -> 5.709 | T27: =IF('Calculation 1.2'!AI15="","",IF('Calculation 1.2'!AI15>=50,"**",IF('Calculation 1.2'!AI15>=25,"*",""))) | V27: ='Calculation 1.2'!AK15 -> 2800.851 | W27: ='Calculation 1.2'!AL15 -> 15.011 | X27: =IF('Calculation 1.2'!AM15="","",IF('Calculation 1.2'!AM15>=50,"**",IF('Calculation 1.2'!AM15>=25,"*",""))) | Z27: ='Calculation 1.2'!AO15 -> 3866.022 | AA27: ='Calculation 1.2'!AP15 -> 20.72 | AB27: =IF('Calculation 1.2'!AQ15="","",IF('Calculation 1.2'!AQ15>=50,"**",IF('Calculation 1.2'!AQ15>=25,"*",""))) | AD27: ='Calculation 1.2'!AS15 -> 11975.131 | AE27: ='Calculation 1.2'!AT15 -> 64.181 | AF27: =IF('Calculation 1.2'!AU15="","",IF('Calculation 1.2'!AU15>=50,"**",IF('Calculation 1.2'!AU15>=25,"*",""))) | AH27: ='Calculation 1.2'!AW15 -> 13.082 | AI27: ='Calculation 1.2'!AX15 -> 0.07 | AJ27: =IF('Calculation 1.2'!AY15="","",IF('Calculation 1.2'!AY15>=50,"**",IF('Calculation 1.2'!AY15>=25,"*",""))) -> ** | AK27: ='Calculation 1.2'!AZ15 -> 571.945 | AL27: ='Calculation 1.2'!BA15 -> 3.065 | AM27: =IF('Calculation 1.2'!BB15="","",IF('Calculation 1.2'!BB15>=50,"**",IF('Calculation 1.2'!BB15>=25,"*",""))) | AN27: ='Calculation 1.2'!BC15 -> 585.027 | AO27: ='Calculation 1.2'!BD15 -> 3.135 | AP27: =IF('Calculation 1.2'!BE15="","",IF('Calculation 1.2'!BE15>=50,"**",IF('Calculation 1.2'!BE15>=25,"*",""))) | AR27: ='Calculation 1.2'!BG15 -> 12560.158 | AS27: ='Calculation 1.2'!BH15 -> 67.316 | AT27: =IF('Calculation 1.2'!BI15="","",IF('Calculation 1.2'!BI15>=50,"**",IF('Calculation 1.2'!BI15>=25,"*",""))) | AV27: ='Calculation 1.2'!BK15 -> 6098.322 | AW27: ='Calculation 1.2'!BL15 -> 32.684 | AX27: =IF('Calculation 1.2'!BM15="","",IF('Calculation 1.2'!BM15>=50,"**",IF('Calculation 1.2'!BM15>=25,"*",""))) | AZ27: ='Calculation 1.2'!BO15 -> 18658.479 | BA27: ='Calculation 1.2'!BP15 -> 100 | BB27: =IF('Calculation 1.2'!BQ15="","",IF('Calculation 1.2'!BQ15>=50,"**",IF('Calculation 1.2'!BQ15>=25,"*","")))
